Uber Exif Photo
By-line : APOSTOLOPOULOS_PHOTOGRAPHY
Copyright Notice : APOSTOLOPOULOS_PHOTOGRAPHY
Photometric Interpretation : RGB
Make : NIKON CORPORATION
Camera Model Name : NIKON D5500
Orientation : Horizontal (normal)
Samples Per Pixel : 3
Software : Adobe Photoshop CC (Windows)
Modify Date : 2016:12:03 20:07:42
Artist : APOSTOLOPOULOS_PHOTOGRAPHY
Copyright : APOSTOLOPOULOS_PHOTOGRAPHY
Exposure Time : 1/2000
F Number : 3.5
Exposure Program : Manual
ISO : 720
Sensitivity Type : Recommended Exposure Index
Date/Time Original : 2016:10:18 10:24:34
Create Date : 2016:10:18 10:24:34
Shutter Speed Value : 1/2000
Aperture Value : 3.5
Exposure Compensation : -2
Max Aperture Value : 3.5
Metering Mode : Multi-segment
Light Source : Unknown
Flash : Off, Did not fire
Focal Length : 18.0 mm
Color Space : Uncalibrated
Exif Image Width : 3000
Exif Image Height : 2000
Sensing Method : One-chip color area
Scene Type : Directly photographed
CFA Pattern : [Red,Green][Green,Blue]
Custom Rendered : Normal
Exposure Mode : Manual
White Balance : Auto
Digital Zoom Ratio : 1
Focal Length In 35mm Format : 27 mm
Scene Capture Type : Standard
Gain Control : Low gain up
Contrast : Normal
Saturation : Normal
Sharpness : Normal
Subject Distance Range : Unknown
Serial Number : 4376706
Lens Info : 18-140mm f/3.5-5.6
Lens Model : 18.0-140.0 mm f/3.5-5.6
Profile Description : Adobe RGB (1998)
Creator Tool : Adobe Photoshop CC (Windows)
Rating : 0
Format : image/jpeg
Lens : 18.0-140.0 mm f/3.5-5.6
Image Number : 5632
Approximate Focus Distance : 4294967295
Is Merged HDR : True
Distortion Correction Already Applied : True
Lateral Chromatic Aberration Correction Already Applied:
True
Vignette Correction Already Applied : True
Date Created : 2016:10:18 10:24:34.042
Color Mode : RGB
ICC Profile Name : Adobe RGB (1998)
Raw File Name : APO_3779-HDR.dng
Version : 9.7
Process Version : 6.7
Auto White Version : 134348800
Color Temperature : 5500
Tint : -1
Luminance Smoothing : 0
Color Noise Reduction : 25
Vignette Amount : 0
Shadow Tint : 0
Red Hue : 0
Red Saturation : 0
Green Hue : 0
Green Saturation : 0
Blue Hue : 0
Blue Saturation : 0
Vibrance : +12
Hue Adjustment Red : 0
Hue Adjustment Orange : 0
Hue Adjustment Yellow : 0
Hue Adjustment Green : 0
Hue Adjustment Aqua : 0
Hue Adjustment Blue : 0
Hue Adjustment Purple : 0
Hue Adjustment Magenta : 0
Saturation Adjustment Red : 0
Saturation Adjustment Orange : +40
Saturation Adjustment Yellow : 0
Saturation Adjustment Green : +15
Saturation Adjustment Aqua : 0
Saturation Adjustment Blue : -30
Saturation Adjustment Purple : 0
Saturation Adjustment Magenta : 0
Luminance Adjustment Red : 0
Luminance Adjustment Orange : -15
Luminance Adjustment Yellow : 0
Luminance Adjustment Green : +10
Luminance Adjustment Aqua : 0
Luminance Adjustment Blue : -100
Luminance Adjustment Purple : 0
Luminance Adjustment Magenta : 0
Split Toning Shadow Hue : 0
Split Toning Shadow Saturation : 0
Split Toning Highlight Hue : 0
Split Toning Highlight Saturation : 0
Split Toning Balance : 0
Parametric Shadows : 0
Parametric Darks : 0
Parametric Lights : -2
Parametric Highlights : -20
Parametric Shadow Split : 25
Parametric Midtone Split : 50
Parametric Highlight Split : 75
Sharpen Radius : +1.0
Sharpen Detail : 25
Sharpen Edge Masking : 0
Post Crop Vignette Amount : -34
Post Crop Vignette Midpoint : 34
Post Crop Vignette Feather : 57
Post Crop Vignette Roundness : +1
Post Crop Vignette Style : Highlight Priority
Post Crop Vignette Highlight Contrast : 0
Grain Amount : 0
Color Noise Reduction Detail : 50
Color Noise Reduction Smoothness : 50
Lens Profile Enable : 1
Lens Manual Distortion Amount : 0
Perspective Vertical : 0
Perspective Horizontal : 0
Perspective Rotate : 0.0
Perspective Scale : 100
Perspective Aspect : 0
Perspective Upright : Off
Perspective X : 0.00
Perspective Y : 0.00
Auto Lateral CA : 1
Exposure 2012 : +0.15
Contrast 2012 : +77
Highlights 2012 : -100
Shadows 2012 : +100
Whites 2012 : 0
Blacks 2012 : 0
Clarity 2012 : +10
Defringe Purple Amount : 0
Defringe Purple Hue Lo : 30
Defringe Purple Hue Hi : 70
Defringe Green Amount : 0
Defringe Green Hue Lo : 40
Defringe Green Hue Hi : 60
Dehaze : -4
Tone Map Strength : 0
Convert To Grayscale : False
Tone Curve Name : Linear
Tone Curve Name 2012 : Linear
Camera Profile : Adobe Standard
Lens Profile Setup : LensDefaults
Lens Profile Name : Adobe (Nikon AF-S DX NIKKOR 18-140mm f/3.5-5.6G ED VR)piece
Lens Profile Filename : NIKON D300 (Nikon AF-S DX NIKKOR 18-140mm f3.5-5.6G ED VR) - RAW.lcp
Lens Profile Distortion Scale : 100
Lens Profile Chromatic Aberration Scale : 100
Lens Profile Vignetting Scale : 100
Has Settings : True
Crop Top : 0.00125
Crop Left : 0.006744
Crop Bottom : 0.993256
Crop Right : 0.99875
Crop Angle : 0
Crop Constrain To Warp : 1
Has Crop : True
Already Applied : True
Creator : APOSTOLOPOULOS_PHOTOGRAPHY
Rights : APOSTOLOPOULOS_PHOTOGRAPHY
Tone Curve : 0, 0, 255, 255
Tone Curve Red : 0, 0, 255, 255
Tone Curve Green : 0, 0, 255, 255
Tone Curve Blue : 0, 0, 255, 255
Tone Curve PV2012 : 0, 0, 255, 255
Tone Curve PV2012 Red : 0, 0, 255, 255
Tone Curve PV2012 Green : 0, 0, 255, 255
Tone Curve PV2012 Blue : 0, 0, 255, 255
Circ Grad Based Corr What : Correction
Circ Grad Based Corr Amount : 1.000000
Circ Grad Based Corr Active : true
Circ Grad Based Corr Exposure : 0.000000
Circ Grad Based Corr Saturation : 0.000000
Circ Grad Based Corr Contrast : 0.000000
Circ Grad Based Corr Clarity : 0.000000
Circ Grad Based Corr Sharpness : 0.280000
Circ Grad Based Corr Brightness : 0.000000
Circ Grad Based Corr Toning Hue : 0.000000
Circ Grad Based Corr Toning Saturation : 0.000000
Circ Grad Based Corr Exposure 2012 : 0.037500
Circ Grad Based Corr Contrast 2012 : 0.000000
Circ Grad Based Corr Highlights 2012 : 0.150000
Circ Grad Based Corr Shadows 2012 : 0.060000
Circ Grad Based Corr Whites 2012 : 0.020000
Circ Grad Based Corr Blacks 2012 : -0.190000
Circ Grad Based Corr Clarity 2012 : 0.000000
Circ Grad Based Corr Dehaze : 0.000000
Circ Grad Based Corr Luminance Noise : 0.000000
Circ Grad Based Corr Moire : 0.000000
Circ Grad Based Corr Defringe : 0.000000
Circ Grad Based Corr Temperature : 0.000000
Circ Grad Based Corr Tint : 0.000000
Circ Grad Based Corr Mask What : Mask/CircularGradient
Circ Grad Based Corr Mask Value : 1.000000
Circ Grad Based Corr Mask Top : 0.171941
Circ Grad Based Corr Mask Left : 0.078576
Circ Grad Based Corr Mask Bottom : 0.876181
Circ Grad Based Corr Mask Right : 0.950041
Circ Grad Based Corr Mask Angle : 0.000000
Circ Grad Based Corr Mask Midpoint : +50
Circ Grad Based Corr Mask Roundness : 0
Circ Grad Based Corr Mask Feather : +100
Circ Grad Based Corr Mask Flipped : true
Circ Grad Based Corr Mask Version : +2
Image Width : 300
Image Height : 200
Bits Per Sample : 8
Color Components : 3
Aperture : 3.5
Image Size : 300x200
Megapixels : 0.060
Scale Factor To 35 mm Equivalent : 1.5
Shutter Speed : 1/2000
Create Date : 2016:10:18 10:24:34.42
Date/Time Original : 2016:10:18 10:24:34.42
Circle Of Confusion : 0.020 mm
Depth Of Field : inf (4.62 m - inf)
Field Of View : 67.4 deg
Focal Length : 18.0 mm (35 mm equivalent: 27.0 mm)
Hyperfocal Distance : 4.62 m
Light Value : 11.7
Lens ID : AF-S DX Nikkor 18-140mm f/3.5-5.6G ED VR