Uber Exif Photo
By-line : APOSTOLOPOULOS_PHOTOGRAPHY
Copyright Notice : APOSTOLOPOULOS_PHOTOGRAPHY
Photometric Interpretation : RGB
Make : NIKON CORPORATION
Camera Model Name : NIKON D5500
Orientation : Horizontal (normal)
Samples Per Pixel : 3
Software : Adobe Photoshop CC (Windows)
Modify Date : 2016:12:03 20:07:18
Artist : APOSTOLOPOULOS_PHOTOGRAPHY
Copyright : APOSTOLOPOULOS_PHOTOGRAPHY
Exposure Time : 1/125
F Number : 5.0
Exposure Program : Manual
ISO : 800
Sensitivity Type : Recommended Exposure Index
Date/Time Original : 2016:11:02 15:12:36
Create Date : 2016:11:02 15:12:36
Shutter Speed Value : 1/125
Aperture Value : 5.0
Exposure Compensation : 0
Max Aperture Value : 4.0
Metering Mode : Multi-segment
Light Source : Unknown
Flash : Off, Did not fire
Focal Length : 27.0 mm
Color Space : Uncalibrated
Exif Image Width : 1956
Exif Image Height : 3000
Sensing Method : One-chip color area
Scene Type : Directly photographed
CFA Pattern : [Red,Green][Green,Blue]
Custom Rendered : Normal
Exposure Mode : Manual
White Balance : Auto
Digital Zoom Ratio : 1
Focal Length In 35mm Format : 40 mm
Scene Capture Type : Standard
Gain Control : Low gain up
Contrast : Normal
Saturation : Normal
Sharpness : Normal
Subject Distance Range : Unknown
Serial Number : 4376706
Lens Info : 18-140mm f/3.5-5.6
Lens Model : 18.0-140.0 mm f/3.5-5.6
Profile Description : Adobe RGB (1998)
Creator Tool : Adobe Photoshop CC (Windows)
Rating : 0
Format : image/jpeg
Lens : 18.0-140.0 mm f/3.5-5.6
Image Number : 6359
Approximate Focus Distance : 3.76
Distortion Correction Already Applied : True
Lateral Chromatic Aberration Correction Already Applied:
True
Vignette Correction Already Applied : True
Date Created : 2016:11:02 15:12:36.027
Color Mode : RGB
ICC Profile Name : Adobe RGB (1998)
Raw File Name : APO_4472.NEF
Version : 9.2
Process Version : 6.7
Auto White Version : 134348800
Color Temperature : 6600
Tint : -2
Luminance Smoothing : 16
Color Noise Reduction : 25
Vignette Amount : 0
Shadow Tint : 0
Red Hue : 0
Red Saturation : 0
Green Hue : 0
Green Saturation : 0
Blue Hue : 0
Blue Saturation : 0
Vibrance : +5
Hue Adjustment Red : 0
Hue Adjustment Orange : 0
Hue Adjustment Yellow : 0
Hue Adjustment Green : 0
Hue Adjustment Aqua : 0
Hue Adjustment Blue : 0
Hue Adjustment Purple : 0
Hue Adjustment Magenta : 0
Saturation Adjustment Red : +10
Saturation Adjustment Orange : +3
Saturation Adjustment Yellow : -60
Saturation Adjustment Green : 0
Saturation Adjustment Aqua : 0
Saturation Adjustment Blue : +25
Saturation Adjustment Purple : -40
Saturation Adjustment Magenta : -61
Luminance Adjustment Red : -35
Luminance Adjustment Orange : +10
Luminance Adjustment Yellow : -100
Luminance Adjustment Green : 0
Luminance Adjustment Aqua : 0
Luminance Adjustment Blue : +30
Luminance Adjustment Purple : 0
Luminance Adjustment Magenta : 0
Split Toning Shadow Hue : 228
Split Toning Shadow Saturation : 19
Split Toning Highlight Hue : 45
Split Toning Highlight Saturation : 19
Split Toning Balance : +33
Parametric Shadows : 0
Parametric Darks : 0
Parametric Lights : 0
Parametric Highlights : 0
Parametric Shadow Split : 25
Parametric Midtone Split : 50
Parametric Highlight Split : 75
Sharpen Radius : +1.0
Sharpen Detail : 25
Sharpen Edge Masking : 0
Post Crop Vignette Amount : -35
Post Crop Vignette Midpoint : 40
Post Crop Vignette Feather : 50
Post Crop Vignette Roundness : 0
Post Crop Vignette Style : Highlight Priority
Post Crop Vignette Highlight Contrast : 0
Grain Amount : 0
Luminance Noise Reduction Detail : 50
Color Noise Reduction Detail : 50
Luminance Noise Reduction Contrast : 0
Color Noise Reduction Smoothness : 50
Lens Profile Enable : 1
Lens Manual Distortion Amount : 0
Perspective Vertical : 0
Perspective Horizontal : 0
Perspective Rotate : 0.0
Perspective Scale : 100
Perspective Aspect : 0
Perspective Upright : Off
Auto Lateral CA : 1
Exposure 2012 : 0.00
Contrast 2012 : +7
Highlights 2012 : -100
Shadows 2012 : +5
Whites 2012 : +30
Blacks 2012 : -5
Clarity 2012 : +4
Defringe Purple Amount : 0
Defringe Purple Hue Lo : 30
Defringe Purple Hue Hi : 70
Defringe Green Amount : 0
Defringe Green Hue Lo : 40
Defringe Green Hue Hi : 60
Dehaze : +20
Tone Map Strength : 0
Convert To Grayscale : False
Tone Curve Name : Medium Contrast
Tone Curve Name 2012 : Linear
Camera Profile : Adobe Standard
Lens Profile Setup : LensDefaults
Lens Profile Name : Adobe (Nikon AF-S DX NIKKOR 18-140mm f/3.5-5.6G ED VR)piece
Lens Profile Filename : NIKON D300 (Nikon AF-S DX NIKKOR 18-140mm f3.5-5.6G ED VR) - RAW.lcp
Lens Profile Distortion Scale : 100
Lens Profile Chromatic Aberration Scale : 100
Lens Profile Vignetting Scale : 100
Has Settings : True
Crop Top : 0.068586
Crop Left : 0.030266
Crop Bottom : 0.959484
Crop Right : 1
Crop Angle : -1.624976
Crop Constrain To Warp : 1
Has Crop : True
Already Applied : True
Creator : APOSTOLOPOULOS_PHOTOGRAPHY
Rights : APOSTOLOPOULOS_PHOTOGRAPHY
Tone Curve : 0, 0, 32, 22, 64, 56, 128, 128, 192, 196, 255, 255
Tone Curve Red : 0, 0, 255, 255
Tone Curve Green : 0, 0, 255, 255
Tone Curve Blue : 0, 0, 255, 255
Tone Curve PV2012 : 0, 0, 255, 255
Tone Curve PV2012 Red : 0, 0, 255, 255
Tone Curve PV2012 Green : 0, 0, 255, 255
Tone Curve PV2012 Blue : 0, 0, 255, 255
Image Width : 300
Image Height : 460
Bits Per Sample : 8
Color Components : 3
Aperture : 5.0
Image Size : 300x460
Megapixels : 0.138
Scale Factor To 35 mm Equivalent : 1.5
Shutter Speed : 1/125
Create Date : 2016:11:02 15:12:36.27
Date/Time Original : 2016:11:02 15:12:36.27
Modify Date : 2016:12:03 20:07:18.27
Circle Of Confusion : 0.020 mm
Depth Of Field : 5.35 m (2.47 - 7.82 m)
Field Of View : 48.5 deg
Focal Length : 27.0 mm (35 mm equivalent: 40.0 mm)
Hyperfocal Distance : 7.19 m
Light Value : 8.6
Lens ID : AF-S DX Nikkor 18-140mm f/3.5-5.6G ED VR