Uber Exif Photo
By-line : APOSTOLOPOULOS_PHOTOGRAPHY
Copyright Notice : APOSTOLOPOULOS_PHOTOGRAPHY
Photometric Interpretation : BlackIsZero
Make : NIKON CORPORATION
Camera Model Name : NIKON D5500
Orientation : Horizontal (normal)
Samples Per Pixel : 4
Software : Adobe Photoshop CC (Windows)
Modify Date : 2016:12:03 20:01:51
Artist : APOSTOLOPOULOS_PHOTOGRAPHY
Copyright : APOSTOLOPOULOS_PHOTOGRAPHY
Exposure Time : 1/30
F Number : 5.6
Exposure Program : Program AE
ISO : 125
Sensitivity Type : Recommended Exposure Index
Date/Time Original : 2016:10:03 16:10:07
Create Date : 2016:10:03 16:10:07
Shutter Speed Value : 1/30
Aperture Value : 5.6
Exposure Compensation : 0
Max Aperture Value : 5.7
Metering Mode : Multi-segment
Light Source : Unknown
Flash : Off, Did not fire
Focal Length : 100.0 mm
Color Space : Uncalibrated
Exif Image Width : 2667
Exif Image Height : 4000
Sensing Method : One-chip color area
Scene Type : Directly photographed
CFA Pattern : [Red,Green][Green,Blue]
Custom Rendered : Normal
Exposure Mode : Auto
White Balance : Auto
Digital Zoom Ratio : 1
Focal Length In 35mm Format : 150 mm
Scene Capture Type : Standard
Gain Control : None
Contrast : Normal
Saturation : Normal
Sharpness : Normal
Subject Distance Range : Unknown
Serial Number : 4376706
Lens Info : 18-140mm f/3.5-5.6
Lens Model : 18.0-140.0 mm f/3.5-5.6
Creator Tool : Adobe Photoshop CC (Windows)
Rating : 0
Format : image/jpeg
Lens : 18.0-140.0 mm f/3.5-5.6
Image Number : 5287
Approximate Focus Distance : 5.62
Distortion Correction Already Applied : True
Lateral Chromatic Aberration Correction Already Applied:
True
Vignette Correction Already Applied : True
Date Created : 2016:10:03 16:10:07.069
Color Mode : Grayscale
ICC Profile Name : Gray Gamma 2.2
Raw File Name : APO_3527.NEF
Version : 9.7
Process Version : 6.7
Auto White Version : 134348800
Color Temperature : 5950
Tint : 0
Luminance Smoothing : 0
Color Noise Reduction : 25
Vignette Amount : 0
Shadow Tint : 0
Red Hue : 0
Red Saturation : 0
Green Hue : 0
Green Saturation : 0
Blue Hue : 0
Blue Saturation : 0
Gray Mixer Red : -10
Gray Mixer Orange : -19
Gray Mixer Yellow : -23
Gray Mixer Green : -27
Gray Mixer Aqua : -18
Gray Mixer Blue : +9
Gray Mixer Purple : +15
Gray Mixer Magenta : +4
Split Toning Shadow Hue : 0
Split Toning Shadow Saturation : 0
Split Toning Highlight Hue : 0
Split Toning Highlight Saturation : 0
Split Toning Balance : 0
Parametric Shadows : 0
Parametric Darks : 0
Parametric Lights : 0
Parametric Highlights : 0
Parametric Shadow Split : 25
Parametric Midtone Split : 50
Parametric Highlight Split : 75
Sharpen Radius : +1.0
Sharpen Detail : 25
Sharpen Edge Masking : 0
Post Crop Vignette Amount : +2
Post Crop Vignette Midpoint : 50
Post Crop Vignette Feather : 50
Post Crop Vignette Roundness : 0
Post Crop Vignette Style : Highlight Priority
Grain Amount : 0
Color Noise Reduction Detail : 50
Color Noise Reduction Smoothness : 50
Lens Profile Enable : 1
Lens Manual Distortion Amount : 0
Perspective Vertical : 0
Perspective Horizontal : 0
Perspective Rotate : 0.0
Perspective Scale : 100
Perspective Aspect : 0
Perspective Upright : Off
Perspective X : 0.00
Perspective Y : 0.00
Auto Lateral CA : 1
Exposure 2012 : 0.00
Contrast 2012 : +20
Highlights 2012 : -100
Shadows 2012 : +16
Whites 2012 : +40
Blacks 2012 : -10
Clarity 2012 : +30
Dehaze : +15
Tone Map Strength : 0
Convert To Grayscale : True
Tone Curve Name : Medium Contrast
Tone Curve Name 2012 : Linear
Camera Profile : Adobe Standard
Lens Profile Setup : LensDefaults
Lens Profile Name : Adobe (Nikon AF-S DX NIKKOR 18-140mm f/3.5-5.6G ED VR)piece
Lens Profile Filename : NIKON D300 (Nikon AF-S DX NIKKOR 18-140mm f3.5-5.6G ED VR) - RAW.lcp
Lens Profile Distortion Scale : 100
Lens Profile Chromatic Aberration Scale : 100
Lens Profile Vignetting Scale : 100
Has Settings : True
Has Crop : False
Already Applied : True
Creator : APOSTOLOPOULOS_PHOTOGRAPHY
Rights : APOSTOLOPOULOS_PHOTOGRAPHY
Tone Curve : 0, 0, 32, 22, 64, 56, 128, 128, 192, 196, 255, 255
Tone Curve Red : 0, 0, 255, 255
Tone Curve Green : 0, 0, 255, 255
Tone Curve Blue : 0, 0, 255, 255
Tone Curve PV2012 : 0, 0, 255, 255
Tone Curve PV2012 Red : 0, 0, 255, 255
Tone Curve PV2012 Green : 0, 0, 255, 255
Tone Curve PV2012 Blue : 0, 0, 255, 255
Paint Correction What : Correction
Paint Correction Amount : 1.000000
Paint Correction Active : true
Paint Correction Exposure : 0.000000
Paint Correction Saturation : 0.000000
Paint Correction Contrast : 0.000000
Paint Correction Clarity : 0.000000
Paint Correction Sharpness : 0.700000
Paint Correction Brightness : 0.000000
Paint Correction Toning Hue : 0.000000
Paint Correction Toning Saturation : 0.000000
Paint Correction Exposure 2012 : 0.000000
Paint Correction Contrast 2012 : 0.000000
Paint Correction Highlights 2012 : 0.000000
Paint Correction Shadows 2012 : 0.000000
Paint Correction Whites 2012 : 0.000000
Paint Correction Blacks 2012 : 0.000000
Paint Correction Clarity 2012 : 0.000000
Paint Correction Dehaze : 0.000000
Paint Correction Luminance Noise : 0.000000
Paint Correction Moire : 0.000000
Paint Correction Defringe : 0.000000
Paint Correction Temperature : 0.000000
Paint Correction Tint : 0.000000
Paint Correction Mask What : Mask/Paint
Paint Correction Mask Value : 0.820000
Paint Correction Mask Radius : 0.089952
Paint Correction Mask Flow : 0.692913
Paint Correction Mask Center Weight : 0.001272
Image Width : 300
Image Height : 450
Bits Per Sample : 8
Color Components : 1
Aperture : 5.6
Image Size : 300x450
Megapixels : 0.135
Scale Factor To 35 mm Equivalent : 1.5
Shutter Speed : 1/30
Create Date : 2016:10:03 16:10:07.69
Date/Time Original : 2016:10:03 16:10:07.69
Modify Date : 2016:12:03 20:01:51.69
Circle Of Confusion : 0.020 mm
Depth Of Field : 0.70 m (5.29 - 5.99 m)
Field Of View : 13.7 deg
Focal Length : 100.0 mm (35 mm equivalent: 150.0 mm)
Hyperfocal Distance : 89.15 m
Light Value : 9.6
Lens ID : AF-S DX Nikkor 18-140mm f/3.5-5.6G ED VR