Uber Exif Photo
Make : Canon
Camera Model Name : Canon EOS 7D Mark II
Software : Adobe Photoshop Lightroom 6.7 (Macintosh)
Modify Date : 2016:12:13 22:28:45
Exposure Time : 1/500
F Number : 7.1
Exposure Program : Manual
ISO : 800
Sensitivity Type : Recommended Exposure Index
Recommended Exposure Index : 800
Date/Time Original : 2016:03:26 13:17:30
Create Date : 2016:03:26 13:17:30
Shutter Speed Value : 1/500
Aperture Value : 7.1
Exposure Compensation : 0
Max Aperture Value : 2.8
Metering Mode : Multi-segment
Flash : Off, Did not fire
Focal Length : 24.0 mm
Color Space : sRGB
Custom Rendered : Normal
Exposure Mode : Manual
White Balance : Auto
Scene Capture Type : Standard
Serial Number : 133052002056
Lens Info : 24mm f/?
Lens Model : EF-S24mm f/2.8 STM
Lens Serial Number : 00001112c1
Profile Description : sRGB IEC61966-2.1
Creator Tool : Adobe Photoshop Lightroom 6.7 (Macintosh)
Lens : EF-S24mm f/2.8 STM
Image Number : 0
Approximate Focus Distance : 4294967295
Flash Compensation : 0
Firmware : 1.0.5
Date Created : 2016:03:26 13:17:30.57
Format : image/jpeg
Version : 9.7
Process Version : 6.7
Auto White Version : 134348800
Color Temperature : 5000
Tint : +6
Sharpness : 25
Luminance Smoothing : 0
Color Noise Reduction : 25
Vignette Amount : 0
Shadow Tint : 0
Red Hue : 0
Red Saturation : 0
Green Hue : 0
Green Saturation : 0
Blue Hue : 0
Blue Saturation : 0
Gray Mixer Red : -6
Gray Mixer Orange : +3
Gray Mixer Yellow : -13
Gray Mixer Green : -20
Gray Mixer Aqua : -13
Gray Mixer Blue : +18
Gray Mixer Purple : +13
Gray Mixer Magenta : +7
Split Toning Shadow Hue : 0
Split Toning Shadow Saturation : 0
Split Toning Highlight Hue : 0
Split Toning Highlight Saturation : 0
Split Toning Balance : 0
Parametric Shadows : +26
Parametric Darks : -52
Parametric Lights : +45
Parametric Highlights : -42
Parametric Shadow Split : 18
Parametric Midtone Split : 46
Parametric Highlight Split : 88
Sharpen Radius : +1.0
Sharpen Detail : 25
Sharpen Edge Masking : 0
Post Crop Vignette Amount : 0
Grain Amount : 0
Color Noise Reduction Detail : 50
Color Noise Reduction Smoothness : 50
Lens Profile Enable : 1
Lens Manual Distortion Amount : 0
Perspective Vertical : 0
Perspective Horizontal : 0
Perspective Rotate : 0.0
Perspective Scale : 100
Perspective Aspect : 0
Perspective Upright : Off
Perspective X : 0.00
Perspective Y : 0.00
Auto Lateral CA : 1
Exposure 2012 : -0.05
Contrast 2012 : +7
Highlights 2012 : -21
Shadows 2012 : +3
Whites 2012 : -32
Blacks 2012 : -15
Clarity 2012 : +2
Dehaze : 0
Tone Map Strength : 0
Convert To Grayscale : True
Tone Curve Name : Linear
Tone Curve Name 2012 : Custom
Camera Profile : // Replichrome B+W
Lens Profile Setup : LensDefaults
Lens Profile Name : Adobe (Canon EF-S 24mm f/2.8 STM)
Lens Profile Filename : Canon EOS 50D (Canon EF-S 24mm f2.8 STM) - RAW.lcp
Lens Profile Distortion Scale : 100
Lens Profile Chromatic Aberration Scale : 100
Lens Profile Vignetting Scale : 100
Has Settings : True
Has Crop : False
Already Applied : True
Tone Curve : 0, 0, 255, 255
Tone Curve Red : 0, 0, 255, 255
Tone Curve Green : 0, 0, 255, 255
Tone Curve Blue : 0, 0, 255, 255
Tone Curve PV2012 : 0, 0, 255, 255
Tone Curve PV2012 Red : 0, 0, 30, 27, 70, 82, 122, 130, 181, 182, 230, 237, 255, 255
Tone Curve PV2012 Green : 0, 0, 30, 27, 70, 82, 122, 130, 181, 182, 230, 237, 255, 255
Tone Curve PV2012 Blue : 0, 0, 30, 27, 70, 82, 122, 130, 181, 182, 230, 237, 255, 255
Image Width : 300
Image Height : 200
Bits Per Sample : 8
Color Components : 3
Aperture : 7.1
Image Size : 300x200
Megapixels : 0.060
Scale Factor To 35 mm Equivalent : 29.3
Shutter Speed : 1/500
Create Date : 2016:03:26 13:17:30.57
Date/Time Original : 2016:03:26 13:17:30.57
Circle Of Confusion : 0.001 mm
Depth Of Field : inf (79.04 m - inf)
Field Of View : 2.9 deg
Focal Length : 24.0 mm (35 mm equivalent: 702.6 mm)
Hyperfocal Distance : 79.04 m
Light Value : 11.6
Lens ID : Canon EF-S 24mm f/2.8 STM