Uber Exif Photo
Make : Canon
Camera Model Name : Canon EOS 7D Mark II
Software : Adobe Photoshop Lightroom 6.7 (Macintosh)
Modify Date : 2016:12:13 22:41:46
Exposure Time : 1/160
F Number : 11.0
Exposure Program : Manual
ISO : 160
Sensitivity Type : Recommended Exposure Index
Recommended Exposure Index : 160
Date/Time Original : 2016:08:14 17:30:00
Create Date : 2016:08:14 17:30:00
Shutter Speed Value : 1/160
Aperture Value : 11.0
Exposure Compensation : 0
Max Aperture Value : 1.8
Metering Mode : Multi-segment
Flash : Off, Did not fire
Focal Length : 85.0 mm
Color Space : sRGB
Custom Rendered : Normal
Exposure Mode : Manual
White Balance : Auto
Scene Capture Type : Standard
Serial Number : 133052002056
Lens Info : 85mm f/?
Lens Model : EF85mm f/1.8 USM
Lens Serial Number : 0000050ef6
Profile Description : sRGB IEC61966-2.1
Creator Tool : Adobe Photoshop Lightroom 6.7 (Macintosh)
Lens : EF85mm f/1.8 USM
Image Number : 0
Approximate Focus Distance : 4294967295
Flash Compensation : 0
Firmware : 1.0.5
Date Created : 2016:08:14 17:30:00.44
Format : image/jpeg
Version : 9.7
Process Version : 6.7
Auto White Version : 134348800
Color Temperature : 5840
Tint : +10
Saturation : -4
Sharpness : 25
Luminance Smoothing : 0
Color Noise Reduction : 25
Vignette Amount : 0
Shadow Tint : 0
Red Hue : 0
Red Saturation : 0
Green Hue : 0
Green Saturation : 0
Blue Hue : 0
Blue Saturation : 0
Vibrance : +12
Hue Adjustment Red : 0
Hue Adjustment Orange : -8
Hue Adjustment Yellow : -7
Hue Adjustment Green : +3
Hue Adjustment Aqua : +28
Hue Adjustment Blue : -5
Hue Adjustment Purple : -8
Hue Adjustment Magenta : 0
Saturation Adjustment Red : -15
Saturation Adjustment Orange : +3
Saturation Adjustment Yellow : -14
Saturation Adjustment Green : -17
Saturation Adjustment Aqua : -3
Saturation Adjustment Blue : -15
Saturation Adjustment Purple : 0
Saturation Adjustment Magenta : -1
Luminance Adjustment Red : +16
Luminance Adjustment Orange : +15
Luminance Adjustment Yellow : +25
Luminance Adjustment Green : +11
Luminance Adjustment Aqua : +1
Luminance Adjustment Blue : -10
Luminance Adjustment Purple : 0
Luminance Adjustment Magenta : 0
Split Toning Shadow Hue : 0
Split Toning Shadow Saturation : 0
Split Toning Highlight Hue : 0
Split Toning Highlight Saturation : 0
Split Toning Balance : 0
Parametric Shadows : 0
Parametric Darks : -9
Parametric Lights : +20
Parametric Highlights : -13
Parametric Shadow Split : 20
Parametric Midtone Split : 40
Parametric Highlight Split : 75
Sharpen Radius : +1.0
Sharpen Detail : 25
Sharpen Edge Masking : 0
Post Crop Vignette Amount : 0
Grain Amount : 0
Color Noise Reduction Detail : 50
Color Noise Reduction Smoothness : 50
Lens Profile Enable : 1
Lens Manual Distortion Amount : 0
Perspective Vertical : 0
Perspective Horizontal : 0
Perspective Rotate : 0.0
Perspective Scale : 100
Perspective Aspect : 0
Perspective Upright : Off
Perspective X : 0.00
Perspective Y : 0.00
Auto Lateral CA : 1
Exposure 2012 : -0.35
Contrast 2012 : +31
Highlights 2012 : -100
Shadows 2012 : +87
Whites 2012 : -64
Blacks 2012 : -10
Clarity 2012 : +6
Defringe Purple Amount : 6
Defringe Purple Hue Lo : 30
Defringe Purple Hue Hi : 70
Defringe Green Amount : 0
Defringe Green Hue Lo : 40
Defringe Green Hue Hi : 60
Dehaze : 0
Tone Map Strength : 0
Convert To Grayscale : False
Tone Curve Name : Linear
Tone Curve Name 2012 : Linear
Camera Profile : // Fuji Pro 400H (Noritsu)
Lens Profile Setup : LensDefaults
Lens Profile Name : Adobe (Canon EF 85mm f/1.8 USM)
Lens Profile Filename : Canon EOS-1Ds Mark III (Canon EF 85mm f1.8 USM) - RAW.lcp
Lens Profile Distortion Scale : 100
Lens Profile Chromatic Aberration Scale : 100
Lens Profile Vignetting Scale : 100
Has Settings : True
Has Crop : False
Already Applied : True
Tone Curve : 0, 0, 255, 255
Tone Curve Red : 0, 0, 255, 255
Tone Curve Green : 0, 0, 255, 255
Tone Curve Blue : 0, 0, 255, 255
Tone Curve PV2012 : 0, 0, 255, 255
Tone Curve PV2012 Red : 0, 0, 255, 255
Tone Curve PV2012 Green : 0, 0, 255, 255
Tone Curve PV2012 Blue : 0, 0, 255, 255
Image Width : 300
Image Height : 200
Bits Per Sample : 8
Color Components : 3
Aperture : 11.0
Image Size : 300x200
Megapixels : 0.060
Scale Factor To 35 mm Equivalent : 29.3
Shutter Speed : 1/160
Create Date : 2016:08:14 17:30:00.44
Date/Time Original : 2016:08:14 17:30:00.44
Circle Of Confusion : 0.001 mm
Depth Of Field : inf (639.94 m - inf)
Field Of View : 0.8 deg
Focal Length : 85.0 mm (35 mm equivalent: 2488.3 mm)
Hyperfocal Distance : 639.94 m
Light Value : 13.6
Lens ID : Canon EF 85mm f/1.8 USM