Uber Exif Photo
Make : Canon
Camera Model Name : Canon EOS 7D Mark II
Software : Adobe Photoshop Lightroom 6.7 (Macintosh)
Modify Date : 2016:12:13 22:39:56
Exposure Time : 1/40
F Number : 2.5
Exposure Program : Manual
ISO : 1600
Sensitivity Type : Recommended Exposure Index
Recommended Exposure Index : 1600
Date/Time Original : 2016:08:16 18:52:39
Create Date : 2016:08:16 18:52:39
Shutter Speed Value : 1/40
Aperture Value : 2.5
Exposure Compensation : 0
Max Aperture Value : 1.8
Metering Mode : Multi-segment
Flash : Off, Did not fire
Focal Length : 18.0 mm
Color Space : sRGB
Custom Rendered : Normal
Exposure Mode : Manual
White Balance : Auto
Scene Capture Type : Standard
Serial Number : 133052002056
Lens Info : 18-35mm f/?
Lens Model : 18-35mm
Lens Serial Number : 0000000000
Profile Description : sRGB IEC61966-2.1
Creator Tool : Adobe Photoshop Lightroom 6.7 (Macintosh)
Lens : 18-35mm
Image Number : 0
Approximate Focus Distance : 1.77
Flash Compensation : 0
Firmware : 1.0.5
Date Created : 2016:08:16 18:52:39.02
Format : image/jpeg
Version : 9.7
Process Version : 6.7
Auto White Version : 134348800
Color Temperature : 2950
Tint : 0
Sharpness : 25
Luminance Smoothing : 0
Color Noise Reduction : 25
Vignette Amount : 0
Shadow Tint : 0
Red Hue : 0
Red Saturation : 0
Green Hue : 0
Green Saturation : 0
Blue Hue : 0
Blue Saturation : 0
Gray Mixer Red : -6
Gray Mixer Orange : +3
Gray Mixer Yellow : -13
Gray Mixer Green : -20
Gray Mixer Aqua : -13
Gray Mixer Blue : +18
Gray Mixer Purple : +13
Gray Mixer Magenta : +7
Split Toning Shadow Hue : 0
Split Toning Shadow Saturation : 0
Split Toning Highlight Hue : 0
Split Toning Highlight Saturation : 0
Split Toning Balance : 0
Parametric Shadows : +47
Parametric Darks : -62
Parametric Lights : +51
Parametric Highlights : -78
Parametric Shadow Split : 18
Parametric Midtone Split : 40
Parametric Highlight Split : 88
Sharpen Radius : +1.0
Sharpen Detail : 25
Sharpen Edge Masking : 0
Post Crop Vignette Amount : 0
Grain Amount : 0
Color Noise Reduction Detail : 50
Color Noise Reduction Smoothness : 50
Lens Profile Enable : 1
Lens Manual Distortion Amount : 0
Perspective Vertical : 0
Perspective Horizontal : 0
Perspective Rotate : 0.0
Perspective Scale : 100
Perspective Aspect : 0
Perspective Upright : Off
Perspective X : 0.00
Perspective Y : 0.00
Auto Lateral CA : 1
Exposure 2012 : +0.30
Contrast 2012 : +29
Highlights 2012 : -75
Shadows 2012 : +3
Whites 2012 : -10
Blacks 2012 : -36
Clarity 2012 : +2
Dehaze : 0
Tone Map Strength : 0
Convert To Grayscale : True
Tone Curve Name : Linear
Tone Curve Name 2012 : Custom
Camera Profile : // Replichrome B+W
Lens Profile Setup : LensDefaults
Lens Profile Name : Adobe (SIGMA 18-35mm F1.8 DC HSM A013, Canon)
Lens Profile Filename : Canon (SIGMA 18-35mm F1.8 DC HSM A013) - RAW.lcp
Lens Profile Distortion Scale : 100
Lens Profile Chromatic Aberration Scale : 100
Lens Profile Vignetting Scale : 100
Has Settings : True
Has Crop : False
Already Applied : True
Tone Curve : 0, 0, 255, 255
Tone Curve Red : 0, 0, 255, 255
Tone Curve Green : 0, 0, 255, 255
Tone Curve Blue : 0, 0, 255, 255
Tone Curve PV2012 : 0, 0, 255, 255
Tone Curve PV2012 Red : 0, 0, 30, 27, 72, 77, 122, 130, 171, 179, 230, 234, 255, 255
Tone Curve PV2012 Green : 0, 0, 30, 27, 72, 77, 122, 130, 171, 179, 230, 234, 255, 255
Tone Curve PV2012 Blue : 0, 0, 30, 27, 72, 77, 122, 130, 171, 179, 230, 234, 255, 255
Image Width : 300
Image Height : 200
Bits Per Sample : 8
Color Components : 3
Aperture : 2.5
Image Size : 300x200
Megapixels : 0.060
Scale Factor To 35 mm Equivalent : 29.3
Shutter Speed : 1/40
Create Date : 2016:08:16 18:52:39.02
Date/Time Original : 2016:08:16 18:52:39.02
Circle Of Confusion : 0.001 mm
Depth Of Field : 0.05 m (1.75 - 1.79 m)
Field Of View : 3.9 deg
Focal Length : 18.0 mm (35 mm equivalent: 526.9 mm)
Hyperfocal Distance : 126.27 m
Light Value : 4.0
Lens ID : Sigma 18-35mm f/1.8 DC HSM | A