Uber Exif Photo
Keywords : india, sunderbans
By-line : Kirsten Quist
Copyright Notice : Kirsten Quist Photography
Copyright Flag : True
URL : www.kirstenquistphotography.com
Make : NIKON CORPORATION
Camera Model Name : NIKON D3100
Software : Adobe Photoshop Lightroom 5.7.1 (Windows)
Modify Date : 2016:11:02 15:02:28
Artist : Kirsten Quist
Copyright : Kirsten Quist Photography
Exposure Time : 1/1000
F Number : 7.1
Exposure Program : Manual
ISO : 400
Date/Time Original : 2013:03:21 23:49:37
Create Date : 2013:03:21 23:49:37
Shutter Speed Value : 1/1000
Aperture Value : 7.1
Exposure Compensation : 0
Max Aperture Value : 2.8
Subject Distance : 4294967295 m
Metering Mode : Multi-segment
Light Source : Unknown
Flash : No Flash
Focal Length : 200.0 mm
Sensing Method : One-chip color area
Scene Type : Directly photographed
CFA Pattern : [Green,Blue][Red,Green]
Custom Rendered : Normal
Exposure Mode : Manual
White Balance : Auto
Digital Zoom Ratio : 1
Focal Length In 35mm Format : 300 mm
Scene Capture Type : Standard
Gain Control : Low gain up
Contrast : Normal
Saturation : Normal
Sharpness : Normal
Subject Distance Range : Unknown
Serial Number : 5018801
Lens Info : 70-200mm f/2.8
Lens Model : 70.0-200.0 mm f/2.8
Profile Description : sRGB IEC61966-2.1
Creator Tool : Adobe Photoshop Lightroom 5.7.1 (Windows)
Label : Blue
Lens : 70.0-200.0 mm f/2.8
Image Number : 19236
Approximate Focus Distance : 4294967295
Marked : True
Web Statement : www.kirstenquistphotography.com
Format : image/jpeg
Version : 8.7.1
Process Version : 5.7
Auto White Version : 134348800
Color Temperature : 4414
Tint : +33
Exposure : +0.69
Shadows : 9
Brightness : +50
Luminance Smoothing : 30
Color Noise Reduction : 25
Vignette Amount : 0
Shadow Tint : 0
Red Hue : 0
Red Saturation : 0
Green Hue : 0
Green Saturation : 0
Blue Hue : 0
Blue Saturation : 0
Fill Light : 31
Highlight Recovery : 0
Clarity : +56
Gray Mixer Red : -3
Gray Mixer Orange : -12
Gray Mixer Yellow : -15
Gray Mixer Green : -23
Gray Mixer Aqua : -20
Gray Mixer Blue : +4
Gray Mixer Purple : +13
Gray Mixer Magenta : +6
Split Toning Shadow Hue : 0
Split Toning Shadow Saturation : 0
Split Toning Highlight Hue : 0
Split Toning Highlight Saturation : 0
Split Toning Balance : 0
Parametric Shadows : -33
Parametric Darks : -28
Parametric Lights : +15
Parametric Highlights : +8
Parametric Shadow Split : 25
Parametric Midtone Split : 50
Parametric Highlight Split : 75
Sharpen Radius : +1.0
Sharpen Detail : 25
Sharpen Edge Masking : 0
Post Crop Vignette Amount : -22
Post Crop Vignette Midpoint : 50
Post Crop Vignette Feather : 50
Post Crop Vignette Roundness : 0
Post Crop Vignette Style : Highlight Priority
Post Crop Vignette Highlight Contrast : 0
Grain Amount : 0
Luminance Noise Reduction Detail : 50
Color Noise Reduction Detail : 50
Luminance Noise Reduction Contrast : 0
Color Noise Reduction Smoothness : 50
Lens Profile Enable : 0
Lens Manual Distortion Amount : 0
Perspective Vertical : 0
Perspective Horizontal : 0
Perspective Rotate : 0.0
Perspective Scale : 100
Perspective Aspect : 0
Perspective Upright : Off
Auto Lateral CA : 0
Convert To Grayscale : True
Tone Curve Name : Medium Contrast
Tone Curve Name 2012 : Linear
Camera Profile : Adobe Standard
Lens Profile Setup : LensDefaults
Has Settings : True
Crop Top : 0.135473
Crop Left : 0.09268
Crop Bottom : 0.98574
Crop Right : 0.942948
Crop Angle : 0
Crop Constrain To Warp : 0
Has Crop : True
Already Applied : True
Date Created : 2013:03:21 23:49:37.90-06:00
Usage Terms : Only with expressed written permission from Kirsten Quist
Creator Region : Alberta
Creator Work Email : kirsten_n_q@yahoo.com
Creator City : Sherwood Park
Creator Country : Canada
Creator Work URL : www.kirstenquistphotography.com
Creator : Kirsten Quist
Rights : Kirsten Quist Photography
Subject : india, sunderbans
Tone Curve : 0, 0, 32, 22, 64, 56, 128, 128, 192, 196, 255, 255
Tone Curve Red : 0, 0, 255, 255
Tone Curve Green : 0, 0, 255, 255
Tone Curve Blue : 0, 0, 255, 255
Tone Curve PV2012 : 0, 0, 255, 255
Tone Curve PV2012 Red : 0, 0, 255, 255
Tone Curve PV2012 Green : 0, 0, 255, 255
Tone Curve PV2012 Blue : 0, 0, 255, 255
Derived From :
Image Width : 300
Image Height : 200
Bits Per Sample : 8
Color Components : 3
Aperture : 7.1
Image Size : 300x200
Megapixels : 0.060
Scale Factor To 35 mm Equivalent : 1.5
Shutter Speed : 1/1000
Create Date : 2013:03:21 23:49:37.90
Date/Time Original : 2013:03:21 23:49:37.90
Circle Of Confusion : 0.020 mm
Depth Of Field : inf (281.26 m - inf)
Field Of View : 6.9 deg
Focal Length : 200.0 mm (35 mm equivalent: 300.0 mm)
Hyperfocal Distance : 281.26 m
Light Value : 13.6
Lens ID : Sigma 70-200mm F2.8 EX APO DG Macro HSM II