Uber Exif Photo
Photometric Interpretation : RGB
Make : SONY
Camera Model Name : ILCE-7R
Orientation : Horizontal (normal)
Samples Per Pixel : 3
Software : Adobe Photoshop CC 2017 (Windows)
Modify Date : 2016:12:23 22:42:30
Exposure Time : 1/100
F Number : 8.0
Exposure Program : Aperture-priority AE
ISO : 100
Sensitivity Type : Recommended Exposure Index
Recommended Exposure Index : 100
Date/Time Original : 2016:12:18 16:38:32
Create Date : 2016:12:18 16:38:32
Shutter Speed Value : 1/100
Aperture Value : 8.0
Brightness Value : 8.49765625
Exposure Compensation : +0.7
Max Aperture Value : 5.6
Metering Mode : Multi-segment
Light Source : Unknown
Flash : Off, Did not fire
Focal Length : 10.0 mm
Color Space : sRGB
Exif Image Width : 1335
Exif Image Height : 2000
Scene Type : Directly photographed
Custom Rendered : Normal
Exposure Mode : Auto
White Balance : Auto
Digital Zoom Ratio : 1
Focal Length In 35mm Format : 10 mm
Scene Capture Type : Standard
Contrast : Normal
Saturation : Normal
Sharpness : Normal
Lens Info : 10mm f/5.6
Lens Model : E 10mm F5.6
Profile Description : sRGB IEC61966-2.1
Creator Tool : Adobe Photoshop Lightroom 6.8 (Windows)
Lens : E 10mm F5.6
Lens Distort Info : 33080/32768 -45079015/1073741824 41523600/1073741824 -12016657/1073741824
Date Created : 2016:12:18 16:38:32
Color Mode : RGB
ICC Profile Name : sRGB IEC61966-2.1
Format : image/jpeg
Version : 9.8
Process Version : 6.7
Auto White Version : 134348800
Color Temperature : 5750
Tint : +3
Luminance Smoothing : 20
Color Noise Reduction : 0
Vignette Amount : 0
Shadow Tint : 0
Red Hue : 0
Red Saturation : 0
Green Hue : 0
Green Saturation : 0
Blue Hue : 0
Blue Saturation : 0
Vibrance : +10
Hue Adjustment Red : -3
Hue Adjustment Orange : -2
Hue Adjustment Yellow : -3
Hue Adjustment Green : +5
Hue Adjustment Aqua : 0
Hue Adjustment Blue : -5
Hue Adjustment Purple : 0
Hue Adjustment Magenta : 0
Saturation Adjustment Red : +4
Saturation Adjustment Orange : +7
Saturation Adjustment Yellow : +5
Saturation Adjustment Green : 0
Saturation Adjustment Aqua : 0
Saturation Adjustment Blue : +7
Saturation Adjustment Purple : 0
Saturation Adjustment Magenta : 0
Luminance Adjustment Red : 0
Luminance Adjustment Orange : 0
Luminance Adjustment Yellow : 0
Luminance Adjustment Green : 0
Luminance Adjustment Aqua : 0
Luminance Adjustment Blue : 0
Luminance Adjustment Purple : 0
Luminance Adjustment Magenta : 0
Split Toning Shadow Hue : 0
Split Toning Shadow Saturation : 0
Split Toning Highlight Hue : 0
Split Toning Highlight Saturation : 0
Split Toning Balance : 0
Parametric Shadows : -5
Parametric Darks : 0
Parametric Lights : +10
Parametric Highlights : +15
Parametric Shadow Split : 25
Parametric Midtone Split : 50
Parametric Highlight Split : 75
Sharpen Radius : +1.0
Sharpen Detail : 25
Sharpen Edge Masking : 0
Post Crop Vignette Amount : 0
Grain Amount : 0
Luminance Noise Reduction Detail : 50
Luminance Noise Reduction Contrast : 0
Lens Profile Enable : 1
Lens Manual Distortion Amount : 0
Perspective Vertical : 0
Perspective Horizontal : 0
Perspective Rotate : 0.0
Perspective Scale : 100
Perspective Aspect : 0
Perspective Upright : Off
Perspective X : 0.00
Perspective Y : 0.00
Auto Lateral CA : 1
Exposure 2012 : -0.30
Contrast 2012 : +10
Highlights 2012 : -85
Shadows 2012 : +55
Whites 2012 : 0
Blacks 2012 : -5
Clarity 2012 : +10
Defringe Purple Amount : 0
Defringe Purple Hue Lo : 30
Defringe Purple Hue Hi : 70
Defringe Green Amount : 0
Defringe Green Hue Lo : 40
Defringe Green Hue Hi : 60
Dehaze : 0
Tone Map Strength : 0
Convert To Grayscale : False
Tone Curve Name : Linear
Tone Curve Name 2012 : Linear
Camera Profile : Camera Neutral
Lens Profile Setup : Custom
Lens Profile Name : Adobe (Voigtlander HELIAR-HYPER WIDE 10mm F5.6, SONY)
Lens Profile Filename : SONY (Voigtlander HELIAR-HYPER WIDE 10mm F5.6) - RAW.lcp
Lens Profile Distortion Scale : 100
Lens Profile Chromatic Aberration Scale : 100
Lens Profile Vignetting Scale : 100
Has Settings : True
Has Crop : False
Already Applied : True
Tone Curve : 0, 0, 255, 255
Tone Curve Red : 0, 0, 255, 255
Tone Curve Green : 0, 0, 255, 255
Tone Curve Blue : 0, 0, 255, 255
Tone Curve PV2012 : 0, 0, 255, 255
Tone Curve PV2012 Red : 0, 0, 255, 255
Tone Curve PV2012 Green : 0, 0, 255, 255
Tone Curve PV2012 Blue : 0, 0, 255, 255
Gradient Based Corr What : Correction
Gradient Based Corr Amount : 1.000000
Gradient Based Corr Active : true
Gradient Based Corr Saturation : 0.000000
Gradient Based Corr Sharpness : 0.000000
Gradient Based Corr Brightness : 0.000000
Gradient Based Corr Toning Hue : 240.000000
Gradient Based Corr Toning Saturation : 0.000000
Gradient Based Corr Exposure 2012 : 0.075000
Gradient Based Corr Contrast 2012 : 0.000000
Gradient Based Corr Highlights 2012 : -0.650000
Gradient Based Corr Shadows 2012 : 0.150000
Gradient Based Corr Whites 2012 : 0.000000
Gradient Based Corr Blacks 2012 : 0.000000
Gradient Based Corr Clarity 2012 : 0.000000
Gradient Based Corr Dehaze : 0.000000
Gradient Based Corr Luminance Noise : 0.000000
Gradient Based Corr Moire : 0.000000
Gradient Based Corr Defringe : 0.000000
Gradient Based Corr Temperature : -0.070000
Gradient Based Corr Tint : 0.000000
Gradient Based Corr Mask What : Mask/Gradient
Gradient Based Corr Mask Value : 1.000000
Gradient Based Corr Mask Zero X : 0.799486
Gradient Based Corr Mask Zero Y : 0.479138
Gradient Based Corr Mask Full X : -0.015877
Gradient Based Corr Mask Full Y : 0.479273
Image Width : 300
Image Height : 449
Bits Per Sample : 8
Color Components : 3
Aperture : 8.0
Image Size : 300x449
Megapixels : 0.135
Scale Factor To 35 mm Equivalent : 1.0
Shutter Speed : 1/100
Circle Of Confusion : 0.030 mm
Field Of View : 121.9 deg
Focal Length : 10.0 mm (35 mm equivalent: 10.0 mm)
Hyperfocal Distance : 0.42 m
Light Value : 12.6
Lens ID : E 10mm F5.6