Uber Exif Photo
Caption-Abstract : Saints of Lalons gatherd to celebrating Saint Lalons Song festival at Padmahem Dham,Dosorpara,Munshiganj,Bangladesh
Object Name : Sadhu Songo
Copyright Notice : Mahbubur Rahman Khoka
Copyright Flag : True
Image Description : Saints of Lalons gatherd to celebrating Saint Lalons Song festival at Padmahem Dham,Dosorpara,Munshiganj,Bangladesh
Make : Canon
Camera Model Name : Canon EOS 60D
Orientation : Horizontal (normal)
Software : Adobe Photoshop CS3 Windows
Modify Date : 2016:12:24 21:28:24
Copyright : Mahbubur Rahman Khoka
Exposure Time : 1/20
F Number : 3.5
Exposure Program : Manual
ISO : 400
Sensitivity Type : Recommended Exposure Index
Recommended Exposure Index : 400
Date/Time Original : 2015:12:27 10:03:52
Create Date : 2015:12:27 10:03:52
Shutter Speed Value : 1/20
Aperture Value : 3.5
Exposure Compensation : 0
Max Aperture Value : 3.5
Metering Mode : Multi-segment
Focal Length : 18.0 mm
Color Space : sRGB
Exif Image Width : 1440
Exif Image Height : 928
Custom Rendered : Normal
Exposure Mode : Manual
White Balance : Manual
Scene Capture Type : Standard
Serial Number : 4211503663
Lens Info : 18-135mm f/?
Lens Model : EF-S18-135mm f/3.5-5.6 IS
Lens Serial Number : 000026c843
Profile Description : sRGB IEC61966-2.1
Creator Tool : Adobe Photoshop CS3 Windows
Lens : EF-S18-135mm f/3.5-5.6 IS
Image Number : 0
Approximate Focus Distance : 1.79
Flash Compensation : 0
Firmware : 1.1.1
Date Created : 2015:12:27
Color Mode : RGB
ICC Profile Name : sRGB IEC61966-2.1
Format : image/jpeg
Marked : True
Version : 8.3
Process Version : 6.7
Auto White Version : 134348800
Color Temperature : 3100
Tint : +5
Saturation : -31
Sharpness : 25
Luminance Smoothing : 0
Color Noise Reduction : 25
Vignette Amount : 0
Shadow Tint : 0
Red Hue : 0
Red Saturation : 0
Green Hue : 0
Green Saturation : 0
Blue Hue : 0
Blue Saturation : 0
Vibrance : +50
Hue Adjustment Red : 0
Hue Adjustment Orange : 0
Hue Adjustment Yellow : 0
Hue Adjustment Green : 0
Hue Adjustment Aqua : 0
Hue Adjustment Blue : 0
Hue Adjustment Purple : 0
Hue Adjustment Magenta : 0
Saturation Adjustment Red : 0
Saturation Adjustment Orange : 0
Saturation Adjustment Yellow : 0
Saturation Adjustment Green : 0
Saturation Adjustment Aqua : 0
Saturation Adjustment Blue : 0
Saturation Adjustment Purple : 0
Saturation Adjustment Magenta : 0
Luminance Adjustment Red : 0
Luminance Adjustment Orange : 0
Luminance Adjustment Yellow : 0
Luminance Adjustment Green : 0
Luminance Adjustment Aqua : 0
Luminance Adjustment Blue : 0
Luminance Adjustment Purple : 0
Luminance Adjustment Magenta : 0
Split Toning Shadow Hue : 0
Split Toning Shadow Saturation : 0
Split Toning Highlight Hue : 0
Split Toning Highlight Saturation : 0
Split Toning Balance : 0
Parametric Shadows : 0
Parametric Darks : 0
Parametric Lights : -3
Parametric Highlights : 0
Parametric Shadow Split : 25
Parametric Midtone Split : 50
Parametric Highlight Split : 75
Sharpen Radius : +1.0
Sharpen Detail : 25
Sharpen Edge Masking : 0
Post Crop Vignette Amount : 0
Grain Amount : 0
Color Noise Reduction Detail : 50
Color Noise Reduction Smoothness : 50
Lens Profile Enable : 0
Lens Manual Distortion Amount : 0
Perspective Vertical : 0
Perspective Horizontal : 0
Perspective Rotate : 0.0
Perspective Scale : 100
Perspective Aspect : 0
Perspective Upright : Off
Auto Lateral CA : 0
Exposure 2012 : -0.83
Contrast 2012 : 0
Highlights 2012 : 0
Shadows 2012 : 0
Whites 2012 : 0
Blacks 2012 : -24
Clarity 2012 : +52
Defringe Purple Amount : 0
Defringe Purple Hue Lo : 30
Defringe Purple Hue Hi : 70
Defringe Green Amount : 0
Defringe Green Hue Lo : 40
Defringe Green Hue Hi : 60
Convert To Grayscale : False
Tone Curve Name 2012 : Linear
Camera Profile : Adobe Standard
Lens Profile Setup : LensDefaults
Has Settings : True
Crop Top : 0
Crop Left : 0.007836
Crop Bottom : 0.94934
Crop Right : 0.96284
Crop Angle : 0.723287
Crop Constrain To Warp : 0
Has Crop : True
Already Applied : True
Date/Time Digitized : 2015:12:27 10:03:52+06:00
Title : Sadhu Songo
Rights : Mahbubur Rahman Khoka
Description : Saints of Lalons gatherd to celebrating Saint Lalons Song festival at Padmahem Dham,Dosorpara,Munshiganj,Bangladesh
Tone Curve PV2012 : 0, 0, 255, 255
Tone Curve PV2012 Red : 0, 0, 255, 255
Tone Curve PV2012 Green : 0, 0, 255, 255
Tone Curve PV2012 Blue : 0, 0, 255, 255
Flash Fired : False
Flash Return : No return detection
Flash Mode : Off
Flash Function : False
Flash Red Eye Mode : False
Image Width : 300
Image Height : 193
Bits Per Sample : 8
Color Components : 3
Aperture : 3.5
Image Size : 300x193
Megapixels : 0.058
Scale Factor To 35 mm Equivalent : 1.6
Shutter Speed : 1/20
Create Date : 2015:12:27 10:03:52.49
Date/Time Original : 2015:12:27 10:03:52.49
Flash : Off, Did not fire
Circle Of Confusion : 0.019 mm
Depth Of Field : 1.51 m (1.31 - 2.82 m)
Field Of View : 64.9 deg
Focal Length : 18.0 mm (35 mm equivalent: 28.3 mm)
Hyperfocal Distance : 4.85 m
Light Value : 5.9
Lens ID : Canon EF-S 18-135mm f/3.5-5.6 IS