Uber Exif Photo
Copyright Flag : False
Make : Canon
Camera Model Name : Canon EOS 60D
Orientation : Horizontal (normal)
Software : Adobe Photoshop CS3 Windows
Modify Date : 2016:12:24 21:27:44
Exposure Time : 1/1600
F Number : 5.6
Exposure Program : Aperture-priority AE
ISO : 100
Sensitivity Type : Recommended Exposure Index
Recommended Exposure Index : 100
Date/Time Original : 2016:06:30 01:06:05
Create Date : 2016:06:30 01:06:05
Shutter Speed Value : 1/1600
Aperture Value : 5.6
Exposure Compensation : 0
Max Aperture Value : 3.5
Metering Mode : Multi-segment
Focal Length : 18.0 mm
Color Space : sRGB
Exif Image Width : 1440
Exif Image Height : 825
Custom Rendered : Normal
Exposure Mode : Auto
White Balance : Auto
Scene Capture Type : Standard
Serial Number : 4211503663
Lens Info : 18-135mm f/?
Lens Model : EF-S18-135mm f/3.5-5.6 IS
Lens Serial Number : 000026c843
Profile Description : sRGB IEC61966-2.1
Creator Tool : Adobe Photoshop CS3 Windows
Lens : EF-S18-135mm f/3.5-5.6 IS
Image Number : 0
Approximate Focus Distance : 12
Flash Compensation : 0
Firmware : 1.1.1
Date Created : 2016:06:30
Color Mode : RGB
ICC Profile Name : sRGB IEC61966-2.1
Format : image/jpeg
Version : 8.3
Process Version : 6.7
Auto White Version : 134348800
Color Temperature : 4381
Tint : +8
Sharpness : 25
Luminance Smoothing : 63
Color Noise Reduction : 25
Vignette Amount : 0
Shadow Tint : 0
Red Hue : 0
Red Saturation : 0
Green Hue : 0
Green Saturation : 0
Blue Hue : 0
Blue Saturation : 0
Gray Mixer Red : -18
Gray Mixer Orange : -51
Gray Mixer Yellow : -100
Gray Mixer Green : -100
Gray Mixer Aqua : -69
Gray Mixer Blue : -24
Gray Mixer Purple : +20
Gray Mixer Magenta : +5
Split Toning Shadow Hue : 0
Split Toning Shadow Saturation : 0
Split Toning Highlight Hue : 0
Split Toning Highlight Saturation : 0
Split Toning Balance : 0
Parametric Shadows : +100
Parametric Darks : -51
Parametric Lights : +34
Parametric Highlights : +1
Parametric Shadow Split : 25
Parametric Midtone Split : 50
Parametric Highlight Split : 75
Sharpen Radius : +1.0
Sharpen Detail : 25
Sharpen Edge Masking : 0
Post Crop Vignette Amount : 0
Grain Amount : 0
Luminance Noise Reduction Detail : 50
Color Noise Reduction Detail : 50
Luminance Noise Reduction Contrast : 0
Color Noise Reduction Smoothness : 50
Lens Profile Enable : 0
Lens Manual Distortion Amount : 0
Perspective Vertical : 0
Perspective Horizontal : 0
Perspective Rotate : 0.0
Perspective Scale : 100
Perspective Aspect : 0
Perspective Upright : Off
Auto Lateral CA : 0
Exposure 2012 : +1.07
Contrast 2012 : +26
Highlights 2012 : 0
Shadows 2012 : +14
Whites 2012 : +22
Blacks 2012 : +40
Clarity 2012 : +55
Convert To Grayscale : True
Tone Curve Name 2012 : Linear
Camera Profile : Adobe Standard
Lens Profile Setup : LensDefaults
Has Settings : True
Crop Top : 0.149072
Crop Left : 0.035912
Crop Bottom : 0.997179
Crop Right : 0.876902
Crop Angle : 4.08554
Crop Constrain To Warp : 0
Has Crop : True
Already Applied : True
Date/Time Digitized : 2016:06:30 01:06:05+06:00
Tone Curve PV2012 : 0, 0, 255, 255
Tone Curve PV2012 Red : 0, 0, 255, 255
Tone Curve PV2012 Green : 0, 0, 255, 255
Tone Curve PV2012 Blue : 0, 0, 255, 255
Flash Fired : False
Flash Return : No return detection
Flash Mode : Off
Flash Function : False
Flash Red Eye Mode : False
Image Width : 300
Image Height : 172
Bits Per Sample : 8
Color Components : 3
Aperture : 5.6
Image Size : 300x172
Megapixels : 0.052
Scale Factor To 35 mm Equivalent : 1.6
Shutter Speed : 1/1600
Create Date : 2016:06:30 01:06:05.26
Date/Time Original : 2016:06:30 01:06:05.26
Flash : Off, Did not fire
Circle Of Confusion : 0.019 mm
Depth Of Field : inf (2.42 m - inf)
Field Of View : 64.9 deg
Focal Length : 18.0 mm (35 mm equivalent: 28.3 mm)
Hyperfocal Distance : 3.03 m
Light Value : 15.6
Lens ID : Canon EF-S 18-135mm f/3.5-5.6 IS