Uber Exif Photo
Copyright Flag : False
Make : SONY
Camera Model Name : ILCE-6000
Orientation : Horizontal (normal)
Software : Adobe Photoshop CS Windows
Modify Date : 2017:01:13 09:14:33
Exposure Time : 1/320
F Number : 2.0
Exposure Program : Manual
ISO : 100
Sensitivity Type : Recommended Exposure Index
Recommended Exposure Index : 100
Date/Time Original : 2016:06:20 17:43:28
Create Date : 2016:06:20 17:43:28
Shutter Speed Value : 1/320
Aperture Value : 2.0
Brightness Value : 5.36875
Exposure Compensation : 0
Max Aperture Value : 1.8
Metering Mode : Center-weighted average
Light Source : Unknown
Focal Length : 55.0 mm
Color Space : sRGB
Exif Image Width : 2000
Exif Image Height : 1262
Scene Type : Directly photographed
Custom Rendered : Normal
Exposure Mode : Manual
White Balance : Auto
Digital Zoom Ratio : 1
Focal Length In 35mm Format : 82 mm
Scene Capture Type : Standard
Contrast : High
Saturation : Normal
Sharpness : Hard
Lens Info : 55mm f/1.8
Lens Model : FE 55mm F1.8 ZA
Profile Description : sRGB IEC61966-2.1
Version : 8.7.1
Process Version : 6.7
Auto White Version : 134348800
Incremental Temperature : 0
Incremental Tint : 0
Luminance Smoothing : 0
Color Noise Reduction : 25
Vignette Amount : 0
Shadow Tint : 0
Red Hue : +40
Red Saturation : +5
Green Hue : +90
Green Saturation : +5
Blue Hue : -5
Blue Saturation : +10
Vibrance : 0
Hue Adjustment Red : +15
Hue Adjustment Orange : 0
Hue Adjustment Yellow : 0
Hue Adjustment Green : 0
Hue Adjustment Aqua : 0
Hue Adjustment Blue : 0
Hue Adjustment Purple : +20
Hue Adjustment Magenta : +30
Saturation Adjustment Red : -10
Saturation Adjustment Orange : +5
Saturation Adjustment Yellow : 0
Saturation Adjustment Green : -30
Saturation Adjustment Aqua : -20
Saturation Adjustment Blue : -20
Saturation Adjustment Purple : -40
Saturation Adjustment Magenta : -40
Luminance Adjustment Red : -5
Luminance Adjustment Orange : -2
Luminance Adjustment Yellow : +10
Luminance Adjustment Green : 0
Luminance Adjustment Aqua : +20
Luminance Adjustment Blue : 0
Luminance Adjustment Purple : +20
Luminance Adjustment Magenta : +25
Split Toning Shadow Hue : 215
Split Toning Shadow Saturation : 20
Split Toning Highlight Hue : 0
Split Toning Highlight Saturation : 0
Split Toning Balance : +85
Parametric Shadows : 0
Parametric Darks : 0
Parametric Lights : 0
Parametric Highlights : 0
Parametric Shadow Split : 25
Parametric Midtone Split : 50
Parametric Highlight Split : 75
Sharpen Radius : +1.0
Sharpen Detail : 25
Sharpen Edge Masking : 0
Post Crop Vignette Amount : 0
Grain Amount : 25
Grain Size : 30
Grain Frequency : 35
Color Noise Reduction Detail : 50
Color Noise Reduction Smoothness : 50
Lens Profile Enable : 0
Lens Manual Distortion Amount : 0
Perspective Vertical : 0
Perspective Horizontal : 0
Perspective Rotate : 0.0
Perspective Scale : 100
Perspective Aspect : 0
Perspective Upright : Off
Auto Lateral CA : 0
Exposure 2012 : 0.00
Contrast 2012 : 0
Highlights 2012 : -35
Shadows 2012 : +30
Whites 2012 : -30
Blacks 2012 : +15
Clarity 2012 : 0
Defringe Purple Amount : 0
Defringe Purple Hue Lo : 30
Defringe Purple Hue Hi : 70
Defringe Green Amount : 0
Defringe Green Hue Lo : 40
Defringe Green Hue Hi : 60
Convert To Grayscale : False
Tone Curve Name : Linear
Tone Curve Name 2012 : Custom
Camera Profile : Kodak Ektar 100 - SO
Lens Profile Setup : LensDefaults
Has Settings : True
Crop Top : 0.044097
Crop Left : 0.003656
Crop Bottom : 0.906617
Crop Right : 0.96713
Crop Angle : -1.4142
Crop Constrain To Warp : 0
Has Crop : True
Already Applied : True
Tone Curve : 0, 0, 255, 255
Tone Curve Red : 0, 0, 255, 255
Tone Curve Green : 0, 0, 255, 255
Tone Curve Blue : 0, 0, 255, 255
Tone Curve PV2012 : 0, 1, 255, 253
Tone Curve PV2012 Red : 0, 0, 48, 8, 75, 38, 99, 86, 152, 178, 192, 220, 255, 255
Tone Curve PV2012 Green : 0, 0, 28, 7, 63, 35, 92, 82, 149, 181, 189, 221, 255, 255
Tone Curve PV2012 Blue : 0, 0, 23, 11, 88, 83, 147, 177, 255, 255
Date/Time Digitized : 2016:06:20 17:43:28+07:00
Flash Fired : False
Flash Return : No return detection
Flash Mode : Off
Flash Function : False
Flash Red Eye Mode : False
Lens : FE 55mm F1.8 ZA
Date Created : 2016:06:20
Creator Tool : Adobe Photoshop CS Windows
Format : image/jpeg
Image Width : 308
Image Height : 197
Bits Per Sample : 8
Color Components : 3
Aperture : 2.0
Image Size : 308x197
Megapixels : 0.061
Scale Factor To 35 mm Equivalent : 1.5
Shutter Speed : 1/320
Flash : Off, Did not fire
Circle Of Confusion : 0.020 mm
Field Of View : 24.8 deg
Focal Length : 55.0 mm (35 mm equivalent: 82.0 mm)
Hyperfocal Distance : 75.05 m
Light Value : 10.3
Lens ID : FE 55mm F1.8 ZA