Uber Exif Photo
By-line : Jacob Borgesen
Copyright Notice : Jacob Borgesen
Processing Software : Windows Photo Editor 10.0.10011.16384
Make : Canon
Camera Model Name : Canon EOS 6D
Orientation : Horizontal (normal)
Software : Windows Photo Editor 10.0.10011.16384
Modify Date : 2017:02:21 02:38:46
Artist : Jacob Borgesen
Copyright : Jacob Borgesen
Exposure Time : 1/80
F Number : 2.8
Exposure Program : Aperture-priority AE
ISO : 100
Sensitivity Type : Recommended Exposure Index
Recommended Exposure Index : 100
Date/Time Original : 2016:06:29 19:26:50
Create Date : 2016:06:29 19:26:50
Shutter Speed Value : 1/80
Aperture Value : 2.8
Exposure Compensation : 0
Max Aperture Value : 2.8
Metering Mode : Spot
Flash : Off, Did not fire
Focal Length : 100.0 mm
Color Space : sRGB
Custom Rendered : Normal
Exposure Mode : Auto
White Balance : Manual
Scene Capture Type : Standard
Serial Number : 272021002080
Lens Info : 100mm f/?
Lens Model : EF100mm f/2.8L Macro IS USM
Lens Serial Number : 0000084db2
Creator Tool : Windows Photo Editor 10.0.10011.16384
Format : image/jpeg
Lens : EF100mm f/2.8L Macro IS USM
Image Number : 0
Approximate Focus Distance : 0.59
Flash Compensation : 0
Firmware : 1.1.6
Date Created : 2016:06:29 19:26:50.00
Version : 9.5.1
Process Version : 6.7
Auto White Version : 134348800
Color Temperature : 5150
Tint : +7
Saturation : 0
Sharpness : 25
Luminance Smoothing : 0
Color Noise Reduction : 25
Vignette Amount : 0
Shadow Tint : 0
Red Hue : 0
Red Saturation : 0
Green Hue : 0
Green Saturation : 0
Blue Hue : 0
Blue Saturation : 0
Vibrance : 0
Hue Adjustment Red : 0
Hue Adjustment Orange : 0
Hue Adjustment Yellow : 0
Hue Adjustment Green : 0
Hue Adjustment Aqua : 0
Hue Adjustment Blue : 0
Hue Adjustment Purple : 0
Hue Adjustment Magenta : 0
Saturation Adjustment Red : 0
Saturation Adjustment Orange : 0
Saturation Adjustment Yellow : 0
Saturation Adjustment Green : 0
Saturation Adjustment Aqua : 0
Saturation Adjustment Blue : 0
Saturation Adjustment Purple : 0
Saturation Adjustment Magenta : 0
Luminance Adjustment Red : 0
Luminance Adjustment Orange : 0
Luminance Adjustment Yellow : 0
Luminance Adjustment Green : 0
Luminance Adjustment Aqua : 0
Luminance Adjustment Blue : 0
Luminance Adjustment Purple : 0
Luminance Adjustment Magenta : 0
Split Toning Shadow Hue : 0
Split Toning Shadow Saturation : 0
Split Toning Highlight Hue : 0
Split Toning Highlight Saturation : 0
Split Toning Balance : 0
Parametric Shadows : 0
Parametric Darks : 0
Parametric Lights : 0
Parametric Highlights : 0
Parametric Shadow Split : 25
Parametric Midtone Split : 50
Parametric Highlight Split : 75
Sharpen Radius : +1.0
Sharpen Detail : 25
Sharpen Edge Masking : 0
Post Crop Vignette Amount : 0
Grain Amount : 0
Color Noise Reduction Detail : 50
Color Noise Reduction Smoothness : 50
Lens Profile Enable : 0
Lens Manual Distortion Amount : 0
Perspective Vertical : 0
Perspective Horizontal : 0
Perspective Rotate : 0.0
Perspective Scale : 100
Perspective Aspect : 0
Perspective Upright : Off
Auto Lateral CA : 0
Exposure 2012 : +0.81
Contrast 2012 : +32
Highlights 2012 : -69
Shadows 2012 : +49
Whites 2012 : 0
Blacks 2012 : 0
Clarity 2012 : 0
Defringe Purple Amount : 0
Defringe Purple Hue Lo : 30
Defringe Purple Hue Hi : 70
Defringe Green Amount : 0
Defringe Green Hue Lo : 40
Defringe Green Hue Hi : 60
Dehaze : 0
Tone Map Strength : 0
Convert To Grayscale : False
Tone Curve Name : Linear
Tone Curve Name 2012 : Linear
Camera Profile : Adobe Standard
Lens Profile Setup : LensDefaults
Has Settings : True
Has Crop : False
Already Applied : True
Creator : Jacob Borgesen
Rights : Jacob Borgesen
Tone Curve : 0, 0, 255, 255
Tone Curve Red : 0, 0, 255, 255
Tone Curve Green : 0, 0, 255, 255
Tone Curve Blue : 0, 0, 255, 255
Tone Curve PV2012 : 0, 0, 255, 255
Tone Curve PV2012 Red : 0, 0, 255, 255
Tone Curve PV2012 Green : 0, 0, 255, 255
Tone Curve PV2012 Blue : 0, 0, 255, 255
Image Width : 300
Image Height : 192
Bits Per Sample : 8
Color Components : 3
Aperture : 2.8
Image Size : 300x192
Megapixels : 0.058
Scale Factor To 35 mm Equivalent : 18.5
Shutter Speed : 1/80
Create Date : 2016:06:29 19:26:50.00
Date/Time Original : 2016:06:29 19:26:50.00
Circle Of Confusion : 0.002 mm
Depth Of Field : 0.000 m (0.590 - 0.590 m)
Field Of View : 1.1 deg
Focal Length : 100.0 mm (35 mm equivalent: 1846.4 mm)
Hyperfocal Distance : 2194.72 m
Light Value : 9.3
Lens ID : Canon EF 100mm f/2.8L Macro IS USM