Uber Exif Photo
Photometric Interpretation : RGB
Camera Model Name : ILCE-7
Orientation : Horizontal (normal)
Samples Per Pixel : 3
Planar Configuration : Chunky
Software : Adobe Photoshop CS6 (Windows)
Modify Date : 2015:02:28 23:55:03
Exposure Time : 1/50
F Number : 8.0
ISO : 800
Date/Time Original : 2015:02:28 16:57:00
Aperture Value : 8.0
Max Aperture Value : 2.7
Focal Length : 35.0 mm
Color Space : Uncalibrated
Exif Image Width : 3593
Exif Image Height : 5656
Focal Length In 35mm Format : 35 mm
Lens Info : 35-70mm f/2.7-3.5
Lens Model : Carl Zeiss Jena Vario-Pancolar 2.7-3.5/35-70 M42
Lens : Carl Zeiss Jena Vario-Pancolar 2.7-3.5/35-70 M42
Format : image/jpeg
Color Mode : Grayscale
Date Created : 2015:02:28 16:57
ICC Profile Name : Dot Gain 20%
Black Clip : 0.393200
Color Saturation : 50.0
Gamma : 1.00
Highlights Smoothing : 10.0
Is Pano 360 : No
Luminosity : 6.0
Method : Details Enhancer
Microcontrast : 3.0
Microsmoothing : 20.0
Saturation Highlights : 0.0
Saturation Shadows : 0.0
Shadows Clipping : 0.0
Shadows Smoothing : 0.0
Smoothing : 7.5
Smoothing Mode : Slider
Strength : 80.0
White Clip : 0.995250
Create Date : 2015:02:28 16:57
Creator Tool : ILCE-7 v1.02
Rating : 0
Already Applied : True
Auto Lateral CA : 1
Auto White Version : 134348800
Blacks 2012 : 0
Blue Hue : 0
Blue Saturation : 0
Camera Profile : Adobe Standard
Clarity 2012 : +15
Color Noise Reduction : 25
Color Noise Reduction Detail : 50
Color Noise Reduction Smoothness : 50
Contrast 2012 : 0
Convert To Grayscale : False
Defringe Green Amount : 0
Defringe Green Hue Hi : 60
Defringe Green Hue Lo : 40
Defringe Purple Amount : 0
Defringe Purple Hue Hi : 70
Defringe Purple Hue Lo : 30
Exposure 2012 : -1.00
Grain Amount : 0
Green Hue : 0
Green Saturation : 0
Has Crop : False
Has Settings : True
Highlights 2012 : 0
Hue Adjustment Aqua : 0
Hue Adjustment Blue : 0
Hue Adjustment Green : 0
Hue Adjustment Magenta : 0
Hue Adjustment Orange : 0
Hue Adjustment Purple : 0
Hue Adjustment Red : 0
Hue Adjustment Yellow : 0
Lens Manual Distortion Amount : 0
Lens Profile Enable : 0
Lens Profile Setup : LensDefaults
Luminance Adjustment Aqua : 0
Luminance Adjustment Blue : 0
Luminance Adjustment Green : 0
Luminance Adjustment Magenta : 0
Luminance Adjustment Orange : 0
Luminance Adjustment Purple : 0
Luminance Adjustment Red : 0
Luminance Adjustment Yellow : 0
Luminance Noise Reduction Contrast : 0
Luminance Noise Reduction Detail : 50
Luminance Smoothing : 50
Parametric Darks : 0
Parametric Highlight Split : 75
Parametric Highlights : 0
Parametric Lights : 0
Parametric Midtone Split : 50
Parametric Shadow Split : 25
Parametric Shadows : 0
Perspective Aspect : 0
Perspective Horizontal : 0
Perspective Rotate : 0.0
Perspective Scale : 100
Perspective Upright : Off
Perspective Vertical : 0
Post Crop Vignette Amount : 0
Process Version : 6.7
Raw File Name : _DSC0395.ARW
Red Hue : 0
Red Saturation : 0
Saturation : 0
Saturation Adjustment Aqua : 0
Saturation Adjustment Blue : 0
Saturation Adjustment Green : 0
Saturation Adjustment Magenta : 0
Saturation Adjustment Orange : 0
Saturation Adjustment Purple : 0
Saturation Adjustment Red : 0
Saturation Adjustment Yellow : 0
Shadow Tint : 0
Shadows 2012 : 0
Sharpen Detail : 25
Sharpen Edge Masking : 78
Sharpen Radius : +1.0
Sharpness : 25
Split Toning Balance : 0
Split Toning Highlight Hue : 0
Split Toning Highlight Saturation : 0
Split Toning Shadow Hue : 0
Split Toning Shadow Saturation : 0
Color Temperature : 7250
Tint : +14
Tone Curve : 0, 0, 32, 22, 64, 56, 128, 128, 192, 196, 255, 255
Tone Curve Blue : 0, 0, 255, 255
Tone Curve Green : 0, 0, 255, 255
Tone Curve Name : Medium Contrast
Tone Curve Name 2012 : Linear
Tone Curve PV2012 : 0, 0, 255, 255
Tone Curve PV2012 Blue : 0, 0, 255, 255
Tone Curve PV2012 Green : 0, 0, 255, 255
Tone Curve PV2012 Red : 0, 0, 255, 255
Tone Curve Red : 0, 0, 255, 255
Version : 8.6
Vibrance : 0
Vignette Amount : 0
White Balance : As Shot
Whites 2012 : 0
Image Width : 300
Image Height : 472
Bits Per Sample : 8
Color Components : 1
Aperture : 8.0
Image Size : 300x472
Megapixels : 0.142
Scale Factor To 35 mm Equivalent : 1.0
Shutter Speed : 1/50
Circle Of Confusion : 0.030 mm
Field Of View : 54.4 deg
Focal Length : 35.0 mm (35 mm equivalent: 35.0 mm)
Hyperfocal Distance : 5.10 m
Light Value : 8.6