Uber Exif Photo
By-line : Rico Lee Wei-Jie
Province-State : KL
Country-Primary Location Name : Malaysia
Keywords : 11-16, a6000, alpha, asdgraphy, batu pahat, coast, dark, galaxy, jetty, johor, landscape, malaysia, milkyway, night, scenery, sea, sky, sony, space, stars, tokina, ultrawide, zoom
Copyright Notice : ASDgraphy
Copyright Flag : True
Make : SONY
Camera Model Name : ILCE-6000
Orientation : Horizontal (normal)
Software : Adobe Photoshop CC 2014 (Windows)
Modify Date : 2017:08:05 13:42:04
Artist : Rico Lee Wei-Jie
Copyright : ASDgraphy
Exposure Time : 20
Exposure Program : Manual
ISO : 3200
Sensitivity Type : Recommended Exposure Index
Recommended Exposure Index : 3200
Date/Time Original : 2017:07:21 23:26:48
Create Date : 2017:07:21 23:26:48
Shutter Speed Value : 20
Brightness Value : -9.49453125
Exposure Compensation : 0
Max Aperture Value : 1.0
Metering Mode : Center-weighted average
Light Source : Unknown
Flash : Off, Did not fire
Color Space : sRGB
Exif Image Width : 1270
Exif Image Height : 1920
Scene Type : Directly photographed
Custom Rendered : Normal
Exposure Mode : Manual
White Balance : Auto
Digital Zoom Ratio : 1
Scene Capture Type : Standard
Contrast : Normal
Saturation : Normal
Sharpness : Normal
Lens Model : ----
Rating : 0
Label :
Creator Tool : ILCE-6000 v3.10
Lens : ----
Lateral Chromatic Aberration Correction Already Applied:
True
Date Created : 2017:07:21 23:26:48
Country : Malaysia
State : KL
Color Mode : RGB
ICC Profile Name : sRGB IEC61966-2.1
Format : image/jpeg
Marked : True
Raw File Name : DSC02480.ARW
Version : 9.12
Process Version : 6.7
Color Temperature : 3400
Tint : +3
Luminance Smoothing : 0
Color Noise Reduction : 0
Vignette Amount : 0
Shadow Tint : 0
Red Hue : 0
Red Saturation : 0
Green Hue : 0
Green Saturation : 0
Blue Hue : 0
Blue Saturation : 0
Vibrance : +13
Hue Adjustment Red : 0
Hue Adjustment Orange : 0
Hue Adjustment Yellow : 0
Hue Adjustment Green : 0
Hue Adjustment Aqua : 0
Hue Adjustment Blue : 0
Hue Adjustment Purple : 0
Hue Adjustment Magenta : 0
Saturation Adjustment Red : 0
Saturation Adjustment Orange : 0
Saturation Adjustment Yellow : 0
Saturation Adjustment Green : 0
Saturation Adjustment Aqua : 0
Saturation Adjustment Blue : 0
Saturation Adjustment Purple : 0
Saturation Adjustment Magenta : 0
Luminance Adjustment Red : 0
Luminance Adjustment Orange : 0
Luminance Adjustment Yellow : 0
Luminance Adjustment Green : 0
Luminance Adjustment Aqua : 0
Luminance Adjustment Blue : 0
Luminance Adjustment Purple : 0
Luminance Adjustment Magenta : 0
Split Toning Shadow Hue : 215
Split Toning Shadow Saturation : 5
Split Toning Highlight Hue : 302
Split Toning Highlight Saturation : 9
Split Toning Balance : 0
Parametric Shadows : 0
Parametric Darks : 0
Parametric Lights : 0
Parametric Highlights : 0
Parametric Shadow Split : 25
Parametric Midtone Split : 50
Parametric Highlight Split : 75
Sharpen Radius : +1.0
Sharpen Detail : 25
Sharpen Edge Masking : 70
Post Crop Vignette Amount : 0
Grain Amount : 0
Lens Profile Enable : 1
Lens Manual Distortion Amount : 0
Perspective Vertical : 0
Perspective Horizontal : 0
Perspective Rotate : 0.0
Perspective Scale : 100
Perspective Aspect : 0
Perspective Upright : Off
Perspective X : 0.00
Perspective Y : 0.00
Auto Lateral CA : 1
Exposure 2012 : +0.62
Contrast 2012 : +25
Highlights 2012 : -6
Shadows 2012 : +3
Whites 2012 : +25
Blacks 2012 : -35
Clarity 2012 : +36
Defringe Purple Amount : 1
Defringe Purple Hue Lo : 30
Defringe Purple Hue Hi : 70
Defringe Green Amount : 0
Defringe Green Hue Lo : 40
Defringe Green Hue Hi : 60
Dehaze : 0
Tone Map Strength : 0
Convert To Grayscale : False
Tone Curve Name : Medium Contrast
Tone Curve Name 2012 : Linear
Camera Profile : Standard
Lens Profile Setup : LensDefaults
Has Settings : True
Crop Top : 0
Crop Left : 0
Crop Bottom : 1
Crop Right : 1
Crop Angle : 0
Crop Constrain To Warp : 0
Has Crop : True
Already Applied : True
Creator : Rico Lee Wei-Jie
Rights : ASDgraphy
Subject : 11-16, a6000, alpha, asdgraphy, batu pahat, coast, dark, galaxy, jetty, johor, landscape, malaysia, milkyway, night, scenery, sea, sky, sony, space, stars, tokina, ultrawide, zoom
Usage Terms : Share with credits, no altering
Creator Work URL : https://www.facebook.com/ASDgraphy
Hierarchical Subject : 11-16, a6000, alpha, asdgraphy, batu pahat, coast, dark, galaxy, jetty, johor, landscape, malaysia, milkyway, night, scenery, sea, sky, sony, space, stars, tokina, ultrawide, zoom
Tone Curve : 0, 0, 32, 22, 64, 56, 128, 128, 192, 196, 255, 255
Tone Curve Red : 0, 0, 255, 255
Tone Curve Green : 0, 0, 255, 255
Tone Curve Blue : 0, 0, 255, 255
Tone Curve PV2012 : 0, 0, 255, 255
Tone Curve PV2012 Red : 0, 0, 255, 255
Tone Curve PV2012 Green : 0, 0, 255, 255
Tone Curve PV2012 Blue : 0, 0, 255, 255
Image Width : 300
Image Height : 454
Bits Per Sample : 8
Color Components : 3
Image Size : 300x454
Megapixels : 0.136
Scale Factor To 35 mm Equivalent : 4.8
Shutter Speed : 20
Circle Of Confusion : 0.006 mm