Uber Exif Photo
By-line : Mircea Bunea
Keywords : clouds, evening, parked, peaceful, sea, summer, sundown, water, yachts
Copyright Notice : Copyright: 2015 mibu@urmascapaturma.ro
Copyright Flag : True
Photometric Interpretation : RGB
Make : Canon
Camera Model Name : Canon EOS 5D Mark II
Orientation : Horizontal (normal)
Samples Per Pixel : 3
Software : Adobe Photoshop CC (Windows)
Modify Date : 2017:12:06 09:04:37
Artist : Mircea Bunea
Copyright : Copyright: 2015 mibu@urmascapaturma.ro
Exposure Time : 1/100
F Number : 6.3
Exposure Program : Manual
ISO : 100
Date/Time Original : 2016:09:04 19:31:02
Create Date : 2016:09:04 19:31:02
Shutter Speed Value : 1/100
Aperture Value : 6.3
Exposure Compensation : 0
Max Aperture Value : 1.4
Metering Mode : Multi-segment
Flash : Off, Did not fire
Focal Length : 50.0 mm
Color Space : sRGB
Exif Image Width : 800
Exif Image Height : 1200
Custom Rendered : Normal
Exposure Mode : Manual
White Balance : Manual
Scene Capture Type : Standard
Owner Name : mircea bunea
Serial Number : 1230705297
Lens Info : 50mm f/?
Lens Model : Zeiss Planar T* 1.4/50 ZE
Profile Description : sRGB IEC61966-2.1
Format : image/jpeg
Lens : Zeiss Planar T* 1.4/50 ZE
Image Number : 0
Flash Compensation : 0
Firmware : 2.1.2
Distortion Correction Already Applied : True
Lateral Chromatic Aberration Correction Already Applied:
True
Vignette Correction Already Applied : True
Creator Tool : Adobe Photoshop Lightroom Classic 7.0 (Windows)
Date Created : 2016:09:04 19:31:02.055
Color Mode : RGB
ICC Profile Name : sRGB IEC61966-2.1
Marked : True
Version : 10.0
Process Version : 6.7
Color Temperature : 5511
Tint : +1
Saturation : +2
Sharpness : 25
Luminance Smoothing : 0
Color Noise Reduction : 25
Vignette Amount : 0
Shadow Tint : 0
Red Hue : 0
Red Saturation : 0
Green Hue : 0
Green Saturation : 0
Blue Hue : 0
Blue Saturation : 0
Vibrance : +62
Hue Adjustment Red : 0
Hue Adjustment Orange : 0
Hue Adjustment Yellow : 0
Hue Adjustment Green : 0
Hue Adjustment Aqua : 0
Hue Adjustment Blue : 0
Hue Adjustment Purple : 0
Hue Adjustment Magenta : 0
Saturation Adjustment Red : 0
Saturation Adjustment Orange : 0
Saturation Adjustment Yellow : 0
Saturation Adjustment Green : 0
Saturation Adjustment Aqua : 0
Saturation Adjustment Blue : 0
Saturation Adjustment Purple : 0
Saturation Adjustment Magenta : 0
Luminance Adjustment Red : 0
Luminance Adjustment Orange : 0
Luminance Adjustment Yellow : 0
Luminance Adjustment Green : 0
Luminance Adjustment Aqua : 0
Luminance Adjustment Blue : 0
Luminance Adjustment Purple : 0
Luminance Adjustment Magenta : 0
Split Toning Shadow Hue : 0
Split Toning Shadow Saturation : 0
Split Toning Highlight Hue : 0
Split Toning Highlight Saturation : 0
Split Toning Balance : 0
Parametric Shadows : 0
Parametric Darks : 0
Parametric Lights : +14
Parametric Highlights : +100
Parametric Shadow Split : 25
Parametric Midtone Split : 50
Parametric Highlight Split : 75
Sharpen Radius : +1.0
Sharpen Detail : 25
Sharpen Edge Masking : 0
Post Crop Vignette Amount : -13
Post Crop Vignette Midpoint : 50
Post Crop Vignette Feather : 50
Post Crop Vignette Roundness : 0
Post Crop Vignette Style : Highlight Priority
Post Crop Vignette Highlight Contrast : 0
Grain Amount : 0
Color Noise Reduction Detail : 50
Color Noise Reduction Smoothness : 50
Lens Profile Enable : 1
Lens Manual Distortion Amount : 0
Perspective Vertical : 0
Perspective Horizontal : 0
Perspective Rotate : 0.0
Perspective Scale : 100
Perspective Aspect : 0
Perspective Upright : Off
Perspective X : 0.00
Perspective Y : 0.00
Auto Lateral CA : 1
Exposure 2012 : -2.13
Contrast 2012 : 0
Highlights 2012 : -9
Shadows 2012 : +34
Whites 2012 : +13
Blacks 2012 : 0
Clarity 2012 : +40
Defringe Purple Amount : 0
Defringe Purple Hue Lo : 30
Defringe Purple Hue Hi : 70
Defringe Green Amount : 0
Defringe Green Hue Lo : 40
Defringe Green Hue Hi : 60
Dehaze : +11
Convert To Grayscale : False
Tone Curve Name : Linear
Tone Curve Name 2012 : Linear
Camera Profile : Adobe Standard
Lens Profile Setup : Custom
Lens Profile Name : Adobe (Zeiss Planar T* 1,4/50 ZE)
Lens Profile Filename : Canon (Zeiss Planar T 50 f14 ZE).lcp
Lens Profile Distortion Scale : 100
Lens Profile Chromatic Aberration Scale : 100
Lens Profile Vignetting Scale : 100
Has Settings : True
Has Crop : False
Already Applied : True
Creator : Mircea Bunea
Rights : Copyright: 2015 mibu@urmascapaturma.ro
Subject : clouds, evening, parked, peaceful, sea, summer, sundown, water, yachts
Usage Terms : All rights reserved
Tone Curve : 0, 0, 255, 255
Tone Curve Red : 0, 0, 255, 255
Tone Curve Green : 0, 0, 255, 255
Tone Curve Blue : 0, 0, 255, 255
Tone Curve PV2012 : 0, 0, 255, 255
Tone Curve PV2012 Red : 0, 0, 255, 255
Tone Curve PV2012 Green : 0, 0, 255, 255
Tone Curve PV2012 Blue : 0, 0, 255, 255
Gradient Based Corr What : Correction
Gradient Based Corr Amount : 1.000000
Gradient Based Corr Active : true
Gradient Based Corr Saturation : 0.000000
Gradient Based Corr Sharpness : 0.000000
Gradient Based Corr Brightness : 0.000000
Gradient Based Corr Toning Hue : 240.000000
Gradient Based Corr Toning Saturation : 0.000000
Gradient Based Corr Exposure 2012 : -0.212750
Gradient Based Corr Contrast 2012 : 0.000000
Gradient Based Corr Highlights 2012 : -0.234040
Gradient Based Corr Shadows 2012 : 0.000000
Gradient Based Corr Whites 2012 : 0.000000
Gradient Based Corr Blacks 2012 : 0.000000
Gradient Based Corr Clarity 2012 : 0.255320
Gradient Based Corr Dehaze : 0.000000
Gradient Based Corr Luminance Noise : 0.000000
Gradient Based Corr Moire : 0.000000
Gradient Based Corr Defringe : 0.000000
Gradient Based Corr Temperature : 0.255320
Gradient Based Corr Tint : 0.000000
Gradient Based Corr Mask What : Mask/Gradient
Gradient Based Corr Mask Value : 1.000000
Gradient Based Corr Mask Zero X : 0.072737
Gradient Based Corr Mask Zero Y : 0.520920
Gradient Based Corr Mask Full X : 1.001480
Gradient Based Corr Mask Full Y : 0.519019
Gradient Based Corr Range Mask Type : 0
Gradient Based Corr Range Mask Color Amount : 0.500000
Gradient Based Corr Range Mask Lum Min : 0.000000
Gradient Based Corr Range Mask Lum Max : 1.000000
Gradient Based Corr Range Mask Lum Feather : 0.500000
Creator Postal Code : 300222
Creator Work Email : mibu@urmascapaturma.ro
Creator Work Telephone : 0040 751 2525239
Creator Country : Romania
Creator Region : Timis
Creator Address : str. Gh. Doja 38, ap.2
Creator City : Timisoara
Image Width : 308
Image Height : 458
Bits Per Sample : 8
Color Components : 3
Aperture : 6.3
Image Size : 308x458
Megapixels : 0.141
Scale Factor To 35 mm Equivalent : 1.0
Shutter Speed : 1/100
Create Date : 2016:09:04 19:31:02.55
Date/Time Original : 2016:09:04 19:31:02.55
Circle Of Confusion : 0.031 mm
Field Of View : 40.5 deg
Focal Length : 50.0 mm (35 mm equivalent: 48.8 mm)
Hyperfocal Distance : 12.89 m
Light Value : 12.0
Lens ID : Carl Zeiss Planar T* 50mm f/1.4 ZE