Uber Exif Photo
Keywords : 85mm, APSc, alpha, alphauniverse, asdgraphy, banting, beach, cosplay, dead, evening, f/1.8, female, forbidden, forest, girl, gothic, kelanang, klang, lady, malaysia, nature, outdoor, pantai, people, portrait, prime, project, remilia, sand, scarlet, sea, sel85f18, single, solo, sony, sonyalpha, sonyimages, sunset, touhou, tree, vampire, wood
Make : SONY
Camera Model Name : ILCE-6000
Orientation : Horizontal (normal)
Software : Adobe Photoshop CC 2014 (Windows)
Modify Date : 2017:12:12 23:22:06
Exposure Time : 1/1000
F Number : 1.8
Exposure Program : Manual
ISO : 200
Sensitivity Type : Recommended Exposure Index
Recommended Exposure Index : 200
Date/Time Original : 2017:12:09 17:55:48
Create Date : 2017:12:09 17:55:48
Shutter Speed Value : 1/1000
Aperture Value : 1.8
Brightness Value : 3.6421875
Exposure Compensation : 0
Max Aperture Value : 1.8
Metering Mode : Center-weighted average
Light Source : Daylight
Flash : On, Return not detected
Focal Length : 85.0 mm
Color Space : sRGB
Exif Image Width : 1920
Exif Image Height : 2880
Scene Type : Directly photographed
Custom Rendered : Normal
Exposure Mode : Manual
White Balance : Manual
Digital Zoom Ratio : 1
Focal Length In 35mm Format : 127 mm
Scene Capture Type : Standard
Contrast : Normal
Saturation : Normal
Sharpness : Normal
Lens Info : 85mm f/1.8
Lens Model : FE 85mm F1.8
Rating : 0
Label :
Creator Tool : ILCE-6000 v3.10
Lens : FE 85mm F1.8
Lens Distort Info : 1072516302/1073741824 3066663/1073741824 -1822503/1073741824 -198804/1073741824
Distortion Correction Already Applied : True
Lateral Chromatic Aberration Correction Already Applied:
True
Vignette Correction Already Applied : True
Date Created : 2017:12:09 17:55:48
Color Mode : RGB
ICC Profile Name : sRGB IEC61966-2.1
Format : image/jpeg
Raw File Name : DSC02975.ARW
Version : 9.12
Process Version : 6.7
Color Temperature : 4900
Tint : +11
Luminance Smoothing : 20
Color Noise Reduction : 25
Vignette Amount : -30
Vignette Midpoint : 30
Shadow Tint : +5
Red Hue : -36
Red Saturation : 0
Green Hue : +48
Green Saturation : 0
Blue Hue : -26
Blue Saturation : 0
Vibrance : +17
Hue Adjustment Red : 0
Hue Adjustment Orange : 0
Hue Adjustment Yellow : 0
Hue Adjustment Green : +62
Hue Adjustment Aqua : +11
Hue Adjustment Blue : +16
Hue Adjustment Purple : 0
Hue Adjustment Magenta : 0
Saturation Adjustment Red : 0
Saturation Adjustment Orange : 0
Saturation Adjustment Yellow : 0
Saturation Adjustment Green : -71
Saturation Adjustment Aqua : +4
Saturation Adjustment Blue : -7
Saturation Adjustment Purple : 0
Saturation Adjustment Magenta : 0
Luminance Adjustment Red : 0
Luminance Adjustment Orange : 0
Luminance Adjustment Yellow : 0
Luminance Adjustment Green : +53
Luminance Adjustment Aqua : -51
Luminance Adjustment Blue : -20
Luminance Adjustment Purple : 0
Luminance Adjustment Magenta : 0
Split Toning Shadow Hue : 239
Split Toning Shadow Saturation : 6
Split Toning Highlight Hue : 43
Split Toning Highlight Saturation : 5
Split Toning Balance : 0
Parametric Shadows : 0
Parametric Darks : -13
Parametric Lights : +7
Parametric Highlights : 0
Parametric Shadow Split : 25
Parametric Midtone Split : 50
Parametric Highlight Split : 75
Sharpen Radius : +1.0
Sharpen Detail : 25
Sharpen Edge Masking : 70
Post Crop Vignette Amount : 0
Grain Amount : 0
Luminance Noise Reduction Detail : 50
Color Noise Reduction Detail : 50
Luminance Noise Reduction Contrast : 0
Color Noise Reduction Smoothness : 50
Lens Profile Enable : 1
Lens Manual Distortion Amount : 0
Perspective Vertical : 0
Perspective Horizontal : 0
Perspective Rotate : 0.0
Perspective Scale : 100
Perspective Aspect : 0
Perspective Upright : Off
Perspective X : 0.00
Perspective Y : 0.00
Auto Lateral CA : 1
Exposure 2012 : +0.50
Contrast 2012 : +9
Highlights 2012 : 0
Shadows 2012 : +45
Whites 2012 : +15
Blacks 2012 : -6
Clarity 2012 : +10
Defringe Purple Amount : 1
Defringe Purple Hue Lo : 30
Defringe Purple Hue Hi : 70
Defringe Green Amount : 0
Defringe Green Hue Lo : 40
Defringe Green Hue Hi : 60
Dehaze : 0
Tone Map Strength : 0
Convert To Grayscale : False
Tone Curve Name : Medium Contrast
Tone Curve Name 2012 : Linear
Camera Profile : Standard
Lens Profile Setup : LensDefaults
Lens Profile Name : Adobe (Sony FE 85mm F1.8)
Lens Profile Filename : SONY (Sony FE 85mm F1.8) - RAW.lcp
Lens Profile Distortion Scale : 100
Lens Profile Chromatic Aberration Scale : 100
Lens Profile Vignetting Scale : 100
Has Settings : True
Crop Top : 0
Crop Left : 0
Crop Bottom : 1
Crop Right : 1
Crop Angle : 0
Crop Constrain To Warp : 0
Has Crop : True
Already Applied : True
Subject : 85mm, APSc, alpha, alphauniverse, asdgraphy, banting, beach, cosplay, dead, evening, f/1.8, female, forbidden, forest, girl, gothic, kelanang, klang, lady, malaysia, nature, outdoor, pantai, people, portrait, prime, project, remilia, sand, scarlet, sea, sel85f18, single, solo, sony, sonyalpha, sonyimages, sunset, touhou, tree, vampire, wood
Hierarchical Subject : 85mm, APSc, alpha, alphauniverse, asdgraphy, banting, beach, cosplay, dead, evening, f/1.8, female, forbidden, forest, girl, gothic, kelanang, klang, lady, malaysia, nature, outdoor, pantai, people, portrait, prime, project, remilia, sand, scarlet, sea, sel85f18, single, solo, sony, sonyalpha, sonyimages, sunset, touhou, tree, vampire, wood
Tone Curve : 0, 0, 32, 22, 64, 56, 128, 128, 192, 196, 255, 255
Tone Curve Red : 0, 0, 255, 255
Tone Curve Green : 0, 0, 255, 255
Tone Curve Blue : 0, 0, 255, 255
Tone Curve PV2012 : 0, 0, 255, 255
Tone Curve PV2012 Red : 0, 0, 255, 255
Tone Curve PV2012 Green : 0, 0, 255, 255
Tone Curve PV2012 Blue : 0, 0, 255, 255
Paint Correction What : Correction
Paint Correction Amount : 1.000000
Paint Correction Active : true
Paint Correction Exposure : 0.000000
Paint Correction Saturation : 0.300000
Paint Correction Contrast : 0.000000
Paint Correction Clarity : 0.000000
Paint Correction Sharpness : 0.250000
Paint Correction Brightness : 0.000000
Paint Correction Toning Hue : 240.000000
Paint Correction Toning Saturation : 0.000000
Paint Correction Exposure 2012 : 0.125000
Paint Correction Contrast 2012 : 0.400000
Paint Correction Highlights 2012 : 0.200000
Paint Correction Shadows 2012 : 0.000000
Paint Correction Whites 2012 : 0.000000
Paint Correction Blacks 2012 : 0.000000
Paint Correction Clarity 2012 : 0.100000
Paint Correction Dehaze : 0.000000
Paint Correction Luminance Noise : 0.000000
Paint Correction Moire : 0.000000
Paint Correction Defringe : 0.000000
Paint Correction Temperature : 0.000000
Paint Correction Tint : 0.000000
Paint Correction Mask What : Mask/Paint
Paint Correction Mask Value : 1.000000
Paint Correction Mask Radius : 0.036071
Paint Correction Mask Flow : 1.000000
Paint Correction Mask Center Weight : 0.160818
Image Width : 300
Image Height : 450
Bits Per Sample : 8
Color Components : 3
Aperture : 1.8
Image Size : 300x450
Megapixels : 0.135
Scale Factor To 35 mm Equivalent : 1.5
Shutter Speed : 1/1000
Circle Of Confusion : 0.020 mm
Field Of View : 16.1 deg
Focal Length : 85.0 mm (35 mm equivalent: 127.0 mm)
Hyperfocal Distance : 199.60 m
Light Value : 10.7
Lens ID : FE 85mm F1.8