Uber Exif Photo
By-line : Bertoncelj Sandi +38640844353
Make : Canon
Camera Model Name : Canon EOS 5D Mark III
Software : Adobe Photoshop Lightroom 5.0 (Windows)
Modify Date : 2016:02:03 15:07:19
Artist : Bertoncelj Sandi +38640844353
Exposure Time : 3.2
F Number : 9.0
Exposure Program : Aperture-priority AE
ISO : 100
Sensitivity Type : Recommended Exposure Index
Recommended Exposure Index : 100
Date/Time Original : 2015:12:12 08:11:00
Create Date : 2015:12:12 08:11:00
Shutter Speed Value : 3.2
Aperture Value : 9.0
Exposure Compensation : 0
Max Aperture Value : 4.0
Metering Mode : Center-weighted average
Flash : Off, Did not fire
Focal Length : 35.0 mm
Custom Rendered : Normal
Exposure Mode : Auto
White Balance : Auto
Scene Capture Type : Standard
Serial Number : 043023002986
Lens Info : 16-35mm f/?
Lens Model : EF16-35mm f/4L IS USM
Lens Serial Number : 2500003156
Profile Description : sRGB IEC61966-2.1
Creator Tool : Adobe Photoshop Lightroom 5.0 (Windows)
Format : image/jpeg
Lens : EF16-35mm f/4L IS USM
Image Number : 0
Approximate Focus Distance : 4294967295
Flash Compensation : 0
Firmware : 1.2.1
Date Created : 2015:12:12 08:11:00.00
Version : 8.1
Process Version : 6.7
Color Temperature : 7119
Tint : -3
Sharpness : 55
Luminance Smoothing : 73
Color Noise Reduction : 57
Vignette Amount : 0
Shadow Tint : 0
Red Hue : 0
Red Saturation : 0
Green Hue : 0
Green Saturation : 0
Blue Hue : 0
Blue Saturation : 0
Gray Mixer Red : -13
Gray Mixer Orange : -23
Gray Mixer Yellow : -28
Gray Mixer Green : -30
Gray Mixer Aqua : -14
Gray Mixer Blue : +23
Gray Mixer Purple : +25
Gray Mixer Magenta : +6
Split Toning Shadow Hue : 215
Split Toning Shadow Saturation : 0
Split Toning Highlight Hue : 37
Split Toning Highlight Saturation : 0
Split Toning Balance : 0
Parametric Shadows : +9
Parametric Darks : -44
Parametric Lights : +53
Parametric Highlights : +63
Parametric Shadow Split : 25
Parametric Midtone Split : 50
Parametric Highlight Split : 75
Sharpen Radius : +1.0
Sharpen Detail : 10
Sharpen Edge Masking : 0
Post Crop Vignette Amount : 0
Grain Amount : 0
Luminance Noise Reduction Detail : 15
Color Noise Reduction Detail : 21
Luminance Noise Reduction Contrast : 11
Lens Profile Enable : 1
Lens Manual Distortion Amount : 0
Perspective Vertical : 0
Perspective Horizontal : 0
Perspective Rotate : 0.0
Perspective Scale : 100
Perspective Aspect : 0
Perspective Upright : Off
Auto Lateral CA : 1
Exposure 2012 : +0.12
Contrast 2012 : +79
Highlights 2012 : +55
Shadows 2012 : +45
Whites 2012 : +45
Blacks 2012 : +69
Clarity 2012 : +55
Convert To Grayscale : True
Tone Curve Name 2012 : Linear
Camera Profile : Adobe Standard
Lens Profile Setup : Custom
Lens Profile Name : Adobe (Canon EF 16-35mm f/2.8 L II USM)
Lens Profile Filename : Canon EOS 5D Mark II (Canon EF 16-35mm f2.8 L II USM) - RAW.lcp
Lens Profile Distortion Scale : 100
Lens Profile Chromatic Aberration Scale : 100
Lens Profile Vignetting Scale : 100
Has Settings : True
Crop Top : 0.286535
Crop Left : 0.000438
Crop Bottom : 0.977694
Crop Right : 0.822823
Crop Angle : -1.047
Crop Constrain To Warp : 0
Has Crop : True
Already Applied : True
Creator : Bertoncelj Sandi +38640844353
Tone Curve PV2012 : 0, 0, 255, 255
Tone Curve PV2012 Red : 0, 0, 255, 255
Tone Curve PV2012 Green : 0, 0, 255, 255
Tone Curve PV2012 Blue : 0, 0, 255, 255
Gradient Based Corr What : Correction
Gradient Based Corr Amount : 1.000000
Gradient Based Corr Active : true
Gradient Based Corr Saturation : 0.000000
Gradient Based Corr Sharpness : 0.000000
Gradient Based Corr Brightness : 0.000000
Gradient Based Corr Toning Hue : 172.000000
Gradient Based Corr Toning Saturation : 0.000000
Gradient Based Corr Exposure 2012 : -0.095250
Gradient Based Corr Contrast 2012 : 0.000000
Gradient Based Corr Highlights 2012 : 0.000000
Gradient Based Corr Shadows 2012 : 0.000000
Gradient Based Corr Clarity 2012 : 0.000000
Gradient Based Corr Luminance Noise : 0.190480
Gradient Based Corr Moire : 0.000000
Gradient Based Corr Defringe : 0.000000
Gradient Based Corr Temperature : 0.047620
Gradient Based Corr Tint : 0.000000
Gradient Based Corr Mask What : Mask/Gradient
Gradient Based Corr Mask Value : 1.000000
Gradient Based Corr Mask Zero X : 0.473601
Gradient Based Corr Mask Zero Y : 0.344995
Gradient Based Corr Mask Full X : 0.473181
Gradient Based Corr Mask Full Y : 0.263643
Circ Grad Based Corr What : Correction
Circ Grad Based Corr Amount : 1.000000
Circ Grad Based Corr Active : true
Circ Grad Based Corr Saturation : 0.000000
Circ Grad Based Corr Sharpness : 0.000000
Circ Grad Based Corr Brightness : 0.000000
Circ Grad Based Corr Toning Hue : 172.000000
Circ Grad Based Corr Toning Saturation : 0.000000
Circ Grad Based Corr Exposure 2012 : 0.000000
Circ Grad Based Corr Contrast 2012 : -0.166670
Circ Grad Based Corr Highlights 2012 : 0.000000
Circ Grad Based Corr Shadows 2012 : 0.214290
Circ Grad Based Corr Clarity 2012 : 0.000000
Circ Grad Based Corr Luminance Noise : 0.190480
Circ Grad Based Corr Moire : 0.000000
Circ Grad Based Corr Defringe : 0.000000
Circ Grad Based Corr Temperature : 0.047620
Circ Grad Based Corr Tint : 0.000000
Circ Grad Based Corr Mask What : Mask/CircularGradient
Circ Grad Based Corr Mask Value : 1.000000
Circ Grad Based Corr Mask Top : 0.410432
Circ Grad Based Corr Mask Left : 0.583465
Circ Grad Based Corr Mask Bottom : 0.702120
Circ Grad Based Corr Mask Right : 0.783993
Circ Grad Based Corr Mask Angle : -1.047000
Circ Grad Based Corr Mask Midpoint : +50
Circ Grad Based Corr Mask Roundness : 0
Circ Grad Based Corr Mask Feather : +100
Circ Grad Based Corr Mask Flipped : true
Circ Grad Based Corr Mask Version : +2
Image Width : 308
Image Height : 183
Bits Per Sample : 8
Color Components : 3
Aperture : 9.0
Image Size : 308x183
Megapixels : 0.056
Scale Factor To 35 mm Equivalent : 19.3
Shutter Speed : 3.2
Create Date : 2015:12:12 08:11:00.00
Date/Time Original : 2015:12:12 08:11:00.00
Circle Of Confusion : 0.002 mm
Depth Of Field : inf (87.53 m - inf)
Field Of View : 3.0 deg
Focal Length : 35.0 mm (35 mm equivalent: 676.3 mm)
Hyperfocal Distance : 87.53 m
Light Value : 4.7
Lens ID : Canon EF 16-35mm f/4L IS USM