Uber Exif Photo
By-line : Bertoncelj Sandi +38640844353
Make : Canon
Camera Model Name : Canon EOS 5D Mark III
Software : Adobe Photoshop Lightroom 5.0 (Windows)
Modify Date : 2016:11:02 08:25:31
Artist : Bertoncelj Sandi +38640844353
Exposure Time : 1/200
F Number : 9.0
Exposure Program : Aperture-priority AE
ISO : 100
Sensitivity Type : Recommended Exposure Index
Recommended Exposure Index : 100
Date/Time Original : 2016:11:01 08:48:30
Create Date : 2016:11:01 08:48:30
Shutter Speed Value : 1/200
Aperture Value : 9.0
Exposure Compensation : 0
Max Aperture Value : 4.0
Metering Mode : Multi-segment
Flash : Off, Did not fire
Focal Length : 280.0 mm
Custom Rendered : Normal
Exposure Mode : Auto
White Balance : Auto
Scene Capture Type : Standard
Serial Number : 043023002986
Lens Info : 98-280mm f/?
Lens Model : EF70-200mm f/2.8L IS USM +1.4x
Lens Serial Number : 0000000000
Profile Description : sRGB IEC61966-2.1
Rating : 5
Creator Tool : Adobe Photoshop Lightroom 5.0 (Windows)
Format : image/jpeg
Lens : EF70-200mm f/2.8L IS USM +1.4x
Image Number : 0
Approximate Focus Distance : 4294967295
Flash Compensation : 0
Firmware : 1.2.1
Date Created : 2016:11:01 08:48:30.00
Version : 8.1
Process Version : 6.7
Color Temperature : 6200
Tint : +15
Sharpness : 77
Luminance Smoothing : 37
Color Noise Reduction : 44
Vignette Amount : 0
Shadow Tint : 0
Red Hue : 0
Red Saturation : 0
Green Hue : 0
Green Saturation : 0
Blue Hue : 0
Blue Saturation : 0
Gray Mixer Red : -7
Gray Mixer Orange : -36
Gray Mixer Yellow : -47
Gray Mixer Green : -13
Gray Mixer Aqua : -20
Gray Mixer Blue : -57
Gray Mixer Purple : +13
Gray Mixer Magenta : +4
Split Toning Shadow Hue : 0
Split Toning Shadow Saturation : 0
Split Toning Highlight Hue : 0
Split Toning Highlight Saturation : 0
Split Toning Balance : 0
Parametric Shadows : -39
Parametric Darks : +9
Parametric Lights : +58
Parametric Highlights : -37
Parametric Shadow Split : 25
Parametric Midtone Split : 50
Parametric Highlight Split : 75
Sharpen Radius : +1.0
Sharpen Detail : 13
Sharpen Edge Masking : 0
Post Crop Vignette Amount : -2
Post Crop Vignette Midpoint : 50
Post Crop Vignette Feather : 50
Post Crop Vignette Roundness : 0
Post Crop Vignette Style : Highlight Priority
Post Crop Vignette Highlight Contrast : 0
Grain Amount : 0
Luminance Noise Reduction Detail : 18
Color Noise Reduction Detail : 12
Luminance Noise Reduction Contrast : 6
Lens Profile Enable : 1
Lens Manual Distortion Amount : 0
Perspective Vertical : 0
Perspective Horizontal : 0
Perspective Rotate : 0.0
Perspective Scale : 100
Perspective Aspect : 0
Perspective Upright : Off
Auto Lateral CA : 1
Exposure 2012 : -0.48
Contrast 2012 : +50
Highlights 2012 : +60
Shadows 2012 : +39
Whites 2012 : +38
Blacks 2012 : -18
Clarity 2012 : +69
Convert To Grayscale : True
Tone Curve Name 2012 : Linear
Camera Profile : Adobe Standard
Lens Profile Setup : Custom
Lens Profile Name : Adobe (Canon PowerShot G1 X)
Lens Profile Filename : Canon PowerShot G1 X - RAW.lcp
Lens Profile Distortion Scale : 100
Lens Profile Chromatic Aberration Scale : 100
Lens Profile Vignetting Scale : 100
Has Settings : True
Crop Top : 0.038416
Crop Left : 0.0192
Crop Bottom : 1
Crop Right : 1
Crop Angle : 0
Crop Constrain To Warp : 0
Has Crop : True
Already Applied : True
Creator : Bertoncelj Sandi +38640844353
Tone Curve PV2012 : 0, 0, 255, 255
Tone Curve PV2012 Red : 0, 0, 255, 255
Tone Curve PV2012 Green : 0, 0, 255, 255
Tone Curve PV2012 Blue : 0, 0, 255, 255
Gradient Based Corr What : Correction
Gradient Based Corr Amount : 1.000000
Gradient Based Corr Active : true
Gradient Based Corr Saturation : 0.000000
Gradient Based Corr Sharpness : 0.000000
Gradient Based Corr Brightness : 0.000000
Gradient Based Corr Toning Hue : 263.000000
Gradient Based Corr Toning Saturation : 0.000000
Gradient Based Corr Exposure 2012 : -0.047500
Gradient Based Corr Contrast 2012 : -0.071430
Gradient Based Corr Highlights 2012 : -0.738100
Gradient Based Corr Shadows 2012 : -0.190480
Gradient Based Corr Clarity 2012 : 0.000000
Gradient Based Corr Luminance Noise : 0.000000
Gradient Based Corr Moire : 0.000000
Gradient Based Corr Defringe : 0.000000
Gradient Based Corr Temperature : 0.000000
Gradient Based Corr Tint : 0.000000
Gradient Based Corr Mask What : Mask/Gradient
Gradient Based Corr Mask Value : 1.000000
Gradient Based Corr Mask Zero X : 0.380546
Gradient Based Corr Mask Zero Y : 0.582430
Gradient Based Corr Mask Full X : 0.146011
Gradient Based Corr Mask Full Y : 0.583599
Circ Grad Based Corr What : Correction
Circ Grad Based Corr Amount : 1.000000
Circ Grad Based Corr Active : true
Circ Grad Based Corr Saturation : 0.000000
Circ Grad Based Corr Sharpness : 0.000000
Circ Grad Based Corr Brightness : 0.000000
Circ Grad Based Corr Toning Hue : 263.000000
Circ Grad Based Corr Toning Saturation : 0.000000
Circ Grad Based Corr Exposure 2012 : 0.023750
Circ Grad Based Corr Contrast 2012 : 0.119050
Circ Grad Based Corr Highlights 2012 : 0.119050
Circ Grad Based Corr Shadows 2012 : -0.095240
Circ Grad Based Corr Clarity 2012 : 0.476190
Circ Grad Based Corr Luminance Noise : 0.000000
Circ Grad Based Corr Moire : 0.000000
Circ Grad Based Corr Defringe : 0.000000
Circ Grad Based Corr Temperature : 0.000000
Circ Grad Based Corr Tint : 0.000000
Circ Grad Based Corr Mask What : Mask/CircularGradient
Circ Grad Based Corr Mask Value : 1.000000
Circ Grad Based Corr Mask Top : 0.434363
Circ Grad Based Corr Mask Left : 0.776741
Circ Grad Based Corr Mask Bottom : 0.478229
Circ Grad Based Corr Mask Right : 0.952269
Circ Grad Based Corr Mask Angle : 0.000000
Circ Grad Based Corr Mask Midpoint : +50
Circ Grad Based Corr Mask Roundness : 0
Circ Grad Based Corr Mask Feather : +50
Circ Grad Based Corr Mask Flipped : true
Circ Grad Based Corr Mask Version : +2
Image Width : 308
Image Height : 204
Bits Per Sample : 8
Color Components : 3
Aperture : 9.0
Image Size : 308x204
Megapixels : 0.063
Scale Factor To 35 mm Equivalent : 18.7
Shutter Speed : 1/200
Create Date : 2016:11:01 08:48:30.00
Date/Time Original : 2016:11:01 08:48:30.00
Circle Of Confusion : 0.002 mm
Depth Of Field : inf (5432.77 m - inf)
Field Of View : 0.4 deg
Focal Length : 280.0 mm (35 mm equivalent: 5246.8 mm)
Hyperfocal Distance : 5432.77 m
Light Value : 14.0
Lens ID : Canon EF 70-200mm f/2.8L IS USM + 1.4x