Uber Exif Photo
Keywords : Asia, Myanmar, Azie, Travel, Mya Thein Tan Pagoda, Pagoda, monk, white, red, man, Birma, temple, people
By-line : Jeroen Florijn
By-line Title : Photographer
Province-State : Sagaing Region
Country-Primary Location Code : MM
Country-Primary Location Name : Myanmar (Birma)
Copyright Notice : www.jeroenflorijn.com
Caption-Abstract : Monk walking on the white walls of the Mya Thein Tan Pagoda, Myanmar.
Image Description : Monk walking on the white walls of the Mya Thein Tan Pagoda, Myanmar.
Make : Canon
Camera Model Name : Canon EOS 5D Mark III
Software : Capture One 11 Macintosh
Modify Date : 2017:12:28 18:58:07
Artist : Jeroen Florijn
Copyright : www.jeroenflorijn.com
Exposure Time : 1/640
F Number : 11.0
Exposure Program : Aperture-priority AE
ISO : 100
Sensitivity Type : Recommended Exposure Index
Recommended Exposure Index : 100
Date/Time Original : 2017:10:21 06:33:16
Create Date : 2017:10:21 06:33:16
Shutter Speed Value : 1/640
Aperture Value : 11.0
Exposure Compensation : 0
Max Aperture Value : 2.0
Subject Distance : 0 m
Metering Mode : Multi-segment
Flash : No Flash
Focal Length : 135.0 mm
Exif Image Width : 2048
Exif Image Height : 1365
Scene Type : Directly photographed
Custom Rendered : Normal
Exposure Mode : Auto
White Balance : Auto
Scene Capture Type : Standard
Serial Number : 043023010559
Lens Info : 135mm f/?
Lens Model : Zeiss Apo Sonnar T* 2/135 ZE
Lens Serial Number : 0000000000
Profile Description : sRGB IEC61966-2.1
Creator Tool : Capture One 11 Macintosh
Format : image/x-canon-cr2
Lens : Zeiss Apo Sonnar T* 2/135 ZE
Image Number : 0
Flash Compensation : 0
Firmware : 1.3.3
Date Created : 2017:10:21 06:33:16.19
Sidecar For Extension : CR2
City : Min Kun
State : Sagaing Region
Country : Myanmar (Birma)
Category : people
Authors Position : Photographer
Country Code : MM
Version : 9.0
Process Version : 6.7
Auto White Version : 134348800
Color Temperature : 5000
Tint : +10
Saturation : 0
Sharpness : 50
Luminance Smoothing : 0
Color Noise Reduction : 25
Vignette Amount : 0
Shadow Tint : 0
Red Hue : 0
Red Saturation : 0
Green Hue : 0
Green Saturation : 0
Blue Hue : 0
Blue Saturation : 0
Vibrance : 0
Hue Adjustment Red : -7
Hue Adjustment Orange : 0
Hue Adjustment Yellow : 0
Hue Adjustment Green : 0
Hue Adjustment Aqua : 0
Hue Adjustment Blue : 0
Hue Adjustment Purple : 0
Hue Adjustment Magenta : 0
Saturation Adjustment Red : +9
Saturation Adjustment Orange : +9
Saturation Adjustment Yellow : 0
Saturation Adjustment Green : 0
Saturation Adjustment Aqua : 0
Saturation Adjustment Blue : 0
Saturation Adjustment Purple : 0
Saturation Adjustment Magenta : 0
Luminance Adjustment Red : 0
Luminance Adjustment Orange : 0
Luminance Adjustment Yellow : 0
Luminance Adjustment Green : 0
Luminance Adjustment Aqua : 0
Luminance Adjustment Blue : 0
Luminance Adjustment Purple : 0
Luminance Adjustment Magenta : 0
Split Toning Shadow Hue : 0
Split Toning Shadow Saturation : 0
Split Toning Highlight Hue : 0
Split Toning Highlight Saturation : 0
Split Toning Balance : 0
Parametric Shadows : 0
Parametric Darks : -2
Parametric Lights : +9
Parametric Highlights : 0
Parametric Shadow Split : 25
Parametric Midtone Split : 50
Parametric Highlight Split : 75
Sharpen Radius : +0.8
Sharpen Detail : 70
Sharpen Edge Masking : 30
Post Crop Vignette Amount : 0
Grain Amount : 0
Color Noise Reduction Detail : 50
Color Noise Reduction Smoothness : 50
Lens Profile Enable : 1
Lens Manual Distortion Amount : 0
Perspective Vertical : 0
Perspective Horizontal : 0
Perspective Rotate : 0.0
Perspective Scale : 100
Perspective Aspect : 0
Perspective Upright : Off
Auto Lateral CA : 0
Exposure 2012 : +0.75
Contrast 2012 : +7
Highlights 2012 : -15
Shadows 2012 : +14
Whites 2012 : +27
Blacks 2012 : -3
Clarity 2012 : +21
Defringe Purple Amount : 0
Defringe Purple Hue Lo : 30
Defringe Purple Hue Hi : 70
Defringe Green Amount : 0
Defringe Green Hue Lo : 40
Defringe Green Hue Hi : 60
Convert To Grayscale : False
Tone Curve Name : Medium Contrast
Tone Curve Name 2012 : Linear
Camera Profile : Canon EOS 5D Mark III
Lens Profile Setup : LensDefaults
Lens Profile Name : Adobe (Zeiss Apo Sonnar T* 2/135 ZE)
Lens Profile Filename : Canon (Zeiss Apo Sonnar T 135 f2 ZE) - RAW.lcp
Lens Profile Distortion Scale : 100
Lens Profile Chromatic Aberration Scale : 100
Lens Profile Vignetting Scale : 100
Has Settings : True
Crop Top : 0.019831
Crop Left : 0.005509
Crop Bottom : 0.980169
Crop Right : 0.994491
Crop Angle : -0.772762
Crop Constrain To Warp : 0
Has Crop : True
Already Applied : False
Raw File Name : 20171021-_B9A5075.cr2
Description : Monk walking on the white walls of the Mya Thein Tan Pagoda, Myanmar.
Rights : www.jeroenflorijn.com
Creator : Jeroen Florijn
Subject : Asia, Myanmar, Azie, Travel, Mya Thein Tan Pagoda, Pagoda, monk, white, red, man, Birma, temple, people
Creator Work Email : jeroen.anita@ziggo.nl
Creator Work URL : jeroenflorijn.nl
Creator Country : Netherlands
Tone Curve : 0, 0, 32, 22, 64, 56, 128, 128, 192, 196, 255, 255
Tone Curve Red : 0, 0, 255, 255
Tone Curve Green : 0, 0, 255, 255
Tone Curve Blue : 0, 0, 255, 255
Tone Curve PV2012 : 0, 0, 255, 255
Tone Curve PV2012 Red : 0, 0, 255, 255
Tone Curve PV2012 Green : 0, 0, 255, 255
Tone Curve PV2012 Blue : 0, 0, 255, 255
Paint Correction What : Correction
Paint Correction Amount : 1.000000
Paint Correction Active : true
Paint Correction Exposure : 0.000000
Paint Correction Saturation : 0.000000
Paint Correction Contrast : 0.000000
Paint Correction Clarity : 0.000000
Paint Correction Sharpness : 0.000000
Paint Correction Brightness : 0.000000
Paint Correction Toning Hue : 240.000000
Paint Correction Toning Saturation : 0.000000
Paint Correction Exposure 2012 : 0.050000
Paint Correction Contrast 2012 : 0.000000
Paint Correction Highlights 2012 : -0.200000
Paint Correction Shadows 2012 : 0.080000
Paint Correction Clarity 2012 : 0.000000
Paint Correction Luminance Noise : 0.000000
Paint Correction Moire : 0.000000
Paint Correction Defringe : 0.000000
Paint Correction Temperature : 0.000000
Paint Correction Tint : 0.000000
Paint Correction Mask What : Mask/Paint
Paint Correction Mask Value : 1.000000
Paint Correction Mask Radius : 0.014155
Paint Correction Mask Flow : 0.423225
Paint Correction Mask Center Weight : 0.045734
Hierarchical Subject : Asia, Asia|Myanmar, Azie, Travel, Mya Thein Tan Pagoda, Pagoda, monk, white, red, man, Birma, temple, people
Image Width : 300
Image Height : 200
Bits Per Sample : 8
Color Components : 3
Aperture : 11.0
Image Size : 300x200
Megapixels : 0.060
Scale Factor To 35 mm Equivalent : 2.8
Shutter Speed : 1/640
Create Date : 2017:10:21 06:33:16.19
Date/Time Original : 2017:10:21 06:33:16.19
Circle Of Confusion : 0.011 mm
Field Of View : 5.4 deg
Focal Length : 135.0 mm (35 mm equivalent: 379.7 mm)
Hyperfocal Distance : 155.10 m
Light Value : 16.2
Lens ID : Carl Zeiss Apo-Sonnar T* 135mm f/2 ZE