Uber Exif Photo
Make : Canon
Camera Model Name : Canon EOS 5D Mark III
Software : Capture One 11 Macintosh
Modify Date : 2017:12:28 18:58:07
Artist : Jeroen Florijn
Copyright : www.jeroenflorijn.com
Exposure Time : 1/10
F Number : 5.6
Exposure Program : Aperture-priority AE
ISO : 100
Sensitivity Type : Recommended Exposure Index
Recommended Exposure Index : 100
Date/Time Original : 2017:10:14 10:43:49
Create Date : 2017:10:14 10:43:49
Shutter Speed Value : 1/10
Aperture Value : 5.6
Exposure Compensation : 0
Max Aperture Value : 1.4
Subject Distance : 0 m
Metering Mode : Multi-segment
Flash : No Flash
Focal Length : 35.0 mm
Exif Image Width : 2048
Exif Image Height : 1374
Scene Type : Directly photographed
Custom Rendered : Normal
Exposure Mode : Auto
White Balance : Auto
Scene Capture Type : Standard
Serial Number : 043023010559
Lens Info : 35mm f/?
Lens Model : Zeiss Distagon T* 35mm f/1.4 ZE
Lens Serial Number : 0000000000
Profile Description : sRGB IEC61966-2.1
Creator Tool : Capture One 11 Macintosh
Lens : Zeiss Distagon T* 35mm f/1.4 ZE
Flash Compensation : 0
Firmware : Firmware Version 1.3.3
Image Number : 0
Date Created : 2017:10:14 10:43:49.24
Sidecar For Extension : CR2
City : Bago
State : Bago Region
Country : Myanmar (Birma)
Authors Position : Photographer
Format : image/x-canon-cr2
Country Code : MM
Version : 9.0
Process Version : 6.7
Auto White Version : 134348800
Color Temperature : 4649
Tint : 0
Saturation : 0
Sharpness : 50
Luminance Smoothing : 0
Color Noise Reduction : 25
Vignette Amount : 0
Shadow Tint : 0
Red Hue : 0
Red Saturation : 0
Green Hue : 0
Green Saturation : 0
Blue Hue : 0
Blue Saturation : 0
Vibrance : +7
Hue Adjustment Red : 0
Hue Adjustment Orange : 0
Hue Adjustment Yellow : 0
Hue Adjustment Green : 0
Hue Adjustment Aqua : 0
Hue Adjustment Blue : 0
Hue Adjustment Purple : 0
Hue Adjustment Magenta : 0
Saturation Adjustment Red : 0
Saturation Adjustment Orange : 0
Saturation Adjustment Yellow : 0
Saturation Adjustment Green : 0
Saturation Adjustment Aqua : 0
Saturation Adjustment Blue : 0
Saturation Adjustment Purple : 0
Saturation Adjustment Magenta : 0
Luminance Adjustment Red : 0
Luminance Adjustment Orange : 0
Luminance Adjustment Yellow : 0
Luminance Adjustment Green : 0
Luminance Adjustment Aqua : 0
Luminance Adjustment Blue : 0
Luminance Adjustment Purple : 0
Luminance Adjustment Magenta : 0
Split Toning Shadow Hue : 0
Split Toning Shadow Saturation : 0
Split Toning Highlight Hue : 0
Split Toning Highlight Saturation : 0
Split Toning Balance : 0
Parametric Shadows : 0
Parametric Darks : -8
Parametric Lights : +10
Parametric Highlights : 0
Parametric Shadow Split : 25
Parametric Midtone Split : 50
Parametric Highlight Split : 75
Sharpen Radius : +0.8
Sharpen Detail : 70
Sharpen Edge Masking : 30
Post Crop Vignette Amount : 0
Grain Amount : 0
Color Noise Reduction Detail : 50
Color Noise Reduction Smoothness : 50
Lens Profile Enable : 1
Lens Manual Distortion Amount : 0
Perspective Vertical : 0
Perspective Horizontal : 0
Perspective Rotate : 0.0
Perspective Scale : 100
Perspective Aspect : 0
Perspective Upright : Off
Auto Lateral CA : 0
Exposure 2012 : 0.00
Contrast 2012 : +5
Highlights 2012 : -6
Shadows 2012 : +22
Whites 2012 : +19
Blacks 2012 : 0
Clarity 2012 : +21
Defringe Purple Amount : 0
Defringe Purple Hue Lo : 30
Defringe Purple Hue Hi : 70
Defringe Green Amount : 0
Defringe Green Hue Lo : 40
Defringe Green Hue Hi : 60
Convert To Grayscale : False
Tone Curve Name : Medium Contrast
Tone Curve Name 2012 : Linear
Camera Profile : Canon EOS 5D Mark III
Lens Profile Setup : LensDefaults
Lens Profile Name : Adobe (Zeiss Distagon T* 1,4/35 ZE)
Lens Profile Filename : Canon (Zeiss Distagon T 35 f14 ZE) - RAW.lcp
Lens Profile Distortion Scale : 100
Lens Profile Chromatic Aberration Scale : 100
Lens Profile Vignetting Scale : 100
Has Settings : True
Already Applied : False
Raw File Name : 20171014-_B9A4622.cr2
Rights : www.jeroenflorijn.com
Creator : Jeroen Florijn
Subject : Asia, Myanmar, Azie, Travel, train, woman, schild
Creator Work Email : jeroen.anita@ziggo.nl
Creator Work URL : jeroenflorijn.nl
Creator Country : Netherlands
Tone Curve : 0, 0, 32, 22, 64, 56, 128, 128, 192, 196, 255, 255
Tone Curve Red : 0, 0, 255, 255
Tone Curve Green : 0, 0, 255, 255
Tone Curve Blue : 0, 0, 255, 255
Tone Curve PV2012 : 0, 0, 255, 255
Tone Curve PV2012 Red : 0, 0, 255, 255
Tone Curve PV2012 Green : 0, 0, 255, 255
Tone Curve PV2012 Blue : 0, 0, 255, 255
Circ Grad Based Corr What : Correction
Circ Grad Based Corr Amount : 1.000000
Circ Grad Based Corr Active : true
Circ Grad Based Corr Exposure : 0.000000
Circ Grad Based Corr Saturation : 0.000000
Circ Grad Based Corr Contrast : 0.000000
Circ Grad Based Corr Clarity : 0.000000
Circ Grad Based Corr Sharpness : 0.196699
Circ Grad Based Corr Brightness : 0.000000
Circ Grad Based Corr Toning Hue : 240.000000
Circ Grad Based Corr Toning Saturation : 0.000000
Circ Grad Based Corr Exposure 2012 : 0.000000
Circ Grad Based Corr Contrast 2012 : 0.000000
Circ Grad Based Corr Highlights 2012 : 0.000000
Circ Grad Based Corr Shadows 2012 : 0.059033
Circ Grad Based Corr Clarity 2012 : 0.110808
Circ Grad Based Corr Luminance Noise : 0.000000
Circ Grad Based Corr Moire : 0.000000
Circ Grad Based Corr Defringe : 0.000000
Circ Grad Based Corr Temperature : 0.000000
Circ Grad Based Corr Tint : 0.000000
Circ Grad Based Corr Mask What : Mask/CircularGradient
Circ Grad Based Corr Mask Value : 1.000000
Circ Grad Based Corr Mask Top : 0.297321
Circ Grad Based Corr Mask Left : 0.496377
Circ Grad Based Corr Mask Bottom : 0.312973
Circ Grad Based Corr Mask Right : 0.518574
Circ Grad Based Corr Mask Angle : 0.000000
Circ Grad Based Corr Mask Midpoint : +50
Circ Grad Based Corr Mask Roundness : 0
Circ Grad Based Corr Mask Feather : +50
Circ Grad Based Corr Mask Flipped : true
Circ Grad Based Corr Mask Version : +2
Region Applied To Dimensions W : 5760
Region Applied To Dimensions H : 3840
Region Applied To Dimensions Unit : pixel
Region Rotation : 0.01135, -0.04685, 0.00000, 0.23000
Region Type : Face, Face, Face, Face
Region Area H : 0.13411, 0.09804, 0.11570, 0.27425
Region Area W : 0.08932, 0.06529, 0.07706, 0.18265
Region Area X : 0.40139, 0.44077, 0.49036, 0.09188
Region Area Y : 0.31776, 0.47191, 0.30814, 0.69213
Hierarchical Subject : Asia, Asia|Myanmar, Azie, Travel, train, woman, schild
Image Width : 300
Image Height : 201
Bits Per Sample : 8
Color Components : 3
Aperture : 5.6
Image Size : 300x201
Megapixels : 0.060
Scale Factor To 35 mm Equivalent : 2.7
Shutter Speed : 1/10
Create Date : 2017:10:14 10:43:49.24
Date/Time Original : 2017:10:14 10:43:49.24
Circle Of Confusion : 0.011 mm
Field Of View : 21.4 deg
Focal Length : 35.0 mm (35 mm equivalent: 95.4 mm)
Hyperfocal Distance : 19.84 m
Light Value : 8.3
Lens ID : Carl Zeiss Distagon T* 35mm f/1.4 ZE