Uber Exif Photo
Keywords : 11-16mm, alpha, alphauniverse, asdgraphy, asia, classic, costume, f/2.8, female, gate, girl, hakone, holiday, japan, kimono, lady, minami, people, portrait, shrine, sony, sonyalpha, sonyimages, sonyphotography, tokina, torii, traditional, travel, trip, ultrawide, vintage, viv, vivi, winter, woman
Photometric Interpretation : RGB
Make : SONY
Camera Model Name : ILCE-6000
Orientation : Horizontal (normal)
Samples Per Pixel : 3
Planar Configuration : Chunky
Software : Adobe Photoshop CC 2014 (Windows)
Modify Date : 2018:02:15 09:44:54
Exposure Time : 1/750
F Number : 2.8
Exposure Program : Manual
ISO : 100
Sensitivity Type : Recommended Exposure Index
Recommended Exposure Index : 100
Date/Time Original : 2018:01:04 13:59:08
Create Date : 2018:01:04 13:59:08
Shutter Speed Value : 1/750
Aperture Value : 2.8
Brightness Value : 9.31015625
Exposure Compensation : 0
Max Aperture Value : 2.8
Metering Mode : Center-weighted average
Light Source : Shade
Flash : Off, Did not fire
Focal Length : 16.0 mm
Color Space : sRGB
Exif Image Width : 1920
Exif Image Height : 1280
Scene Type : Directly photographed
Custom Rendered : Normal
Exposure Mode : Manual
White Balance : Manual
Digital Zoom Ratio : 1
Focal Length In 35mm Format : 24 mm
Scene Capture Type : Standard
Contrast : Normal
Saturation : Normal
Sharpness : Normal
Lens Info : 20mm f/2.8
Lens Model : 20mm F2.8
Rating : 0
Label :
Creator Tool : Adobe Photoshop CC 2014 (Windows)
Lens : 20mm F2.8
Distortion Correction Already Applied : True
Lateral Chromatic Aberration Correction Already Applied:
True
Vignette Correction Already Applied : True
Date Created : 2018:01:04 13:59:08
Color Mode : RGB
ICC Profile Name : sRGB IEC61966-2.1
Format : image/jpeg
Raw File Name : DSC00972.ARW
Version : 9.12
Process Version : 6.7
Color Temperature : 6700
Tint : +12
Luminance Smoothing : 20
Color Noise Reduction : 25
Vignette Amount : 0
Shadow Tint : 0
Red Hue : 0
Red Saturation : 0
Green Hue : 0
Green Saturation : 0
Blue Hue : 0
Blue Saturation : 0
Vibrance : 0
Hue Adjustment Red : -11
Hue Adjustment Orange : -9
Hue Adjustment Yellow : +16
Hue Adjustment Green : 0
Hue Adjustment Aqua : 0
Hue Adjustment Blue : 0
Hue Adjustment Purple : 0
Hue Adjustment Magenta : 0
Saturation Adjustment Red : 0
Saturation Adjustment Orange : 0
Saturation Adjustment Yellow : -62
Saturation Adjustment Green : -62
Saturation Adjustment Aqua : -38
Saturation Adjustment Blue : -36
Saturation Adjustment Purple : -47
Saturation Adjustment Magenta : -38
Luminance Adjustment Red : +9
Luminance Adjustment Orange : 0
Luminance Adjustment Yellow : -42
Luminance Adjustment Green : -20
Luminance Adjustment Aqua : -42
Luminance Adjustment Blue : -24
Luminance Adjustment Purple : -31
Luminance Adjustment Magenta : -27
Split Toning Shadow Hue : 236
Split Toning Shadow Saturation : 36
Split Toning Highlight Hue : 43
Split Toning Highlight Saturation : 6
Split Toning Balance : 0
Parametric Shadows : 0
Parametric Darks : -9
Parametric Lights : +11
Parametric Highlights : 0
Parametric Shadow Split : 25
Parametric Midtone Split : 50
Parametric Highlight Split : 75
Sharpen Radius : +1.0
Sharpen Detail : 25
Sharpen Edge Masking : 70
Post Crop Vignette Amount : 0
Grain Amount : 0
Luminance Noise Reduction Detail : 50
Color Noise Reduction Detail : 50
Luminance Noise Reduction Contrast : 0
Color Noise Reduction Smoothness : 50
Lens Profile Enable : 1
Lens Manual Distortion Amount : 0
Perspective Vertical : 0
Perspective Horizontal : 0
Perspective Rotate : 0.0
Perspective Scale : 100
Perspective Aspect : 0
Perspective Upright : Off
Perspective X : 0.00
Perspective Y : 0.00
Auto Lateral CA : 1
Exposure 2012 : +0.50
Contrast 2012 : -11
Highlights 2012 : -60
Shadows 2012 : +21
Whites 2012 : +8
Blacks 2012 : -42
Clarity 2012 : -5
Defringe Purple Amount : 1
Defringe Purple Hue Lo : 30
Defringe Purple Hue Hi : 70
Defringe Green Amount : 0
Defringe Green Hue Lo : 40
Defringe Green Hue Hi : 60
Dehaze : 0
Tone Map Strength : 0
Convert To Grayscale : False
Tone Curve Name : Medium Contrast
Tone Curve Name 2012 : Custom
Camera Profile : Standard
Lens Profile Setup : LensDefaults
Lens Profile Name : Adobe (Sony 20mm F2.8)
Lens Profile Filename : SONY (Sony 20mm F2.8) - RAW.lcp
Lens Profile Distortion Scale : 100
Lens Profile Chromatic Aberration Scale : 100
Lens Profile Vignetting Scale : 100
Has Settings : True
Crop Top : 0.018414
Crop Left : 0.005115
Crop Bottom : 0.981586
Crop Right : 0.994885
Crop Angle : -0.716528
Crop Constrain To Warp : 0
Has Crop : True
Already Applied : True
Subject : 11-16mm, alpha, alphauniverse, asdgraphy, asia, classic, costume, f/2.8, female, gate, girl, hakone, holiday, japan, kimono, lady, minami, people, portrait, shrine, sony, sonyalpha, sonyimages, sonyphotography, tokina, torii, traditional, travel, trip, ultrawide, vintage, viv, vivi, winter, woman
Hierarchical Subject : 11-16mm, alpha, alphauniverse, asdgraphy, asia, classic, costume, f/2.8, female, gate, girl, hakone, holiday, japan, kimono, lady, minami, people, portrait, shrine, sony, sonyalpha, sonyimages, sonyphotography, tokina, torii, traditional, travel, trip, ultrawide, vintage, viv, vivi, winter, woman
Tone Curve : 0, 0, 32, 22, 64, 56, 128, 128, 192, 196, 255, 255
Tone Curve Red : 0, 0, 255, 255
Tone Curve Green : 0, 0, 255, 255
Tone Curve Blue : 0, 0, 255, 255
Tone Curve PV2012 : 0, 23, 255, 255
Tone Curve PV2012 Red : 0, 0, 255, 255
Tone Curve PV2012 Green : 0, 0, 255, 255
Tone Curve PV2012 Blue : 0, 0, 255, 255
Paint Correction What : Correction
Paint Correction Amount : 1.000000
Paint Correction Active : true
Paint Correction Exposure : 0.000000
Paint Correction Saturation : 0.000000
Paint Correction Contrast : 0.000000
Paint Correction Clarity : 0.000000
Paint Correction Sharpness : 0.000000
Paint Correction Brightness : 0.000000
Paint Correction Toning Hue : 240.000000
Paint Correction Toning Saturation : 0.000000
Paint Correction Exposure 2012 : 0.000000
Paint Correction Contrast 2012 : 0.000000
Paint Correction Highlights 2012 : 0.000000
Paint Correction Shadows 2012 : 0.000000
Paint Correction Whites 2012 : 0.000000
Paint Correction Blacks 2012 : 0.000000
Paint Correction Clarity 2012 : 0.000000
Paint Correction Dehaze : 0.000000
Paint Correction Luminance Noise : 0.000000
Paint Correction Moire : 0.000000
Paint Correction Defringe : 0.000000
Paint Correction Temperature : 0.000000
Paint Correction Tint : -0.070450
Paint Correction Mask What : Mask/Paint
Paint Correction Mask Value : 1.000000
Paint Correction Mask Radius : 0.074476
Paint Correction Mask Flow : 1.000000
Paint Correction Mask Center Weight : 0.160818
Gradient Based Corr What : Correction
Gradient Based Corr Amount : 1.000000
Gradient Based Corr Active : true
Gradient Based Corr Exposure : 0.000000
Gradient Based Corr Saturation : 0.000000
Gradient Based Corr Contrast : 0.000000
Gradient Based Corr Clarity : 0.000000
Gradient Based Corr Sharpness : 0.000000
Gradient Based Corr Brightness : 0.000000
Gradient Based Corr Toning Hue : 240.000000
Gradient Based Corr Toning Saturation : 0.000000
Gradient Based Corr Exposure 2012 : 0.000000
Gradient Based Corr Contrast 2012 : 0.000000
Gradient Based Corr Highlights 2012 : 0.000000
Gradient Based Corr Shadows 2012 : 0.000000
Gradient Based Corr Whites 2012 : 0.000000
Gradient Based Corr Blacks 2012 : 0.000000
Gradient Based Corr Clarity 2012 : 0.000000
Gradient Based Corr Dehaze : 0.000000
Gradient Based Corr Luminance Noise : 0.000000
Gradient Based Corr Moire : 0.000000
Gradient Based Corr Defringe : 0.000000
Gradient Based Corr Temperature : -0.029970
Gradient Based Corr Tint : -0.057470
Gradient Based Corr Mask What : Mask/Gradient
Gradient Based Corr Mask Value : 1.000000
Gradient Based Corr Mask Zero X : 0.395509
Gradient Based Corr Mask Zero Y : 0.521944
Gradient Based Corr Mask Full X : 0.390459
Gradient Based Corr Mask Full Y : 0.615193
Image Width : 300
Image Height : 200
Bits Per Sample : 8
Color Components : 3
Aperture : 2.8
Image Size : 300x200
Megapixels : 0.060
Scale Factor To 35 mm Equivalent : 1.5
Shutter Speed : 1/750
Circle Of Confusion : 0.020 mm
Field Of View : 73.7 deg
Focal Length : 16.0 mm (35 mm equivalent: 24.0 mm)
Hyperfocal Distance : 4.56 m
Light Value : 12.5
Lens ID : Tokina AT-X Pro DX 11-16mm F2.8