Uber Exif Photo
Processing Software : Windows Photo Editor 10.0.10011.16384
Make : RICOH IMAGING COMPANY, LTD.
Camera Model Name : PENTAX K-70
Orientation : Horizontal (normal)
Software : Windows Photo Editor 10.0.10011.16384
Modify Date : 2017:11:25 18:44:32
Exposure Time : 1/100
F Number : 11.0
Exposure Program : Manual
ISO : 800
Date/Time Original : 2017:11:22 10:04:18
Shutter Speed Value : 1/100
Aperture Value : 11.0
Exposure Compensation : 0
Metering Mode : Center-weighted average
Flash : Off, Did not fire
Focal Length : 18.0 mm
Color Space : sRGB
Exif Image Width : 1920
Exif Image Height : 1280
Sensing Method : One-chip color area
Exposure Mode : Manual
White Balance : Manual
Focal Length In 35mm Format : 27 mm
Scene Capture Type : Standard
Contrast : High
Saturation : Normal
Sharpness : Hard
Subject Distance Range : Close
Lens Info : 18-55mm f/3.5-5.6
Lens Model : smc PENTAX-DA 18-55mm F3.5-5.6 AL WR
Approximate Focus Distance : 4
Lens : smc PENTAX-DA 18-55mm F3.5-5.6 AL WR
Already Applied : True
Auto Lateral CA : 0
Auto White Version : 134348800
Blacks 2012 : 0
Blue Hue : 0
Blue Saturation : 0
Camera Profile : Embedded
Clarity 2012 : +91
Color Noise Reduction : 25
Color Noise Reduction Detail : 50
Color Noise Reduction Smoothness : 50
Contrast 2012 : +52
Convert To Grayscale : False
Defringe Green Amount : 0
Defringe Green Hue Hi : 60
Defringe Green Hue Lo : 40
Defringe Purple Amount : 0
Defringe Purple Hue Hi : 70
Defringe Purple Hue Lo : 30
Dehaze : 0
Exposure 2012 : 0.00
Grain Amount : 0
Green Hue : 0
Green Saturation : 0
Has Crop : False
Has Settings : True
Highlights 2012 : 0
Hue Adjustment Aqua : 0
Hue Adjustment Blue : 0
Hue Adjustment Green : 0
Hue Adjustment Magenta : 0
Hue Adjustment Orange : 0
Hue Adjustment Purple : 0
Hue Adjustment Red : 0
Hue Adjustment Yellow : 0
Lens Manual Distortion Amount : 0
Lens Profile Enable : 0
Lens Profile Setup : LensDefaults
Luminance Adjustment Aqua : 0
Luminance Adjustment Blue : 0
Luminance Adjustment Green : 0
Luminance Adjustment Magenta : 0
Luminance Adjustment Orange : 0
Luminance Adjustment Purple : 0
Luminance Adjustment Red : 0
Luminance Adjustment Yellow : 0
Luminance Smoothing : 0
Parametric Darks : -1
Parametric Highlight Split : 75
Parametric Highlights : +64
Parametric Lights : 0
Parametric Midtone Split : 50
Parametric Shadow Split : 25
Parametric Shadows : -8
Perspective Aspect : 0
Perspective Horizontal : 0
Perspective Rotate : 0.0
Perspective Scale : 100
Perspective Upright : Off
Perspective Vertical : 0
Post Crop Vignette Amount : 0
Process Version : 6.7
Red Hue : 0
Red Saturation : 0
Saturation Adjustment Aqua : 0
Saturation Adjustment Blue : 0
Saturation Adjustment Green : 0
Saturation Adjustment Magenta : 0
Saturation Adjustment Orange : 0
Saturation Adjustment Purple : 0
Saturation Adjustment Red : 0
Saturation Adjustment Yellow : 0
Shadow Tint : 0
Shadows 2012 : +74
Sharpen Detail : 25
Sharpen Edge Masking : 0
Sharpen Radius : +1.0
Split Toning Balance : 0
Split Toning Highlight Hue : 0
Split Toning Highlight Saturation : 0
Split Toning Shadow Hue : 0
Split Toning Shadow Saturation : 0
Color Temperature : 7500
Tint : +10
Tone Curve Name : Linear
Tone Curve Name 2012 : Linear
Tone Map Strength : 0
Version : 9.5.1
Vibrance : +74
Vignette Amount : 0
Whites 2012 : +49
Format : image/jpeg
Create Date : 2017:11:22 10:04:18
Creator Tool : Windows Photo Editor 10.0.10011.16384
Date Created : 2017:11:22 10:04:18
Photographic Sensitivity : 800
Tone Curve : 0, 0, 255, 255
Tone Curve Blue : 0, 0, 255, 255
Tone Curve Green : 0, 0, 255, 255
Tone Curve PV2012 : 0, 0, 255, 255
Tone Curve PV2012 Blue : 0, 0, 255, 255
Tone Curve PV2012 Green : 0, 0, 255, 255
Tone Curve PV2012 Red : 0, 0, 255, 255
Tone Curve Red : 0, 0, 255, 255
Image Width : 308
Image Height : 208
Bits Per Sample : 8
Color Components : 3
Aperture : 11.0
Image Size : 308x208
Megapixels : 0.064
Scale Factor To 35 mm Equivalent : 1.5
Shutter Speed : 1/100
Circle Of Confusion : 0.020 mm
Depth Of Field : inf (1.08 m - inf)
Field Of View : 67.4 deg
Focal Length : 18.0 mm (35 mm equivalent: 27.0 mm)
Hyperfocal Distance : 1.47 m
Light Value : 10.6
Lens ID : smc PENTAX-DA 18-55mm F3.5-5.6 AL WR