Uber Exif Photo
Make : SONY
Camera Model Name : ILCE-7RM2
Software : Adobe Photoshop Lightroom Classic 8.0 (Windows)
Modify Date : 2018:11:21 22:27:17
Exposure Time : 1/200
F Number : 4.5
Exposure Program : Aperture-priority AE
ISO : 100
Sensitivity Type : Recommended Exposure Index
Recommended Exposure Index : 100
Date/Time Original : 2018:10:30 09:07:42
Create Date : 2018:10:30 09:07:42
Shutter Speed Value : 1/200
Aperture Value : 4.5
Brightness Value : 7.9390625
Exposure Compensation : 0
Max Aperture Value : 1.8
Metering Mode : Multi-segment
Light Source : Unknown
Flash : Off, Did not fire
Focal Length : 55.0 mm
Color Space : Uncalibrated
Scene Type : Directly photographed
Custom Rendered : Normal
Exposure Mode : Auto
White Balance : Auto
Digital Zoom Ratio : 1
Focal Length In 35mm Format : 55 mm
Scene Capture Type : Standard
Contrast : Normal
Saturation : Normal
Sharpness : Normal
Lens Info : 55mm f/1.8
Lens Model : FE 55mm F1.8 ZA
Profile Description : ProPhoto RGB
Creator Tool : Adobe Photoshop Lightroom Classic 8.0 (Windows)
Lens : FE 55mm F1.8 ZA
Distortion Correction Already Applied : True
Lateral Chromatic Aberration Correction Already Applied:
True
Vignette Correction Already Applied : True
Lens Distort Info : 1066161463/1073741824 22032287/1073741824 -13064032/1073741824 -4583438/1073741824
Date Created : 2018:10:30 09:07:42
Format : image/jpeg
Raw File Name : DSC00804.ARW
Version : 11.0
Process Version : 10.0
Color Temperature : 5200
Tint : -3
Luminance Smoothing : 0
Color Noise Reduction : 25
Vignette Amount : 0
Shadow Tint : 0
Red Hue : 0
Red Saturation : 0
Green Hue : 0
Green Saturation : 0
Blue Hue : 0
Blue Saturation : 0
Vibrance : +30
Hue Adjustment Red : 0
Hue Adjustment Orange : 0
Hue Adjustment Yellow : 0
Hue Adjustment Green : 0
Hue Adjustment Aqua : 0
Hue Adjustment Blue : 0
Hue Adjustment Purple : 0
Hue Adjustment Magenta : 0
Saturation Adjustment Red : 0
Saturation Adjustment Orange : 0
Saturation Adjustment Yellow : 0
Saturation Adjustment Green : 0
Saturation Adjustment Aqua : 0
Saturation Adjustment Blue : 0
Saturation Adjustment Purple : 0
Saturation Adjustment Magenta : 0
Luminance Adjustment Red : 0
Luminance Adjustment Orange : 0
Luminance Adjustment Yellow : 0
Luminance Adjustment Green : 0
Luminance Adjustment Aqua : 0
Luminance Adjustment Blue : 0
Luminance Adjustment Purple : 0
Luminance Adjustment Magenta : 0
Split Toning Shadow Hue : 0
Split Toning Shadow Saturation : 0
Split Toning Highlight Hue : 0
Split Toning Highlight Saturation : 0
Split Toning Balance : 0
Parametric Shadows : -14
Parametric Darks : -20
Parametric Lights : +18
Parametric Highlights : +12
Parametric Shadow Split : 25
Parametric Midtone Split : 50
Parametric Highlight Split : 75
Sharpen Radius : +3.0
Sharpen Detail : 50
Sharpen Edge Masking : 52
Post Crop Vignette Amount : -10
Post Crop Vignette Midpoint : 76
Post Crop Vignette Feather : 76
Post Crop Vignette Roundness : +76
Post Crop Vignette Style : Highlight Priority
Post Crop Vignette Highlight Contrast : 0
Grain Amount : 0
Color Noise Reduction Detail : 50
Color Noise Reduction Smoothness : 50
Lens Profile Enable : 1
Lens Manual Distortion Amount : 0
Perspective Vertical : 0
Perspective Horizontal : 0
Perspective Rotate : -0.6
Perspective Scale : 100
Perspective Aspect : 0
Perspective Upright : Vertical
Perspective X : 0.00
Perspective Y : 0.00
Auto Lateral CA : 1
Exposure 2012 : -0.43
Contrast 2012 : -67
Highlights 2012 : +47
Shadows 2012 : -22
Whites 2012 : -14
Blacks 2012 : -22
Clarity 2012 : +51
Defringe Purple Amount : 0
Defringe Purple Hue Lo : 30
Defringe Purple Hue Hi : 70
Defringe Green Amount : 0
Defringe Green Hue Lo : 40
Defringe Green Hue Hi : 60
Dehaze : +20
Tone Map Strength : 0
Convert To Grayscale : False
Override Look Vignette : False
Tone Curve Name : Linear
Tone Curve Name 2012 : Linear
Camera Profile : Adobe Standard
Lens Profile Setup : LensDefaults
Lens Profile Name : Adobe (Sony FE 55mm F1.8 ZA)
Lens Profile Filename : SONY (Sony FE 55mm F1.8 ZA) - RAW.lcp
Lens Profile Distortion Scale : 100
Lens Profile Chromatic Aberration Scale : 100
Lens Profile Vignetting Scale : 100
Has Settings : True
Crop Top : 0.006234
Crop Left : 0.006233
Crop Bottom : 0.993766
Crop Right : 0.993767
Crop Angle : 0
Crop Constrain To Warp : 0
Has Crop : True
Already Applied : True
Tone Curve : 0, 0, 255, 255
Tone Curve Red : 0, 0, 255, 255
Tone Curve Green : 0, 0, 255, 255
Tone Curve Blue : 0, 0, 255, 255
Tone Curve PV2012 : 0, 0, 255, 255
Tone Curve PV2012 Red : 0, 0, 255, 255
Tone Curve PV2012 Green : 0, 0, 255, 255
Tone Curve PV2012 Blue : 0, 0, 255, 255
Circ Grad Based Corr What : Correction
Circ Grad Based Corr Amount : 1.000000
Circ Grad Based Corr Active : true
Circ Grad Based Corr Saturation : 0.065220
Circ Grad Based Corr Sharpness : 0.760870
Circ Grad Based Corr Brightness : 0.000000
Circ Grad Based Corr Toning Hue : 63.000000
Circ Grad Based Corr Toning Saturation : 0.000000
Circ Grad Based Corr Exposure 2012 : -0.017750
Circ Grad Based Corr Contrast 2012 : -0.419640
Circ Grad Based Corr Highlights 2012 : -0.375000
Circ Grad Based Corr Shadows 2012 : 0.086960
Circ Grad Based Corr Whites 2012 : -0.044640
Circ Grad Based Corr Blacks 2012 : 0.108700
Circ Grad Based Corr Clarity 2012 : 0.826090
Circ Grad Based Corr Dehaze : 0.107140
Circ Grad Based Corr Luminance Noise : 0.000000
Circ Grad Based Corr Moire : 0.000000
Circ Grad Based Corr Defringe : 0.000000
Circ Grad Based Corr Temperature : 0.000000
Circ Grad Based Corr Tint : 0.000000
Circ Grad Based Corr Mask What : Mask/CircularGradient
Circ Grad Based Corr Mask Value : 1.000000
Circ Grad Based Corr Mask Top : -0.004741
Circ Grad Based Corr Mask Left : 0.325745
Circ Grad Based Corr Mask Bottom : 1.043250
Circ Grad Based Corr Mask Right : 0.914781
Circ Grad Based Corr Mask Angle : 0.000000
Circ Grad Based Corr Mask Midpoint : +50
Circ Grad Based Corr Mask Roundness : 0
Circ Grad Based Corr Mask Feather : +50
Circ Grad Based Corr Mask Flipped : true
Circ Grad Based Corr Mask Version : +2
Circ Grad Based Corr Range Mask Version : +2
Circ Grad Based Corr Range Mask Type : 0
Circ Grad Based Corr Range Mask Color Amount : 0.500000
Circ Grad Based Corr Range Mask Lum Min : 0.000000
Circ Grad Based Corr Range Mask Lum Max : 1.000000
Circ Grad Based Corr Range Mask Lum Feather : 0.500000
Circ Grad Based Corr Range Mask Depth Min : 0.000000
Circ Grad Based Corr Range Mask Depth Max : 1.000000
Circ Grad Based Corr Range Mask Depth Feather : 0.500000
Look Name : Adobe Color
Look Amount : 1.000000
Look Supports Amount : false
Look Supports Monochrome : false
Look Supports Output Referred : false
Look Group : Profiles
Look Parameters Version : 11.0
Look Parameters Process Version : 11.0
Look Parameters Convert To Grayscale : False
Look Parameters Camera Profile : Adobe Standard
Look Parameters Look Table : E1095149FDB39D7A057BAB208837E2E1
Look Parameters Tone Curve PV2012 : 0, 0, 22, 16, 40, 35, 127, 127, 224, 230, 240, 246, 255, 255
Look Parameters Tone Curve PV2012 Red : 0, 0, 255, 255
Look Parameters Tone Curve PV2012 Green : 0, 0, 255, 255
Look Parameters Tone Curve PV2012 Blue : 0, 0, 255, 255
Image Width : 350
Image Height : 233
Bits Per Sample : 8
Color Components : 3
Aperture : 4.5
Image Size : 350x233
Megapixels : 0.082
Scale Factor To 35 mm Equivalent : 1.0
Shutter Speed : 1/200
Circle Of Confusion : 0.030 mm
Field Of View : 36.2 deg
Focal Length : 55.0 mm (35 mm equivalent: 55.0 mm)
Hyperfocal Distance : 22.37 m
Light Value : 12.0
Lens ID : FE 55mm F1.8 ZA