Uber Exif Photo
Copyright Notice : © Anthony Semone
Make : Canon
Camera Model Name : Canon EOS R
Software : Adobe Lightroom CC 2.2.1 (Macintosh)
Modify Date : 2019:04:19 21:52:15
Copyright : © Anthony Semone
Exposure Time : 1/250
F Number : 3.2
Exposure Program : Not Defined
ISO : 100
Sensitivity Type : Recommended Exposure Index
Recommended Exposure Index : 100
Date/Time Original : 2019:04:17 10:19:25
Create Date : 2019:04:17 10:19:25
Shutter Speed Value : 1/250
Aperture Value : 3.2
Exposure Compensation : 0
Max Aperture Value : 1.8
Metering Mode : Multi-segment
Flash : No Flash
Focal Length : 135.0 mm
Color Space : sRGB
Custom Rendered : Normal
Exposure Mode : Auto
White Balance : Manual
Scene Capture Type : Standard
Serial Number : 032021004565
Lens Info : 135mm f/?
Lens Model : 135mm F1.8 DG HSM | Art 017
Lens Serial Number : 0000000000
Profile Description : sRGB IEC61966-2.1
Creator Tool : Adobe Lightroom CC 2.2.1 (Macintosh)
Lens : 135mm F1.8 DG HSM | Art 017
Image Number : 0
Approximate Focus Distance : 4294967295
Flash Compensation : 0
Firmware : 1.1.0
Distortion Correction Already Applied : True
Vignette Correction Already Applied : True
Date Created : 2019:04:17 10:19:25.86
Format : image/jpeg
Raw File Name : CO5A1330.CR3
Version : 11.2.1
Process Version : 11.0
Color Temperature : 6950
Tint : +14
Sharpness : 40
Luminance Smoothing : 0
Color Noise Reduction : 25
Vignette Amount : 0
Shadow Tint : 0
Red Hue : 0
Red Saturation : 0
Green Hue : 0
Green Saturation : 0
Blue Hue : 0
Blue Saturation : 0
Gray Mixer Red : 0
Gray Mixer Orange : 0
Gray Mixer Yellow : 0
Gray Mixer Green : 0
Gray Mixer Aqua : 0
Gray Mixer Blue : 0
Gray Mixer Purple : 0
Gray Mixer Magenta : 0
Split Toning Shadow Hue : 0
Split Toning Shadow Saturation : 0
Split Toning Highlight Hue : 0
Split Toning Highlight Saturation : 0
Split Toning Balance : 0
Parametric Shadows : 0
Parametric Darks : 0
Parametric Lights : 0
Parametric Highlights : 0
Parametric Shadow Split : 25
Parametric Midtone Split : 50
Parametric Highlight Split : 75
Sharpen Radius : +1.0
Sharpen Detail : 25
Sharpen Edge Masking : 0
Post Crop Vignette Amount : 0
Grain Amount : 0
Color Noise Reduction Detail : 50
Color Noise Reduction Smoothness : 50
Lens Profile Enable : 1
Lens Manual Distortion Amount : 0
Perspective Vertical : 0
Perspective Horizontal : 0
Perspective Rotate : 0.0
Perspective Scale : 100
Perspective Aspect : 0
Perspective Upright : Level
Perspective X : 0.00
Perspective Y : 0.00
Auto Lateral CA : 0
Exposure 2012 : -1.04
Contrast 2012 : -58
Highlights 2012 : -58
Shadows 2012 : +32
Whites 2012 : +19
Blacks 2012 : -18
Clarity 2012 : +23
Dehaze : +21
Tone Map Strength : 0
Convert To Grayscale : True
Override Look Vignette : False
Tone Curve Name : Linear
Tone Curve Name 2012 : Custom
Camera Profile : Adobe Standard v2
Lens Profile Setup : LensDefaults
Lens Profile Name : Adobe (SIGMA 135mm F1.8 DG HSM A017, Canon)
Lens Profile Filename : Canon (SIGMA 135mm F1.8 DG HSM A017) - RAW.lcp
Lens Profile Distortion Scale : 100
Lens Profile Chromatic Aberration Scale : 100
Lens Profile Vignetting Scale : 100
Has Settings : True
Crop Top : 0
Crop Left : 0
Crop Bottom : 1
Crop Right : 0.811251
Crop Angle : 0
Crop Constrain To Warp : 0
Has Crop : True
Already Applied : True
Rights : © Anthony Semone
Tone Curve : 0, 0, 255, 255
Tone Curve Red : 0, 0, 255, 255
Tone Curve Green : 0, 0, 255, 255
Tone Curve Blue : 0, 0, 255, 255
Tone Curve PV2012 : 0, 0, 71, 61, 143, 125, 190, 216, 255, 255
Tone Curve PV2012 Red : 0, 0, 255, 255
Tone Curve PV2012 Green : 0, 0, 255, 255
Tone Curve PV2012 Blue : 0, 0, 255, 255
Look Name : Adobe Monochrome
Look Amount : 1.000000
Look Supports Amount : false
Look Supports Monochrome : false
Look Supports Output Referred : false
Look Group : Profiles
Look Parameters Version : 11.2.1
Look Parameters Process Version : 11.0
Look Parameters Clarity 2012 : +8
Look Parameters Convert To Grayscale : True
Look Parameters Camera Profile : Adobe Standard
Look Parameters Look Table : 73ED6C18DDE909DD7EA2D771F5AC282D
Look Parameters Tone Curve PV2012 : 0, 0, 64, 56, 128, 128, 192, 197, 255, 255
Look Parameters Tone Curve PV2012 Red : 0, 0, 255, 255
Look Parameters Tone Curve PV2012 Green : 0, 0, 255, 255
Look Parameters Tone Curve PV2012 Blue : 0, 0, 255, 255
Image Width : 350
Image Height : 288
Bits Per Sample : 8
Color Components : 3
Aperture : 3.2
Image Size : 350x288
Megapixels : 0.101
Scale Factor To 35 mm Equivalent : 17.8
Shutter Speed : 1/250
Create Date : 2019:04:17 10:19:25.86
Date/Time Original : 2019:04:17 10:19:25.86
Circle Of Confusion : 0.002 mm
Depth Of Field : inf (3377.53 m - inf)
Field Of View : 0.9 deg
Focal Length : 135.0 mm (35 mm equivalent: 2405.5 mm)
Hyperfocal Distance : 3377.54 m
Light Value : 11.3
Lens ID : Unknown (368) 135mm