Uber Exif Photo
By-line : Wojciech Zielinski
Copyright Notice : Wojciech Zielinski
Photometric Interpretation : RGB
Camera Model Name : ILCE-7RM2
Orientation : Horizontal (normal)
Samples Per Pixel : 3
Planar Configuration : Chunky
Software : Adobe Photoshop CC (Windows)
Modify Date : 2020:03:31 01:54:32
Artist : Wojciech Zielinski
Copyright : Wojciech Zielinski
Exposure Time : 1/40
F Number : 4.0
ISO : 800
Date/Time Original : 2020:03:29 12:47:10
Max Aperture Value : 2.0
Focal Length : 25.0 mm
Color Space : sRGB
Exif Image Width : 7952
Exif Image Height : 5304
Focal Length In 35mm Format : 38 mm
Lens Info : 25mm f/2
Lens Model : Carl Zeiss Distagon 2/25 ZE
Profile Description : sRGB IEC61966-2.1
Lateral Chromatic Aberration Correction Already Applied:
True
Lens : 25mm F2
Creator : Wojciech Zielinski
Format : image/jpeg
Rights : Wojciech Zielinski
Color Mode : RGB
Date Created : 2020:03:29 12:47:10
ICC Profile Name : sRGB IEC61966-2.1
Black Clip : 0.000000
Color Saturation : 39.0
Gamma : 1.52
Highlights Smoothing : 39.0
Is Pano 360 : No
Luminosity : 10.0
Method : Details Enhancer
Microcontrast : 10.0
Microsmoothing : 2.0
Saturation Highlights : 0.0
Saturation Shadows : 0.0
Shadows Clipping : 0.0
Shadows Smoothing : 0.0
Smoothing : Medium
Smoothing Mode : Light
Strength : 10.0
White Clip : 0.595150
Create Date : 2020:03:29 12:47:10
Creator Tool : Adobe Photoshop CC (Windows)
Rating : 0
Already Applied : True
Auto Lateral CA : 1
Blacks 2012 : -8
Blue Hue : 0
Blue Saturation : 0
Camera Profile : Distagon_25_inside
Clarity 2012 : +15
Color Noise Reduction : 25
Color Noise Reduction Detail : 50
Color Noise Reduction Smoothness : 50
Contrast 2012 : -21
Convert To Grayscale : False
Defringe Green Amount : 0
Defringe Green Hue Hi : 60
Defringe Green Hue Lo : 40
Defringe Purple Amount : 0
Defringe Purple Hue Hi : 70
Defringe Purple Hue Lo : 30
Dehaze : 0
Exposure 2012 : -2.15
Grain Amount : 0
Green Hue : 0
Green Saturation : 0
Has Crop : False
Has Settings : True
Highlights 2012 : -81
Hue Adjustment Aqua : 0
Hue Adjustment Blue : 0
Hue Adjustment Green : 0
Hue Adjustment Magenta : 0
Hue Adjustment Orange : 0
Hue Adjustment Purple : 0
Hue Adjustment Red : 0
Hue Adjustment Yellow : 0
Lens Manual Distortion Amount : 0
Lens Profile Enable : 0
Lens Profile Setup : LensDefaults
Luminance Adjustment Aqua : 0
Luminance Adjustment Blue : 0
Luminance Adjustment Green : 0
Luminance Adjustment Magenta : 0
Luminance Adjustment Orange : 0
Luminance Adjustment Purple : 0
Luminance Adjustment Red : 0
Luminance Adjustment Yellow : 0
Luminance Noise Reduction Contrast : 0
Luminance Noise Reduction Detail : 25
Luminance Smoothing : 25
Parametric Darks : 0
Parametric Highlight Split : 75
Parametric Highlights : 0
Parametric Lights : 0
Parametric Midtone Split : 50
Parametric Shadow Split : 25
Parametric Shadows : 0
Perspective Aspect : 0
Perspective Horizontal : 0
Perspective Rotate : 0.0
Perspective Scale : 100
Perspective Upright : Off
Perspective Vertical : 0
Perspective X : 0.00
Perspective Y : 0.00
Post Crop Vignette Amount : 0
Process Version : 10.0
Raw File Name : _DSC9354.ARW
Red Hue : 0
Red Saturation : 0
Saturation : 0
Saturation Adjustment Aqua : 0
Saturation Adjustment Blue : 0
Saturation Adjustment Green : 0
Saturation Adjustment Magenta : 0
Saturation Adjustment Orange : 0
Saturation Adjustment Purple : 0
Saturation Adjustment Red : 0
Saturation Adjustment Yellow : 0
Shadow Tint : 0
Shadows 2012 : +49
Sharpen Detail : 25
Sharpen Edge Masking : 100
Sharpen Radius : +1.0
Sharpness : 25
Split Toning Balance : 0
Split Toning Highlight Hue : 0
Split Toning Highlight Saturation : 0
Split Toning Shadow Hue : 0
Split Toning Shadow Saturation : 0
Color Temperature : 4000
Tint : +35
Tone Curve : 0, 0, 32, 22, 64, 56, 128, 128, 192, 196, 255, 255
Tone Curve Blue : 0, 0, 255, 255
Tone Curve Green : 0, 0, 255, 255
Tone Curve Name : Medium Contrast
Tone Curve Name 2012 : Linear
Tone Curve PV2012 : 0, 0, 255, 255
Tone Curve PV2012 Blue : 0, 0, 255, 255
Tone Curve PV2012 Green : 0, 0, 255, 255
Tone Curve PV2012 Red : 0, 0, 255, 255
Tone Curve Red : 0, 0, 255, 255
Version : 10.1
Vibrance : 0
Vignette Amount : 0
White Balance : Custom
Whites 2012 : +10
Image Width : 400
Image Height : 267
Bits Per Sample : 8
Color Components : 3
Aperture : 4.0
Image Size : 400x267
Megapixels : 0.107
Scale Factor To 35 mm Equivalent : 1.5
Shutter Speed : 1/40
Circle Of Confusion : 0.020 mm
Field Of View : 50.7 deg
Focal Length : 25.0 mm (35 mm equivalent: 38.0 mm)
Hyperfocal Distance : 7.90 m
Light Value : 6.3
Lens ID : 25mm F2