Uber Exif Photo
By-line : Photographer:Hodanh Nguyen
Copyright Notice : Copyright:ok
Make : Canon
Camera Model Name : Canon EOS 50D
Software : Adobe Photoshop Lightroom Classic 9.0 (Windows)
Modify Date : 2020:09:13 08:36:42
Artist : Photographer:Hodanh Nguyen
Copyright : Copyright:ok
Exposure Time : 1/1600
F Number : 3.5
Exposure Program : Aperture-priority AE
ISO : 100
Date/Time Original : 2018:10:14 09:52:35
Create Date : 2018:10:14 09:52:35
Shutter Speed Value : 1/1600
Aperture Value : 3.5
Exposure Compensation : 0
Max Aperture Value : 3.5
Metering Mode : Multi-segment
Flash : Off, Did not fire
Focal Length : 135.0 mm
Color Space : sRGB
Custom Rendered : Normal
Exposure Mode : Auto
White Balance : Manual
Scene Capture Type : Standard
Owner Name : Nguyên viêt Hoa
Serial Number : 520331273
Lens Model : 1-65535mm
Profile Description : sRGB IEC61966-2.1
Format : image/jpeg
Lens : 1-65535mm
Image Number : 0
Flash Compensation : 0
Firmware : 1.0.9
Creator Tool : Adobe Photoshop Lightroom Classic 9.0 (Windows)
Date Created : 2018:10:14 09:52:35.48
Preserved File Name : IMG_1298.CR2
Raw File Name : IMG_1298.CR2
Version : 12.0
Process Version : 11.0
Color Temperature : 4050
Tint : +18
Saturation : 0
Sharpness : 40
Luminance Smoothing : 0
Color Noise Reduction : 25
Vignette Amount : 0
Shadow Tint : 0
Red Hue : 0
Red Saturation : 0
Green Hue : 0
Green Saturation : 0
Blue Hue : 0
Blue Saturation : 0
Vibrance : 0
Hue Adjustment Red : 0
Hue Adjustment Orange : 0
Hue Adjustment Yellow : 0
Hue Adjustment Green : 0
Hue Adjustment Aqua : 0
Hue Adjustment Blue : 0
Hue Adjustment Purple : 0
Hue Adjustment Magenta : 0
Saturation Adjustment Red : 0
Saturation Adjustment Orange : 0
Saturation Adjustment Yellow : 0
Saturation Adjustment Green : 0
Saturation Adjustment Aqua : 0
Saturation Adjustment Blue : 0
Saturation Adjustment Purple : 0
Saturation Adjustment Magenta : 0
Luminance Adjustment Red : 0
Luminance Adjustment Orange : 0
Luminance Adjustment Yellow : 0
Luminance Adjustment Green : 0
Luminance Adjustment Aqua : 0
Luminance Adjustment Blue : 0
Luminance Adjustment Purple : 0
Luminance Adjustment Magenta : 0
Split Toning Shadow Hue : 0
Split Toning Shadow Saturation : 0
Split Toning Highlight Hue : 0
Split Toning Highlight Saturation : 0
Split Toning Balance : 0
Parametric Shadows : 0
Parametric Darks : 0
Parametric Lights : 0
Parametric Highlights : 0
Parametric Shadow Split : 25
Parametric Midtone Split : 50
Parametric Highlight Split : 75
Sharpen Radius : +1.0
Sharpen Detail : 25
Sharpen Edge Masking : 0
Post Crop Vignette Amount : 0
Grain Amount : 0
Color Noise Reduction Detail : 50
Color Noise Reduction Smoothness : 50
Lens Profile Enable : 0
Lens Manual Distortion Amount : 0
Perspective Vertical : 0
Perspective Horizontal : 0
Perspective Rotate : 0.0
Perspective Scale : 100
Perspective Aspect : 0
Perspective Upright : Off
Perspective X : 0.00
Perspective Y : 0.00
Auto Lateral CA : 0
Exposure 2012 : 0.00
Contrast 2012 : 0
Highlights 2012 : -30
Shadows 2012 : +50
Whites 2012 : +40
Blacks 2012 : -10
Clarity 2012 : 0
Defringe Purple Amount : 0
Defringe Purple Hue Lo : 30
Defringe Purple Hue Hi : 70
Defringe Green Amount : 0
Defringe Green Hue Lo : 40
Defringe Green Hue Hi : 60
Dehaze : +16
Texture : 0
Tone Map Strength : 0
Convert To Grayscale : False
Override Look Vignette : False
Tone Curve Name : Linear
Tone Curve Name 2012 : Linear
Camera Profile : Adobe Standard
Lens Profile Setup : LensDefaults
Has Settings : True
Has Crop : False
Already Applied : True
Creator : Photographer:Hodanh Nguyen
Rights : Copyright:ok
Tone Curve : 0, 0, 255, 255
Tone Curve Red : 0, 0, 255, 255
Tone Curve Green : 0, 0, 255, 255
Tone Curve Blue : 0, 0, 255, 255
Tone Curve PV2012 : 0, 0, 255, 255
Tone Curve PV2012 Red : 0, 0, 255, 255
Tone Curve PV2012 Green : 0, 0, 255, 255
Tone Curve PV2012 Blue : 0, 0, 255, 255
Gradient Based Corr Range Mask Version : +2, +2, +2, +2
Gradient Based Corr Range Mask Type : 0, 0, 0, 0
Gradient Based Corr Range Mask Color Amount : 0.500000, 0.500000, 0.500000, 0.500000
Gradient Based Corr Range Mask Lum Min : 0.000000, 0.000000, 0.000000, 0.000000
Gradient Based Corr Range Mask Lum Max : 1.000000, 1.000000, 1.000000, 1.000000
Gradient Based Corr Range Mask Lum Feather : 0.500000, 0.500000, 0.500000, 0.500000
Gradient Based Corr Range Mask Depth Min : 0.000000, 0.000000, 0.000000, 0.000000
Gradient Based Corr Range Mask Depth Max : 1.000000, 1.000000, 1.000000, 1.000000
Gradient Based Corr Range Mask Depth Feather : 0.500000, 0.500000, 0.500000, 0.500000
Gradient Based Corr What : Correction
Gradient Based Corr Amount : 1.000000
Gradient Based Corr Active : true
Gradient Based Corr Saturation : 0.000000
Gradient Based Corr Sharpness : 0.000000
Gradient Based Corr Brightness : 0.000000
Gradient Based Corr Toning Hue : 233.000000
Gradient Based Corr Toning Saturation : 0.000000
Gradient Based Corr Exposure 2012 : -0.195750
Gradient Based Corr Contrast 2012 : 0.000000
Gradient Based Corr Highlights 2012 : 0.000000
Gradient Based Corr Shadows 2012 : 0.000000
Gradient Based Corr Whites 2012 : 0.000000
Gradient Based Corr Blacks 2012 : 0.000000
Gradient Based Corr Clarity 2012 : 0.000000
Gradient Based Corr Dehaze : 0.000000
Gradient Based Corr Luminance Noise : 0.000000
Gradient Based Corr Moire : 0.000000
Gradient Based Corr Defringe : 0.000000
Gradient Based Corr Temperature : 0.000000
Gradient Based Corr Tint : 0.000000
Gradient Based Corr Texture : 0.000000
Gradient Based Corr Mask What : Mask/Gradient
Gradient Based Corr Mask Value : 1.000000
Gradient Based Corr Mask Zero X : 0.684112
Gradient Based Corr Mask Zero Y : 0.318373
Gradient Based Corr Mask Full X : 1.014020
Gradient Based Corr Mask Full Y : 0.325386
Look Name :
Image Width : 400
Image Height : 267
Bits Per Sample : 8
Color Components : 3
Aperture : 3.5
Image Size : 400x267
Megapixels : 0.107
Scale Factor To 35 mm Equivalent : 1.6
Shutter Speed : 1/1600
Create Date : 2018:10:14 09:52:35.48
Date/Time Original : 2018:10:14 09:52:35.48
Modify Date : 2020:09:13 08:36:42+07:00
Circle Of Confusion : 0.019 mm
Field Of View : 9.6 deg
Focal Length : 135.0 mm (35 mm equivalent: 213.9 mm)
Hyperfocal Distance : 274.61 m
Light Value : 14.3
Lens ID : Canon EF 35-80mm f/4-5.6