Uber Exif Photo
Copyright Notice : © Anthony Semone
Make : Canon
Camera Model Name : Canon EOS R6
Software : Adobe Lightroom 4.2 (Macintosh)
Modify Date : 2021:05:07 13:11:38
Copyright : © Anthony Semone
Exposure Time : 1/125
F Number : 2.8
Exposure Program : Program AE
ISO : 640
Sensitivity Type : Recommended Exposure Index
Recommended Exposure Index : 640
Date/Time Original : 2021:05:07 10:56:14
Create Date : 2021:05:07 10:56:14
Shutter Speed Value : 1/125
Aperture Value : 2.8
Exposure Compensation : 0
Max Aperture Value : 1.4
Metering Mode : Multi-segment
Flash : No Flash
Focal Length : 50.0 mm
Color Space : sRGB
Custom Rendered : Normal
Exposure Mode : Auto
White Balance : Auto
Scene Capture Type : Standard
Serial Number : 032021000448
Lens Info : 50mm f/?
Lens Model : 50.0 mm
Lens Serial Number : 0000000000
Profile Description : sRGB IEC61966-2.1
Creator Tool : Adobe Lightroom 4.2 (Macintosh)
Lens : 50.0 mm
Image Number : 0
Flash Compensation : 0
Firmware : 1.3.1
Date Created : 2021:05:07 10:56:14.01Z
Format : image/jpeg
Raw File Name :
Version : 13.2
Process Version : 11.0
Incremental Temperature : 0
Incremental Tint : 0
Exposure 2012 : +0.51
Contrast 2012 : +32
Highlights 2012 : -7
Shadows 2012 : +37
Whites 2012 : +6
Blacks 2012 : -17
Texture : 0
Clarity 2012 : +22
Dehaze : +21
Vibrance : +15
Saturation : +1
Parametric Shadows : 0
Parametric Darks : 0
Parametric Lights : 0
Parametric Highlights : 0
Parametric Shadow Split : 25
Parametric Midtone Split : 50
Parametric Highlight Split : 75
Sharpness : 0
Luminance Smoothing : 0
Color Noise Reduction : 0
Hue Adjustment Red : 0
Hue Adjustment Orange : 0
Hue Adjustment Yellow : 0
Hue Adjustment Green : 0
Hue Adjustment Aqua : 0
Hue Adjustment Blue : 0
Hue Adjustment Purple : 0
Hue Adjustment Magenta : 0
Saturation Adjustment Red : 0
Saturation Adjustment Orange : 0
Saturation Adjustment Yellow : 0
Saturation Adjustment Green : 0
Saturation Adjustment Aqua : 0
Saturation Adjustment Blue : 0
Saturation Adjustment Purple : 0
Saturation Adjustment Magenta : 0
Luminance Adjustment Red : 0
Luminance Adjustment Orange : 0
Luminance Adjustment Yellow : 0
Luminance Adjustment Green : 0
Luminance Adjustment Aqua : 0
Luminance Adjustment Blue : 0
Luminance Adjustment Purple : 0
Luminance Adjustment Magenta : 0
Split Toning Shadow Hue : 0
Split Toning Shadow Saturation : 0
Split Toning Highlight Hue : 0
Split Toning Highlight Saturation : 0
Split Toning Balance : 0
Color Grade Midtone Hue : 0
Color Grade Midtone Sat : 0
Color Grade Shadow Lum : 0
Color Grade Midtone Lum : 0
Color Grade Highlight Lum : 0
Color Grade Blending : 50
Color Grade Global Hue : 0
Color Grade Global Sat : 0
Color Grade Global Lum : 0
Auto Lateral CA : 0
Lens Profile Enable : 0
Lens Manual Distortion Amount : 0
Vignette Amount : 0
Defringe Purple Amount : 0
Defringe Purple Hue Lo : 30
Defringe Purple Hue Hi : 70
Defringe Green Amount : 0
Defringe Green Hue Lo : 40
Defringe Green Hue Hi : 60
Perspective Upright : Level
Perspective Vertical : 0
Perspective Horizontal : 0
Perspective Rotate : 0.0
Perspective Aspect : 0
Perspective Scale : 100
Perspective X : 0.00
Perspective Y : 0.00
Grain Amount : 0
Post Crop Vignette Amount : 0
Shadow Tint : 0
Red Hue : 0
Red Saturation : 0
Green Hue : 0
Green Saturation : 0
Blue Hue : 0
Blue Saturation : 0
Convert To Grayscale : False
Override Look Vignette : False
Tone Curve Name 2012 : Linear
Camera Profile : Embedded
Has Settings : True
Crop Top : 0
Crop Left : 0
Crop Bottom : 0.84271
Crop Right : 0.992185
Crop Angle : 0
Crop Constrain To Warp : 0
Has Crop : True
Already Applied : True
Rights : © Anthony Semone
Tone Curve PV2012 : 0, 0, 255, 255
Tone Curve PV2012 Red : 0, 0, 255, 255
Tone Curve PV2012 Green : 0, 0, 255, 255
Tone Curve PV2012 Blue : 0, 0, 255, 255
Image Width : 400
Image Height : 340
Bits Per Sample : 8
Color Components : 3
Aperture : 2.8
Image Size : 400x340
Megapixels : 0.136
Scale Factor To 35 mm Equivalent : 1.0
Shutter Speed : 1/125
Create Date : 2021:05:07 10:56:14.01+00:00
Date/Time Original : 2021:05:07 10:56:14.01+00:00
Modify Date : 2021:05:07 13:11:38-04:00
Circle Of Confusion : 0.030 mm
Field Of View : 39.5 deg
Focal Length : 50.0 mm (35 mm equivalent: 50.2 mm)
Hyperfocal Distance : 29.81 m
Light Value : 7.3
Lens ID : Sigma 50mm f/1.4 DG HSM | A or Zeiss Milvus 50mm f/1.4 or Sigma 50mm f/1.5 FF High-Speed Prime | 017 or Tokina Opera 50mm f/1.4 FF