Uber Exif Photo
By-line : Wojciech Zielinski
Copyright Notice : Wojciech Zielinski
Make : SONY
Camera Model Name : ILCE-7RM2
Orientation : Horizontal (normal)
Software : Adobe Photoshop 22.4 (Windows)
Modify Date : 2021:09:20 12:32:20
Artist : Wojciech Zielinski
Copyright : Wojciech Zielinski
Exposure Time : 1/15
F Number : 2.0
Exposure Program : Aperture-priority AE
ISO : 800
Sensitivity Type : Recommended Exposure Index
Recommended Exposure Index : 800
Date/Time Original : 2021:09:15 07:44:39
Create Date : 2021:09:15 07:44:39
Shutter Speed Value : 1/15
Aperture Value : 2.0
Brightness Value : 0.04453125
Exposure Compensation : +2
Max Aperture Value : 2.0
Metering Mode : Multi-segment
Light Source : Unknown
Flash : Off, Did not fire
Focal Length : 20.0 mm
Color Space : sRGB
Exif Image Width : 4056
Exif Image Height : 2868
Scene Type : Directly photographed
Custom Rendered : Normal
Exposure Mode : Auto
White Balance : Auto
Digital Zoom Ratio : 1
Focal Length In 35mm Format : 20 mm
Scene Capture Type : Standard
Contrast : Normal
Saturation : High
Sharpness : Normal
Lens Info : 20mm f/2
Lens Model : E 20mm F2
Profile Description : sRGB IEC61966-2.1
Format : image/jpeg
Creator Tool : ILCE-7RM2 v4.01
Lens : E 20mm F2
Lens Distort Info : 1071280123/1073741824 -50823424/1073741824 62799199/1073741824 -9525983/1073741824
Distortion Correction Already Applied : True
Lateral Chromatic Aberration Correction Already Applied:
True
Vignette Correction Already Applied : True
Date Created : 2021:09:15 07:44:39
Color Mode : RGB
ICC Profile Name : sRGB IEC61966-2.1
Version : 13.3
Process Version : 11.0
Color Temperature : 3800
Tint : +39
Exposure 2012 : +0.62
Contrast 2012 : -50
Highlights 2012 : -75
Shadows 2012 : +75
Whites 2012 : 0
Blacks 2012 : 0
Texture : +10
Clarity 2012 : 0
Dehaze : 0
Vibrance : +15
Parametric Shadows : 0
Parametric Darks : 0
Parametric Lights : 0
Parametric Highlights : 0
Parametric Shadow Split : 25
Parametric Midtone Split : 50
Parametric Highlight Split : 75
Luminance Smoothing : 25
Luminance Noise Reduction Detail : 50
Luminance Noise Reduction Contrast : 0
Color Noise Reduction : 25
Color Noise Reduction Detail : 50
Color Noise Reduction Smoothness : 50
Hue Adjustment Red : 0
Hue Adjustment Orange : 0
Hue Adjustment Yellow : 0
Hue Adjustment Green : 0
Hue Adjustment Aqua : 0
Hue Adjustment Blue : 0
Hue Adjustment Purple : 0
Hue Adjustment Magenta : 0
Saturation Adjustment Red : 0
Saturation Adjustment Orange : 0
Saturation Adjustment Yellow : 0
Saturation Adjustment Green : 0
Saturation Adjustment Aqua : 0
Saturation Adjustment Blue : 0
Saturation Adjustment Purple : 0
Saturation Adjustment Magenta : 0
Luminance Adjustment Red : 0
Luminance Adjustment Orange : 0
Luminance Adjustment Yellow : 0
Luminance Adjustment Green : 0
Luminance Adjustment Aqua : 0
Luminance Adjustment Blue : 0
Luminance Adjustment Purple : 0
Luminance Adjustment Magenta : 0
Split Toning Shadow Hue : 0
Split Toning Shadow Saturation : 0
Split Toning Highlight Hue : 0
Split Toning Highlight Saturation : 0
Split Toning Balance : 0
Color Grade Midtone Hue : 0
Color Grade Midtone Sat : 0
Color Grade Shadow Lum : 0
Color Grade Midtone Lum : 0
Color Grade Highlight Lum : 0
Color Grade Blending : 50
Color Grade Global Hue : 0
Color Grade Global Sat : 0
Color Grade Global Lum : 0
Auto Lateral CA : 0
Lens Profile Enable : 1
Lens Manual Distortion Amount : 0
Vignette Amount : 0
Defringe Purple Amount : 0
Defringe Purple Hue Lo : 30
Defringe Purple Hue Hi : 70
Defringe Green Amount : 0
Defringe Green Hue Lo : 40
Defringe Green Hue Hi : 60
Perspective Upright : Off
Perspective Vertical : 0
Perspective Horizontal : 0
Perspective Rotate : 0.0
Perspective Aspect : 0
Perspective Scale : 100
Perspective X : 0.00
Perspective Y : 0.00
Grain Amount : 0
Post Crop Vignette Amount : 0
Shadow Tint : 0
Red Hue : 0
Red Saturation : 0
Green Hue : 0
Green Saturation : 0
Blue Hue : 0
Blue Saturation : 0
Convert To Grayscale : False
Override Look Vignette : False
Tone Curve Name 2012 : Linear
Camera Profile : TokinaFirin20_Cloudy
Lens Profile Setup : LensDefaults
Lens Profile Name : Adobe (Tokina FíRIN 20mm F2 FE MF)
Lens Profile Filename : SONY (Tokina FiRIN 20mm F2 FE MF) - RAW.lcp
Lens Profile Is Embedded : False
Lens Profile Distortion Scale : 100
Lens Profile Vignetting Scale : 100
Has Settings : True
Has Crop : False
Already Applied : True
Creator : Wojciech Zielinski
Rights : Wojciech Zielinski
Tone Curve PV2012 : 0, 0, 255, 255
Tone Curve PV2012 Red : 0, 0, 255, 255
Tone Curve PV2012 Green : 0, 0, 255, 255
Tone Curve PV2012 Blue : 0, 0, 255, 255
Image Width : 400
Image Height : 283
Bits Per Sample : 8
Color Components : 3
Aperture : 2.0
Image Size : 400x283
Megapixels : 0.113
Scale Factor To 35 mm Equivalent : 1.0
Shutter Speed : 1/15
Circle Of Confusion : 0.030 mm
Field Of View : 84.0 deg
Focal Length : 20.0 mm (35 mm equivalent: 20.0 mm)
Hyperfocal Distance : 6.66 m
Light Value : 2.9
Lens ID : E 20mm F2