Uber Exif Photo
Make : Nikon
Camera Model Name : Nikon SUPER COOLSCAN 5000 ED
Software : Adobe Photoshop Lightroom Classic 10.0 (Windows)
Modify Date : 2020:10:21 21:11:04
Create Date : 2020:10:21 16:56:55
Color Space : sRGB
Profile Description : sRGB IEC61966-2.1
Creator Tool : Adobe Photoshop Lightroom Classic 10.0 (Windows)
Preserved File Name : F6Cutchogue68.nef
Format : image/jpeg
Raw File Name :
Version : 13.0
Process Version : 11.0
White Balance : Custom
Incremental Temperature : +14
Incremental Tint : -10
Exposure 2012 : -0.58
Contrast 2012 : +5
Highlights 2012 : -23
Shadows 2012 : +31
Whites 2012 : +32
Blacks 2012 : -30
Texture : 0
Clarity 2012 : 0
Dehaze : 0
Vibrance : +8
Parametric Shadows : 0
Parametric Darks : 0
Parametric Lights : 0
Parametric Highlights : 0
Parametric Shadow Split : 25
Parametric Midtone Split : 50
Parametric Highlight Split : 75
Sharpness : 0
Luminance Smoothing : 0
Color Noise Reduction : 0
Gray Mixer Red : 0
Gray Mixer Orange : 0
Gray Mixer Yellow : 0
Gray Mixer Green : 0
Gray Mixer Aqua : 0
Gray Mixer Blue : 0
Gray Mixer Purple : 0
Gray Mixer Magenta : 0
Split Toning Shadow Hue : 0
Split Toning Shadow Saturation : 0
Split Toning Highlight Hue : 0
Split Toning Highlight Saturation : 0
Split Toning Balance : 0
Color Grade Midtone Hue : 0
Color Grade Midtone Sat : 0
Color Grade Shadow Lum : 0
Color Grade Midtone Lum : 0
Color Grade Highlight Lum : 0
Color Grade Blending : 50
Color Grade Global Hue : 0
Color Grade Global Sat : 0
Color Grade Global Lum : 0
Auto Lateral CA : 1
Lens Profile Enable : 0
Lens Manual Distortion Amount : 0
Vignette Amount : 0
Perspective Upright : Off
Perspective Vertical : 0
Perspective Horizontal : 0
Perspective Rotate : 0.0
Perspective Aspect : 0
Perspective Scale : 100
Perspective X : 0.00
Perspective Y : 0.00
Grain Amount : 0
Post Crop Vignette Amount : 0
Shadow Tint : 0
Red Hue : 0
Red Saturation : 0
Green Hue : 0
Green Saturation : 0
Blue Hue : 0
Blue Saturation : 0
Convert To Grayscale : True
Override Look Vignette : False
Tone Curve Name 2012 : Linear
Camera Profile : Embedded
Has Settings : True
Crop Top : 0.028761
Crop Left : 0.011968
Crop Bottom : 0.971239
Crop Right : 0.988032
Crop Angle : -0.949
Crop Constrain To Warp : 0
Has Crop : True
Already Applied : True
Lateral Chromatic Aberration Correction Already Applied:
True
Tone Curve PV2012 : 0, 0, 255, 255
Tone Curve PV2012 Red : 0, 0, 255, 255
Tone Curve PV2012 Green : 0, 0, 255, 255
Tone Curve PV2012 Blue : 0, 0, 255, 255
Image Width : 400
Image Height : 291
Bits Per Sample : 8
Color Components : 3
Image Size : 400x291
Megapixels : 0.116
Create Date : 2020:10:21 16:56:55-04:00
Modify Date : 2020:10:21 21:11:04-04:00