Uber Exif Photo
Photometric Interpretation : RGB
Make : FUJIFILM
Camera Model Name : X-E3
Orientation : Horizontal (normal)
Samples Per Pixel : 3
Software : Adobe Photoshop 24.5 (Windows)
Modify Date : 2023:06:15 00:11:10
Artist : JQHN ANGARONI
Copyright : JQHN ANGARQNI
Exposure Time : 1/1400
F Number : 2.8
Exposure Program : Aperture-priority AE
ISO : 160
Sensitivity Type : Standard Output Sensitivity
Date/Time Original : 2023:06:14 17:15:22
Create Date : 2023:06:14 17:15:22
Shutter Speed Value : 1/1400
Aperture Value : 2.8
Brightness Value : 7.34
Exposure Compensation : -0.33
Max Aperture Value : 2.0
Metering Mode : Multi-segment
Light Source : Unknown
Flash : No Flash
Focal Length : 50.0 mm
Color Space : Uncalibrated
Exif Image Width : 2250
Exif Image Height : 1500
Sensing Method : One-chip color area
Scene Type : Directly photographed
Custom Rendered : Normal
Exposure Mode : Auto
White Balance : Auto
Focal Length In 35mm Format : 75 mm
Scene Capture Type : Standard
Sharpness : Soft
Subject Distance Range : Unknown
Serial Number : 9CA00631
Lens Info : 50mm f/2
Lens Make : FUJIFILM
Lens Model : XF50mmF2 R WR
Lens Serial Number : 76A13263
By-line : JQHN ANGARONI
Copyright Notice : JQHN ANGARQNI
Creator Tool : Adobe Photoshop Lightroom Classic 12.4 (Windows)
Fuji Rating Already Applied : True
Lens : XF50mmF2 R WR
Format : image/jpeg
Date Created : 2023:06:14 17:15:22
Color Mode : RGB
ICC Profile Name : Adobe RGB (1998)
Preserved File Name : JRA24765.JPG
Raw File Name : JRA24765.JPG
Version : 15.4
Process Version : 15.4
Incremental Temperature : 0
Incremental Tint : 0
Shadows : 5
Brightness : +50
Contrast : +25
Exposure 2012 : +0.26
Contrast 2012 : +7
Highlights 2012 : -27
Shadows 2012 : +35
Whites 2012 : +7
Blacks 2012 : -40
Texture : 0
Clarity 2012 : +12
Dehaze : 0
Vibrance : +9
Saturation : +1
Parametric Shadows : 0
Parametric Darks : 0
Parametric Lights : 0
Parametric Highlights : 0
Parametric Shadow Split : 25
Parametric Midtone Split : 50
Parametric Highlight Split : 75
Luminance Smoothing : 0
Color Noise Reduction : 0
Hue Adjustment Red : 0
Hue Adjustment Orange : 0
Hue Adjustment Yellow : 0
Hue Adjustment Green : 0
Hue Adjustment Aqua : 0
Hue Adjustment Blue : 0
Hue Adjustment Purple : 0
Hue Adjustment Magenta : 0
Saturation Adjustment Red : 0
Saturation Adjustment Orange : 0
Saturation Adjustment Yellow : 0
Saturation Adjustment Green : 0
Saturation Adjustment Aqua : 0
Saturation Adjustment Blue : 0
Saturation Adjustment Purple : 0
Saturation Adjustment Magenta : 0
Luminance Adjustment Red : 0
Luminance Adjustment Orange : 0
Luminance Adjustment Yellow : 0
Luminance Adjustment Green : 0
Luminance Adjustment Aqua : 0
Luminance Adjustment Blue : 0
Luminance Adjustment Purple : 0
Luminance Adjustment Magenta : 0
Split Toning Shadow Hue : 0
Split Toning Shadow Saturation : 0
Split Toning Highlight Hue : 0
Split Toning Highlight Saturation : 0
Split Toning Balance : 0
Color Grade Midtone Hue : 0
Color Grade Midtone Sat : 0
Color Grade Shadow Lum : 0
Color Grade Midtone Lum : 0
Color Grade Highlight Lum : 0
Color Grade Blending : 50
Color Grade Global Hue : 0
Color Grade Global Sat : 0
Color Grade Global Lum : 0
Auto Lateral CA : 0
Lens Profile Enable : 0
Lens Manual Distortion Amount : 0
Vignette Amount : 0
Defringe Purple Amount : 0
Defringe Purple Hue Lo : 30
Defringe Purple Hue Hi : 70
Defringe Green Amount : 0
Defringe Green Hue Lo : 40
Defringe Green Hue Hi : 60
Perspective Upright : Off
Perspective Vertical : 0
Perspective Horizontal : 0
Perspective Rotate : 0.0
Perspective Aspect : 0
Perspective Scale : 100
Perspective X : 0.00
Perspective Y : 0.00
Grain Amount : 0
Post Crop Vignette Amount : 0
Shadow Tint : 0
Red Hue : 0
Red Saturation : 0
Green Hue : 0
Green Saturation : 0
Blue Hue : 0
Blue Saturation : 0
Convert To Grayscale : False
Override Look Vignette : False
Tone Curve Name 2012 : Linear
Camera Profile : Embedded
Has Settings : True
Crop Top : 0.057554
Crop Left : 0.043165
Crop Bottom : 0.942446
Crop Right : 0.928058
Crop Angle : 0
Crop Constrain To Warp : 0
Has Crop : True
Already Applied : True
Creator : JQHN ANGARONI
Rights : JQHN ANGARQNI
Tone Curve PV2012 : 0, 0, 255, 255
Tone Curve PV2012 Red : 0, 0, 255, 255
Tone Curve PV2012 Green : 0, 0, 255, 255
Tone Curve PV2012 Blue : 0, 0, 255, 255
Profile Description : Adobe RGB (1998)
Image Width : 400
Image Height : 267
Bits Per Sample : 8
Color Components : 3
Aperture : 2.8
Image Size : 400x267
Megapixels : 0.107
Scale Factor To 35 mm Equivalent : 1.5
Shutter Speed : 1/1400
Modify Date : 2023:06:15 00:11:10-04:00
Circle Of Confusion : 0.020 mm
Field Of View : 27.0 deg
Focal Length : 50.0 mm (35 mm equivalent: 75.0 mm)
Hyperfocal Distance : 44.57 m
Light Value : 12.7
Lens ID : XF50mm F2 R WR