Uber Exif Photo
Photometric Interpretation : RGB
Make : FUJIFILM
Camera Model Name : X-H1
Orientation : Horizontal (normal)
Samples Per Pixel : 3
Software : Adobe Photoshop 24.5 (Windows)
Modify Date : 2023:06:25 23:45:59
Artist : JOHN ANGARONI
Copyright : JOHN ANGARONI
Exposure Time : 1/50
F Number : 1.0
Exposure Program : Aperture-priority AE
ISO : 1600
Sensitivity Type : Standard Output Sensitivity
Date/Time Original : 2023:06:25 20:32:15
Create Date : 2023:06:25 20:32:15
Shutter Speed Value : 1/50
Aperture Value : 1.0
Brightness Value : -4.23
Exposure Compensation : -1
Metering Mode : Average
Light Source : Unknown
Flash : No Flash
Focal Length : 23.0 mm
Color Space : Uncalibrated
Exif Image Width : 2250
Exif Image Height : 1500
Sensing Method : One-chip color area
Scene Type : Directly photographed
Custom Rendered : Normal
Exposure Mode : Auto
White Balance : Auto
Focal Length In 35mm Format : 35 mm
Scene Capture Type : Standard
Sharpness : Soft
Subject Distance Range : Unknown
Serial Number : 82A52229
Lens Info : 23mm f/?
Lens Model : 23.0 mm
By-line : JOHN ANGARONI
Copyright Notice : JOHN ANGARONI
Creator Tool : Adobe Photoshop Lightroom Classic 12.4 (Windows)
Fuji Rating Already Applied : True
Lens : 23.0 mm
Lateral Chromatic Aberration Correction Already Applied:
True
Format : image/jpeg
Date Created : 2023:06:25 20:32:15
Color Mode : RGB
ICC Profile Name : Adobe RGB (1998)
Preserved File Name : JRA17324.RAF
Raw File Name : JRA17324.RAF
Version : 15.4
Process Version : 15.4
Color Temperature : 4450
Tint : +38
Exposure 2012 : 0.00
Contrast 2012 : 0
Highlights 2012 : 0
Shadows 2012 : +35
Whites 2012 : -28
Blacks 2012 : -26
Texture : 0
Clarity 2012 : +18
Dehaze : 0
Vibrance : 0
Saturation : 0
Parametric Shadows : 0
Parametric Darks : 0
Parametric Lights : 0
Parametric Highlights : 0
Parametric Shadow Split : 25
Parametric Midtone Split : 50
Parametric Highlight Split : 75
Sharpen Radius : +1.0
Sharpen Detail : 25
Sharpen Edge Masking : 0
Luminance Smoothing : 0
Color Noise Reduction : 25
Color Noise Reduction Detail : 50
Color Noise Reduction Smoothness : 50
Hue Adjustment Red : 0
Hue Adjustment Orange : 0
Hue Adjustment Yellow : 0
Hue Adjustment Green : 0
Hue Adjustment Aqua : 0
Hue Adjustment Blue : 0
Hue Adjustment Purple : 0
Hue Adjustment Magenta : 0
Saturation Adjustment Red : +52
Saturation Adjustment Orange : 0
Saturation Adjustment Yellow : +2
Saturation Adjustment Green : 0
Saturation Adjustment Aqua : 0
Saturation Adjustment Blue : +23
Saturation Adjustment Purple : +23
Saturation Adjustment Magenta : +15
Luminance Adjustment Red : 0
Luminance Adjustment Orange : 0
Luminance Adjustment Yellow : 0
Luminance Adjustment Green : 0
Luminance Adjustment Aqua : 0
Luminance Adjustment Blue : 0
Luminance Adjustment Purple : 0
Luminance Adjustment Magenta : 0
Split Toning Shadow Hue : 0
Split Toning Shadow Saturation : 0
Split Toning Highlight Hue : 0
Split Toning Highlight Saturation : 0
Split Toning Balance : 0
Color Grade Midtone Hue : 0
Color Grade Midtone Sat : 0
Color Grade Shadow Lum : 0
Color Grade Midtone Lum : 0
Color Grade Highlight Lum : 0
Color Grade Blending : 50
Color Grade Global Hue : 0
Color Grade Global Sat : 0
Color Grade Global Lum : 0
Auto Lateral CA : 1
Lens Profile Enable : 0
Lens Manual Distortion Amount : 0
Vignette Amount : 0
Defringe Purple Amount : 0
Defringe Purple Hue Lo : 30
Defringe Purple Hue Hi : 70
Defringe Green Amount : 0
Defringe Green Hue Lo : 40
Defringe Green Hue Hi : 60
Perspective Upright : Auto
Perspective Vertical : 0
Perspective Horizontal : 0
Perspective Rotate : 0.0
Perspective Aspect : 0
Perspective Scale : 100
Perspective X : 0.00
Perspective Y : 0.00
Grain Amount : 0
Post Crop Vignette Amount : 0
Shadow Tint : 0
Red Hue : 0
Red Saturation : 0
Green Hue : 0
Green Saturation : 0
Blue Hue : 0
Blue Saturation : 0
Convert To Grayscale : False
Override Look Vignette : False
Tone Curve Name 2012 : Linear
Camera Profile : Camera Velvia/VIVID
Has Settings : True
Crop Top : 0
Crop Left : 0
Crop Bottom : 1
Crop Right : 1
Crop Angle : 0
Crop Constrain To Warp : 1
Has Crop : True
Already Applied : True
Creator : JOHN ANGARONI
Rights : JOHN ANGARONI
Tone Curve PV2012 : 0, 0, 255, 255
Tone Curve PV2012 Red : 0, 0, 255, 255
Tone Curve PV2012 Green : 0, 0, 255, 255
Tone Curve PV2012 Blue : 0, 0, 255, 255
Profile Description : Adobe RGB (1998)
Image Width : 400
Image Height : 267
Bits Per Sample : 8
Color Components : 3
Aperture : 1.0
Image Size : 400x267
Megapixels : 0.107
Scale Factor To 35 mm Equivalent : 1.5
Shutter Speed : 1/50
Modify Date : 2023:06:25 23:45:59-04:00
Circle Of Confusion : 0.020 mm
Field Of View : 54.4 deg
Focal Length : 23.0 mm (35 mm equivalent: 35.0 mm)
Hyperfocal Distance : 26.79 m
Light Value : 1.6
Lens ID : 23.0mm