Uber Exif Photo
Make : Leica Camera AG
Camera Model Name : LEICA M11
Software : Adobe Photoshop Lightroom 6.14 (Windows)
Modify Date : 2023:08:31 14:08:08
Exposure Time : 1/320
F Number : 4.0
Exposure Program : Aperture-priority AE
ISO : 800
Sensitivity Type : ISO Speed
ISO Speed : 800
Date/Time Original : 2023:08:21 10:52:06
Create Date : 2023:08:21 10:52:06
Shutter Speed Value : 1/320
Aperture Value : 4.0
Exposure Compensation : 0
Max Aperture Value : 1.0
Metering Mode : Multi-segment
Light Source : Unknown
Flash : No Flash
Color Space : sRGB
Scene Type : Directly photographed
Custom Rendered : Normal
Exposure Mode : Auto
White Balance : Auto
Digital Zoom Ratio : 0
Scene Capture Type : Standard
Contrast : Normal
Saturation : Normal
Sharpness : Normal
Serial Number : 5587795
Lens Make : Leica Camera AG
Lens Model : uncoded lens
Profile Description : sRGB IEC61966-2.1
Version ID : 02.00
Creator Tool : Adobe Photoshop Lightroom 6.14 (Windows)
Format : image/jpeg
Correction Already Applied : False
Pitch Angle : -3.3699998856
Roll Angle : 1.0529999733
Focal Length 35mm : 0.0000000000
Target Aspect Ratio : 1.5000000000
Scaling Factor Height : 1.0000000000
Valid Crop Corners : False
Apply Automatically : False
Lens : uncoded lens
Date Created : 2023:08:21 10:52:06
Version : 10.1
Process Version : 6.7
Auto White Version : 134348800
Color Temperature : 5700
Tint : +18
Luminance Smoothing : 0
Color Noise Reduction : 25
Vignette Amount : 0
Shadow Tint : 0
Red Hue : 0
Red Saturation : 0
Green Hue : 0
Green Saturation : 0
Blue Hue : 0
Blue Saturation : 0
Gray Mixer Red : -10
Gray Mixer Orange : -19
Gray Mixer Yellow : -23
Gray Mixer Green : -27
Gray Mixer Aqua : -18
Gray Mixer Blue : +9
Gray Mixer Purple : +15
Gray Mixer Magenta : +4
Split Toning Shadow Hue : 0
Split Toning Shadow Saturation : 0
Split Toning Highlight Hue : 0
Split Toning Highlight Saturation : 0
Split Toning Balance : 0
Parametric Shadows : 0
Parametric Darks : 0
Parametric Lights : 0
Parametric Highlights : 0
Parametric Shadow Split : 25
Parametric Midtone Split : 50
Parametric Highlight Split : 75
Sharpen Radius : +1.0
Sharpen Detail : 25
Sharpen Edge Masking : 0
Post Crop Vignette Amount : 0
Grain Amount : 0
Color Noise Reduction Detail : 50
Color Noise Reduction Smoothness : 50
Lens Profile Enable : 0
Lens Manual Distortion Amount : 0
Perspective Vertical : 0
Perspective Horizontal : 0
Perspective Rotate : 0.0
Perspective Scale : 100
Perspective Aspect : 0
Perspective Upright : Off
Perspective X : 0.00
Perspective Y : 0.00
Auto Lateral CA : 0
Exposure 2012 : 0.00
Contrast 2012 : +15
Highlights 2012 : -47
Shadows 2012 : +20
Whites 2012 : -100
Blacks 2012 : -20
Clarity 2012 : +30
Dehaze : 0
Tone Map Strength : 0
Convert To Grayscale : True
Tone Curve Name : Linear
Tone Curve Name 2012 : Strong Contrast
Camera Profile : PROFILE M11
Lens Profile Setup : LensDefaults
Has Settings : True
Crop Top : 0.0125
Crop Left : 0
Crop Bottom : 1
Crop Right : 0.9875
Crop Angle : 0
Crop Constrain To Warp : 0
Has Crop : True
Already Applied : True
Derived From Version ID : 02.00
Normalized Crop Corners : 0.0000000000, 0.0000000000, 1.0000000000, 0.0000000000, 1.0000000000, 1.0000000000, 0.0000000000, 1.0000000000
Tone Curve : 0, 0, 255, 255
Tone Curve Red : 0, 0, 255, 255
Tone Curve Green : 0, 0, 255, 255
Tone Curve Blue : 0, 0, 255, 255
Tone Curve PV2012 : 0, 0, 32, 16, 64, 50, 128, 128, 192, 202, 255, 255
Tone Curve PV2012 Red : 0, 0, 255, 255
Tone Curve PV2012 Green : 0, 0, 255, 255
Tone Curve PV2012 Blue : 0, 0, 255, 255
Image Width : 400
Image Height : 266
Bits Per Sample : 8
Color Components : 3
Aperture : 4.0
Image Size : 400x266
Megapixels : 0.106
Shutter Speed : 1/320
Light Value : 9.3