Uber Exif Photo
Make : Canon
Camera Model Name : Canon EOS R7
Orientation : Horizontal (normal)
Software : Adobe Photoshop 25.0 (Windows)
Modify Date : 2023:11:05 16:39:35
Artist : Barry Gossage.Fo-tik Photography
Copyright : 1998-2023.All rights reserved.
Exposure Time : 1/640
F Number : 9.0
Exposure Program : Manual
ISO : 640
Sensitivity Type : Recommended Exposure Index
Recommended Exposure Index : 640
Date/Time Original : 2023:04:22 08:54:24
Create Date : 2023:04:22 08:54:24
Shutter Speed Value : 1/640
Aperture Value : 9.0
Exposure Compensation : 0
Max Aperture Value : 4.6
Metering Mode : Multi-segment
Flash : No Flash
Focal Length : 100.0 mm
Color Space : Uncalibrated
Exif Image Width : 1400
Exif Image Height : 998
Custom Rendered : Normal
Exposure Mode : Manual
White Balance : Auto
Scene Capture Type : Standard
Serial Number : 082034004524
Lens Info : 100-400mm f/?
Lens Model : EF100-400mm f/4.5-5.6L IS II USM
Lens Serial Number : 8650001787
By-line : Barry Gossage.Fo-tik Photography
Copyright Notice : 1998-2023.All rights reserved.
Rating : 0
Creator Tool : Adobe Photoshop 25.0 (Windows)
Format : image/jpeg
Lens : EF100-400mm f/4.5-5.6L IS II USM
Image Number : 0
Approximate Focus Distance : 20.7
Flash Compensation : 0
Firmware : 1.3.0
Distortion Correction Already Applied : True
Lateral Chromatic Aberration Correction Already Applied:
True
Vignette Correction Already Applied : True
Date Created : 2023:04:22 08:54:24-08:00
Color Mode : RGB
ICC Profile Name : Rec. 2020
Version : 16.0
Process Version : 15.4
Incremental Temperature : 0
Incremental Tint : 0
Shadows : 5
Brightness : +50
Contrast : +25
Exposure 2012 : +1.00
Contrast 2012 : +25
Highlights 2012 : 0
Shadows 2012 : 0
Whites 2012 : 0
Blacks 2012 : -10
Texture : 0
Clarity 2012 : 0
Dehaze : 0
Vibrance : 0
Saturation : 0
Parametric Shadows : 0
Parametric Darks : 0
Parametric Lights : 0
Parametric Highlights : 0
Parametric Shadow Split : 25
Parametric Midtone Split : 50
Parametric Highlight Split : 75
Sharpness : 25
Sharpen Radius : +1.0
Sharpen Detail : 25
Sharpen Edge Masking : 0
Luminance Smoothing : 0
Color Noise Reduction : 25
Color Noise Reduction Detail : 50
Color Noise Reduction Smoothness : 50
Hue Adjustment Red : 0
Hue Adjustment Orange : 0
Hue Adjustment Yellow : 0
Hue Adjustment Green : 0
Hue Adjustment Aqua : 0
Hue Adjustment Blue : 0
Hue Adjustment Purple : 0
Hue Adjustment Magenta : 0
Saturation Adjustment Red : 0
Saturation Adjustment Orange : 0
Saturation Adjustment Yellow : 0
Saturation Adjustment Green : 0
Saturation Adjustment Aqua : 0
Saturation Adjustment Blue : 0
Saturation Adjustment Purple : 0
Saturation Adjustment Magenta : 0
Luminance Adjustment Red : 0
Luminance Adjustment Orange : 0
Luminance Adjustment Yellow : 0
Luminance Adjustment Green : 0
Luminance Adjustment Aqua : 0
Luminance Adjustment Blue : 0
Luminance Adjustment Purple : 0
Luminance Adjustment Magenta : 0
Split Toning Shadow Hue : 234
Split Toning Shadow Saturation : 73
Split Toning Highlight Hue : 0
Split Toning Highlight Saturation : 0
Split Toning Balance : +85
Color Grade Midtone Hue : 0
Color Grade Midtone Sat : 0
Color Grade Shadow Lum : 0
Color Grade Midtone Lum : 0
Color Grade Highlight Lum : 0
Color Grade Blending : 100
Color Grade Global Hue : 0
Color Grade Global Sat : 0
Color Grade Global Lum : 0
Auto Lateral CA : 0
Lens Profile Enable : 0
Lens Manual Distortion Amount : 0
Vignette Amount : 0
Defringe Purple Amount : 0
Defringe Purple Hue Lo : 30
Defringe Purple Hue Hi : 70
Defringe Green Amount : 0
Defringe Green Hue Lo : 40
Defringe Green Hue Hi : 60
Perspective Upright : Off
Perspective Vertical : 0
Perspective Horizontal : 0
Perspective Rotate : 0.0
Perspective Aspect : 0
Perspective Scale : 100
Perspective X : 0.00
Perspective Y : 0.00
Grain Amount : 0
Post Crop Vignette Amount : 0
Shadow Tint : 0
Red Hue : 0
Red Saturation : 0
Green Hue : 0
Green Saturation : 0
Blue Hue : 0
Blue Saturation : 0
HDR Edit Mode : 0
Curve Refine Saturation : 100
Convert To Grayscale : False
Override Look Vignette : False
Tone Curve Name 2012 : Medium Contrast
Camera Profile : Embedded
Has Settings : True
Has Crop : False
Already Applied : True
Creator : Barry Gossage.Fo-tik Photography
Rights : 1998-2023.All rights reserved.
Tone Curve PV2012 : 0, 0, 32, 22, 64, 56, 128, 128, 192, 196, 255, 255
Tone Curve PV2012 Red : 0, 0, 255, 255
Tone Curve PV2012 Green : 0, 0, 255, 255
Tone Curve PV2012 Blue : 0, 0, 255, 255
Profile Description : Rec. 2020
Image Width : 400
Image Height : 285
Bits Per Sample : 8
Color Components : 3
Aperture : 9.0
Image Size : 400x285
Megapixels : 0.114
Scale Factor To 35 mm Equivalent : 7.9
Shutter Speed : 1/640
Create Date : 2023:04:22 08:54:24.00-08:00
Date/Time Original : 2023:04:22 08:54:24.00-08:00
Modify Date : 2023:11:05 16:39:35.00-08:00
Circle Of Confusion : 0.004 mm
Depth Of Field : 2.94 m (19.33 - 22.27 m)
Field Of View : 2.6 deg
Focal Length : 100.0 mm (35 mm equivalent: 789.0 mm)
Hyperfocal Distance : 291.76 m
Light Value : 13.0
Lens ID : Canon EF 100-400mm f/4.5-5.6L IS II USM