Uber Exif Photo
Make : NIKON CORPORATION
Camera Model Name : NIKON D200
Orientation : Horizontal (normal)
Software : Adobe Photoshop 25.3 (Windows)
Modify Date : 2024:01:10 16:44:48
Exposure Time : 0.4
F Number : 32.0
Exposure Program : Manual
ISO : 100
Date/Time Original : 2007:03:04 11:51:52
Create Date : 2007:03:04 11:51:52
Shutter Speed Value : 0.4
Aperture Value : 32.0
Exposure Compensation : 0
Max Aperture Value : 2.8
Metering Mode : Spot
Light Source : Unknown
Flash : No Flash
Focal Length : 60.0 mm
User Comment : (c) fo-tik.com 1-949-500-2565
Color Space : Uncalibrated
Exif Image Width : 1482
Exif Image Height : 829
Sensing Method : One-chip color area
Scene Type : Directly photographed
CFA Pattern : [Green,Red][Blue,Green]
Custom Rendered : Normal
Exposure Mode : Manual
White Balance : Manual
Digital Zoom Ratio : 1
Focal Length In 35mm Format : 90 mm
Scene Capture Type : Standard
Gain Control : None
Contrast : Low
Saturation : Normal
Sharpness : Normal
Subject Distance Range : Unknown
JUMD Type : (c2pa)-0011-0010-800000aa00389b71
JUMD Label : c2pa
Actions Action : c2pa.edited
Actions Software Agent : Adobe Firefly
Actions Digital Source Type : http://cv.iptc.org/newscodes/digitalsourcetype/compositeWithTrainedAlgorithmicMedia
Exclusions Start : 6264
Exclusions Length : 11390
Name : jumbf manifest
Alg : sha256
Title : Generated image
Claim generator : Adobe_Photoshop/25.3.1 adobe_c2pa/0.7.6 c2pa-rs/0.25.2
Claim Generator Info Name : Adobe Photoshop
Claim Generator Info Version : 25.3.1
Signature : self#jumbf=c2pa.signature
Assertions Url : self#jumbf=c2pa.assertions/c2pa.actions, self#jumbf=c2pa.assertions/c2pa.hash.data
Item 2 : null
Creator Tool : Ver.2.00
Rating : 0
Lens Info : 60mm f/2.8
Lens : 60.0 mm f/2.8
Image Number : 1492
Approximate Focus Distance : 1.58
Distortion Correction Already Applied : True
Lateral Chromatic Aberration Correction Already Applied:
True
Vignette Correction Already Applied : True
Date Created : 2007:03:04 11:51:52.073-08:00
Color Mode : RGB
ICC Profile Name : Rec. 2020
Format : image/jpeg
Version : 16.1
Process Version : 5.0
Color Temperature : 5750
Tint : 0
Exposure : 0.00
Highlight Recovery : 14
Fill Light : 16
Shadows : 0
Brightness : +69
Clarity : +25
Vibrance : +24
Parametric Shadows : 0
Parametric Darks : 0
Parametric Lights : 0
Parametric Highlights : 0
Parametric Shadow Split : 25
Parametric Midtone Split : 50
Parametric Highlight Split : 75
Luminance Smoothing : 35
Color Noise Reduction : 25
Hue Adjustment Red : 0
Hue Adjustment Orange : 0
Hue Adjustment Yellow : 0
Hue Adjustment Green : 0
Hue Adjustment Aqua : 0
Hue Adjustment Blue : 0
Hue Adjustment Purple : 0
Hue Adjustment Magenta : 0
Saturation Adjustment Red : 0
Saturation Adjustment Orange : 0
Saturation Adjustment Yellow : 0
Saturation Adjustment Green : 0
Saturation Adjustment Aqua : 0
Saturation Adjustment Blue : 0
Saturation Adjustment Purple : 0
Saturation Adjustment Magenta : 0
Luminance Adjustment Red : 0
Luminance Adjustment Orange : 0
Luminance Adjustment Yellow : 0
Luminance Adjustment Green : 0
Luminance Adjustment Aqua : 0
Luminance Adjustment Blue : 0
Luminance Adjustment Purple : 0
Luminance Adjustment Magenta : 0
Split Toning Shadow Hue : 0
Split Toning Shadow Saturation : 0
Split Toning Highlight Hue : 0
Split Toning Highlight Saturation : 0
Split Toning Balance : 0
Auto Lateral CA : 1
Lens Profile Enable : 1
Lens Manual Distortion Amount : 0
Vignette Amount : 0
Defringe Purple Amount : 0
Defringe Purple Hue Lo : 30
Defringe Purple Hue Hi : 70
Defringe Green Amount : 0
Defringe Green Hue Lo : 40
Defringe Green Hue Hi : 60
Perspective Upright : Off
Perspective Vertical : 0
Perspective Horizontal : 0
Perspective Rotate : 0.0
Perspective Aspect : 0
Perspective Scale : 100
Perspective X : 0.00
Perspective Y : 0.00
Grain Amount : 0
Post Crop Vignette Amount : 0
Shadow Tint : 0
Red Hue : 0
Red Saturation : 0
Green Hue : 0
Green Saturation : 0
Blue Hue : 0
Blue Saturation : 0
Convert To Grayscale : False
Override Look Vignette : False
Tone Curve Name : Medium Contrast
Camera Profile : Linear-Nikon D200
Lens Profile Setup : Custom
Lens Profile Name : Adobe (Nikon AF-S NIKKOR 24-120mm f/4G ED VR) v2
Lens Profile Filename : NIKON D3X (Nikon AF-S NIKKOR 24-120mm f4G ED VR) v2 - RAW.lcp
Lens Profile Is Embedded : False
Lens Profile Distortion Scale : 100
Lens Profile Vignetting Scale : 100
Has Settings : True
Has Crop : False
Already Applied : True
Tone Curve : 0, 0, 32, 22, 64, 56, 128, 128, 192, 196, 255, 255
Tone Curve Red : 0, 0, 255, 255
Tone Curve Green : 0, 0, 255, 255
Tone Curve Blue : 0, 0, 255, 255
Point Colors : -1.000000, -1.000000, -1.000000, -1.000000, -1.000000, -1.000000, -1.000000, -1.000000, -1.000000, -1.000000, -1.000000, -1.000000, -1.000000, -1.000000, -1.000000, -1.000000, -1.000000, -1.000000, -1.000000
Profile Description : Rec. 2020
Image Width : 400
Image Height : 224
Bits Per Sample : 8
Color Components : 3
Aperture : 32.0
Image Size : 400x224
Megapixels : 0.090
Scale Factor To 35 mm Equivalent : 1.5
Shutter Speed : 0.4
Create Date : 2007:03:04 11:51:52.73
Date/Time Original : 2007:03:04 11:51:52.73
Modify Date : 2024:01:10 16:44:48.73
Circle Of Confusion : 0.020 mm
Depth Of Field : 0.92 m (1.24 - 2.17 m)
Field Of View : 22.6 deg
Focal Length : 60.0 mm (35 mm equivalent: 90.0 mm)
Hyperfocal Distance : 5.62 m
Light Value : 11.3
Lens ID : AF Micro-Nikkor 60mm f/2.8D