Uber Exif Photo
Photometric Interpretation : RGB
Make : Panasonic
Camera Model Name : DC-S5
Orientation : Horizontal (normal)
Samples Per Pixel : 3
Software : Adobe Photoshop 26.3 (Windows)
Modify Date : 2025:02:21 17:14:51
Artist : JRA
Copyright : JOHN ANGARONI
Exposure Time : 0.5
F Number : 16.0
Exposure Program : Aperture-priority AE
ISO : 6400
Date/Time Original : 2025:02:16 17:38:59
Create Date : 2025:02:16 17:38:59
Shutter Speed Value : 0.5
Aperture Value : 16.0
Exposure Compensation : -0.66
Max Aperture Value : 2.0
Metering Mode : Multi-segment
Light Source : Unknown
Flash : Off, Did not fire
Focal Length : 50.0 mm
Color Space : sRGB
Exif Image Width : 2400
Exif Image Height : 1600
Sensing Method : One-chip color area
Scene Type : Directly photographed
Custom Rendered : Custom
Exposure Mode : Auto
White Balance : Auto
Digital Zoom Ratio : 0
Focal Length In 35mm Format : 50 mm
Scene Capture Type : Standard
Gain Control : High gain up
Contrast : High
Saturation : High
Sharpness : Soft
Serial Number : WJ3CB001079
Lens Model : 50mm F2 DG DN | Contemporary 023
Lens Serial Number : 7224818
By-line : JRA
Copyright Notice : JOHN ANGARONI
Creator Tool : Adobe Photoshop Lightroom Classic 14.2 (Windows)
Preserved File Name : P1000573.RW2
Format : image/jpeg
Lens : 50mm F2 DG DN | Contemporary 023
Distortion Correction Already Applied : True
Lateral Chromatic Aberration Correction Already Applied:
True
Date Created : 2025:02:16 17:38:59.227-05:00
Color Mode : RGB
ICC Profile Name : sRGB IEC61966-2.1
Pick : 0
Raw File Name : P1000573.RW2
Version : 17.2
Process Version : 15.4
Color Temperature : 5600
Tint : +13
Exposure 2012 : 0.00
Contrast 2012 : 0
Highlights 2012 : +7
Shadows 2012 : +16
Whites 2012 : -4
Blacks 2012 : -28
Texture : 0
Clarity 2012 : +7
Dehaze : 0
Vibrance : +25
Parametric Shadows : 0
Parametric Darks : 0
Parametric Lights : 0
Parametric Highlights : 0
Parametric Shadow Split : 25
Parametric Midtone Split : 50
Parametric Highlight Split : 75
Sharpen Radius : +1.0
Sharpen Detail : 25
Sharpen Edge Masking : 0
Luminance Smoothing : 0
Color Noise Reduction : 25
Color Noise Reduction Detail : 50
Color Noise Reduction Smoothness : 50
Hue Adjustment Red : 0
Hue Adjustment Orange : 0
Hue Adjustment Yellow : 0
Hue Adjustment Green : 0
Hue Adjustment Aqua : 0
Hue Adjustment Blue : 0
Hue Adjustment Purple : 0
Hue Adjustment Magenta : 0
Saturation Adjustment Red : 0
Saturation Adjustment Orange : 0
Saturation Adjustment Yellow : 0
Saturation Adjustment Green : 0
Saturation Adjustment Aqua : 0
Saturation Adjustment Blue : 0
Saturation Adjustment Purple : 0
Saturation Adjustment Magenta : 0
Luminance Adjustment Red : 0
Luminance Adjustment Orange : 0
Luminance Adjustment Yellow : 0
Luminance Adjustment Green : 0
Luminance Adjustment Aqua : 0
Luminance Adjustment Blue : 0
Luminance Adjustment Purple : 0
Luminance Adjustment Magenta : 0
Split Toning Shadow Hue : 0
Split Toning Shadow Saturation : 0
Split Toning Highlight Hue : 0
Split Toning Highlight Saturation : 0
Split Toning Balance : 0
Color Grade Midtone Hue : 0
Color Grade Midtone Sat : 0
Color Grade Shadow Lum : 0
Color Grade Midtone Lum : 0
Color Grade Highlight Lum : 0
Color Grade Blending : 50
Color Grade Global Hue : 0
Color Grade Global Sat : 0
Color Grade Global Lum : 0
Auto Lateral CA : 0
Lens Profile Enable : 1
Lens Manual Distortion Amount : 0
Vignette Amount : 0
Defringe Purple Amount : 0
Defringe Purple Hue Lo : 30
Defringe Purple Hue Hi : 70
Defringe Green Amount : 0
Defringe Green Hue Lo : 40
Defringe Green Hue Hi : 60
Perspective Upright : Off
Perspective Vertical : 0
Perspective Horizontal : 0
Perspective Rotate : 0.0
Perspective Aspect : 0
Perspective Scale : 100
Perspective X : 0.00
Perspective Y : 0.00
Grain Amount : 0
Post Crop Vignette Amount : 0
Shadow Tint : 0
Red Hue : 0
Red Saturation : 0
Green Hue : 0
Green Saturation : 0
Blue Hue : 0
Blue Saturation : 0
HDR Edit Mode : 0
Convert To Grayscale : False
Override Look Vignette : False
Tone Curve Name 2012 : Linear
Camera Profile : Camera Vivid
Lens Profile Setup : LensDefaults
Lens Profile Name : Camera Settings
Lens Profile Is Embedded : True
Lens Profile Distortion Scale : 100
Lens Profile Vignetting Scale : 100
Has Settings : True
Crop Top : 0.000001
Crop Left : 0.119933
Crop Bottom : 0.878379
Crop Right : 0.998311
Crop Angle : 0
Crop Constrain To Warp : 0
Has Crop : True
Already Applied : True
Creator : JRA
Rights : JOHN ANGARONI
Camera Profiles Author : Adobe
Camera Profiles Make : Panasonic
Camera Profiles Model : DC-S5
Camera Profiles Unique Camera Model : Panasonic DC-S5
Camera Profiles Camera Raw Profile : True
Camera Profiles Auto Scale : False
Camera Profiles Lens : 50mm F2 DG DN | Contemporary 023
Camera Profiles Camera Pretty Name : Panasonic DC-S5
Camera Profiles Lens Pretty Name : 50mm F2 DG DN | Contemporary 023
Camera Profiles Profile Name : Camera Settings
Camera Profiles Sensor Format Factor : 1
Camera Profiles Focal Length : 50
Camera Profiles Focus Distance : 10000
Camera Profiles Aperture Value : 8
Camera Profiles Perspective Model Version : 2
Camera Profiles Perspective Model Image X Center:
0.499668
Camera Profiles Perspective Model Image Y Center:
0.5
Camera Profiles Perspective Model Scale Factor:
0.980742
Camera Profiles Perspective Model Radial Distort Param 1:
0.119441
Camera Profiles Perspective Model Radial Distort Param 2:
-0.092747
Camera Profiles Perspective Model Radial Distort Param 3:
-0.090772
Tone Curve PV2012 : 0, 0, 255, 255
Tone Curve PV2012 Red : 0, 0, 255, 255
Tone Curve PV2012 Green : 0, 0, 255, 255
Tone Curve PV2012 Blue : 0, 0, 255, 255
Point Colors : -1.000000, -1.000000, -1.000000, -1.000000, -1.000000, -1.000000, -1.000000, -1.000000, -1.000000, -1.000000, -1.000000, -1.000000, -1.000000, -1.000000, -1.000000, -1.000000, -1.000000, -1.000000, -1.000000
Profile Description : sRGB IEC61966-2.1
Image Width : 400
Image Height : 267
Bits Per Sample : 8
Color Components : 3
Aperture : 16.0
Image Size : 400x267
Megapixels : 0.107
Scale Factor To 35 mm Equivalent : 1.0
Shutter Speed : 0.5
Create Date : 2025:02:16 17:38:59.227-05:00
Date/Time Original : 2025:02:16 17:38:59.227-05:00
Modify Date : 2025:02:21 17:14:51-05:00
Circle Of Confusion : 0.030 mm
Field Of View : 39.6 deg
Focal Length : 50.0 mm (35 mm equivalent: 50.0 mm)
Hyperfocal Distance : 5.20 m
Light Value : 3.0
Lens ID : 50mm F2 DG DN | Contemporary 023