Uber Exif Photo
Make : NIKON CORPORATION
Camera Model Name : NIKON D80
Software : Adobe Photoshop Lightroom Classic 14.1.1 (Macintosh)
Modify Date : 2025:03:01 22:28:52
Exposure Time : 1/2000
F Number : 3.5
Exposure Program : Aperture-priority AE
ISO : 160
Date/Time Original : 2008:01:12 12:06:31
Create Date : 2008:01:12 12:06:31
Shutter Speed Value : 1/2000
Aperture Value : 3.5
Exposure Compensation : 0
Max Aperture Value : 3.5
Subject Distance : 4294967295 m
Metering Mode : Multi-segment
Light Source : Cloudy
Flash : No Flash
Focal Length : 18.0 mm
Color Space : sRGB
Sensing Method : One-chip color area
Scene Type : Directly photographed
CFA Pattern : [Green,Blue][Red,Green]
Custom Rendered : Custom
Exposure Mode : Auto
White Balance : Manual
Digital Zoom Ratio : 1
Focal Length In 35mm Format : 27 mm
Scene Capture Type : Standard
Gain Control : None
Contrast : Normal
Saturation : High
Sharpness : Hard
Subject Distance Range : Unknown
Serial Number : 3012213
Lens Info : 18-55mm f/3.5-5.6
Lens Model : 18.0-55.0 mm f/3.5-5.6
Profile Description : sRGB IEC61966-2.1
Creator Tool : Adobe Photoshop Lightroom Classic 14.1.1 (Macintosh)
Lens : 18.0-55.0 mm f/3.5-5.6
Image Number : 1309
Approximate Focus Distance : 4294967295
Enhance Super Resolution Already Applied : True
Enhance Super Resolution Version : 218103808
Enhance Super Resolution Scale : 2
Date Created : 2008:01:12 12:06:31.90
Preserved File Name : Yellowstone01.2008-44.JPG
Format : image/jpeg
Photographic Sensitivity : 160
Pick : 0
Raw File Name : Yellowstone01.2008-44-Enhanced-SR.dng
Version : 17.1
Compatible Version : 234881024
Process Version : 6.7
Incremental Temperature : 0
Incremental Tint : 0
Exposure 2012 : +1.15
Contrast 2012 : +40
Highlights 2012 : -59
Shadows 2012 : +20
Whites 2012 : +59
Blacks 2012 : -19
Texture : 0
Clarity 2012 : +8
Dehaze : 0
Vibrance : +20
Parametric Shadows : 0
Parametric Darks : 0
Parametric Lights : 0
Parametric Highlights : 0
Parametric Shadow Split : 25
Parametric Midtone Split : 50
Parametric Highlight Split : 75
Sharpen Radius : +1.5
Sharpen Detail : 25
Sharpen Edge Masking : 17
Luminance Smoothing : 15
Luminance Noise Reduction Detail : 50
Luminance Noise Reduction Contrast : 0
Color Noise Reduction : 17
Color Noise Reduction Detail : 50
Color Noise Reduction Smoothness : 50
Hue Adjustment Red : 0
Hue Adjustment Orange : 0
Hue Adjustment Yellow : 0
Hue Adjustment Green : 0
Hue Adjustment Aqua : 0
Hue Adjustment Blue : 0
Hue Adjustment Purple : 0
Hue Adjustment Magenta : 0
Saturation Adjustment Red : 0
Saturation Adjustment Orange : 0
Saturation Adjustment Yellow : 0
Saturation Adjustment Green : 0
Saturation Adjustment Aqua : 0
Saturation Adjustment Blue : 0
Saturation Adjustment Purple : 0
Saturation Adjustment Magenta : 0
Luminance Adjustment Red : 0
Luminance Adjustment Orange : 0
Luminance Adjustment Yellow : 0
Luminance Adjustment Green : 0
Luminance Adjustment Aqua : 0
Luminance Adjustment Blue : 0
Luminance Adjustment Purple : 0
Luminance Adjustment Magenta : 0
Split Toning Shadow Hue : 0
Split Toning Shadow Saturation : 0
Split Toning Highlight Hue : 0
Split Toning Highlight Saturation : 0
Split Toning Balance : 0
Color Grade Midtone Hue : 0
Color Grade Midtone Sat : 0
Color Grade Shadow Lum : 0
Color Grade Midtone Lum : 0
Color Grade Highlight Lum : 0
Color Grade Blending : 50
Color Grade Global Hue : 0
Color Grade Global Sat : 0
Color Grade Global Lum : 0
Auto Lateral CA : 0
Lens Profile Enable : 0
Lens Manual Distortion Amount : 0
Vignette Amount : 0
Defringe Purple Amount : 0
Defringe Purple Hue Lo : 30
Defringe Purple Hue Hi : 70
Defringe Green Amount : 0
Defringe Green Hue Lo : 40
Defringe Green Hue Hi : 60
Perspective Upright : Off
Perspective Vertical : 0
Perspective Horizontal : 0
Perspective Rotate : 0.0
Perspective Aspect : 0
Perspective Scale : 100
Perspective X : 0.00
Perspective Y : 0.00
Grain Amount : 0
Post Crop Vignette Amount : 0
Shadow Tint : 0
Red Hue : 0
Red Saturation : 0
Green Hue : 0
Green Saturation : 0
Blue Hue : 0
Blue Saturation : 0
HDR Edit Mode : 0
Convert To Grayscale : False
Override Look Vignette : False
Tone Curve Name 2012 : Linear
Camera Profile : Embedded
Lens Profile Setup : Custom
Lens Profile Name : Adobe (Nikon AF-S DX VR Zoom-Nikkor 18-200mm f/3.5-5.6G IF-ED)
Lens Profile Filename : NIKON D90 (Nikon DX 18-200mm f3.5-5.6 G ED IF).lcp
Lens Profile Is Embedded : False
Lens Profile Distortion Scale : 100
Lens Profile Vignetting Scale : 100
Has Settings : True
Crop Top : 0
Crop Left : 0
Crop Bottom : 1
Crop Right : 1
Crop Angle : 0
Crop Constrain To Warp : 0
Has Crop : False
Already Applied : True
Tone Curve PV2012 : 0, 0, 255, 255
Tone Curve PV2012 Red : 0, 0, 255, 255
Tone Curve PV2012 Green : 0, 0, 255, 255
Tone Curve PV2012 Blue : 0, 0, 255, 255
Point Colors : -1.000000, -1.000000, -1.000000, -1.000000, -1.000000, -1.000000, -1.000000, -1.000000, -1.000000, -1.000000, -1.000000, -1.000000, -1.000000, -1.000000, -1.000000, -1.000000, -1.000000, -1.000000, -1.000000
100
0.5
Image Width : 400
Image Height : 268
Bits Per Sample : 8
Color Components : 3
Aperture : 3.5
Image Size : 400x268
Megapixels : 0.107
Scale Factor To 35 mm Equivalent : 1.5
Shutter Speed : 1/2000
Create Date : 2008:01:12 12:06:31.90
Date/Time Original : 2008:01:12 12:06:31.9
Modify Date : 2025:03:01 22:28:52-08:00
Circle Of Confusion : 0.020 mm
Depth Of Field : inf (4.62 m - inf)
Field Of View : 67.4 deg
Focal Length : 18.0 mm (35 mm equivalent: 27.0 mm)
Hyperfocal Distance : 4.62 m
Light Value : 13.9
Lens ID : AF-S DX Zoom-Nikkor 18-55mm f/3.5-5.6G ED