Uber Exif Photo
Photometric Interpretation : RGB
Make : Panasonic
Camera Model Name : DC-S5
Orientation : Horizontal (normal)
Samples Per Pixel : 3
Software : Adobe Photoshop 26.4 (Windows)
Modify Date : 2025:03:04 12:22:19
Artist : JRA
Exposure Time : 1/200
F Number : 2.8
Exposure Program : Aperture-priority AE
ISO : 800
Sensitivity Type : Standard Output Sensitivity
Standard Output Sensitivity : 800
Date/Time Original : 2025:02:10 08:20:52
Create Date : 2025:02:10 08:20:52
Shutter Speed Value : 1/200
Aperture Value : 2.8
Exposure Compensation : -1
Max Aperture Value : 2.0
Metering Mode : Multi-segment
Light Source : Unknown
Flash : Off, Did not fire
Focal Length : 50.0 mm
Color Space : sRGB
Exif Image Width : 3157
Exif Image Height : 2264
Sensing Method : One-chip color area
Scene Type : Directly photographed
Custom Rendered : Custom
Exposure Mode : Auto
White Balance : Auto
Digital Zoom Ratio : 0
Focal Length In 35mm Format : 50 mm
Scene Capture Type : Standard
Gain Control : High gain up
Contrast : High
Saturation : High
Sharpness : Soft
Serial Number : WJ3CB001079
Lens Model : 50mm F2 DG DN | Contemporary 023
Lens Serial Number : 7224818
By-line : JRA
Creator Tool : Adobe Photoshop Lightroom Classic 14.2 (Windows)
Preserved File Name : P1000217.JPG
Format : image/jpeg
Lens : 50mm F2 DG DN | Contemporary 023
Date Created : 2025:02:10 08:20:52.223-05:00
Color Mode : RGB
ICC Profile Name : sRGB IEC61966-2.1
Pick : 0
Raw File Name : P1000217.JPG
Version : 17.2
Process Version : 15.4
Incremental Temperature : +2
Incremental Tint : +12
Exposure 2012 : 0.00
Contrast 2012 : 0
Highlights 2012 : 0
Shadows 2012 : -44
Whites 2012 : 0
Blacks 2012 : -2
Texture : 0
Clarity 2012 : +18
Dehaze : 0
Vibrance : +7
Parametric Shadows : 0
Parametric Darks : 0
Parametric Lights : 0
Parametric Highlights : 0
Parametric Shadow Split : 25
Parametric Midtone Split : 50
Parametric Highlight Split : 75
Sharpen Radius : +3.0
Sharpen Detail : 100
Sharpen Edge Masking : 50
Luminance Smoothing : 31
Luminance Noise Reduction Detail : 50
Luminance Noise Reduction Contrast : 0
Color Noise Reduction : 33
Color Noise Reduction Detail : 50
Color Noise Reduction Smoothness : 50
Hue Adjustment Red : +27
Hue Adjustment Orange : -10
Hue Adjustment Yellow : +8
Hue Adjustment Green : +1
Hue Adjustment Aqua : +22
Hue Adjustment Blue : -20
Hue Adjustment Purple : -3
Hue Adjustment Magenta : +77
Saturation Adjustment Red : +16
Saturation Adjustment Orange : -22
Saturation Adjustment Yellow : -26
Saturation Adjustment Green : -26
Saturation Adjustment Aqua : +14
Saturation Adjustment Blue : +12
Saturation Adjustment Purple : -18
Saturation Adjustment Magenta : -1
Luminance Adjustment Red : +8
Luminance Adjustment Orange : +9
Luminance Adjustment Yellow : -4
Luminance Adjustment Green : +8
Luminance Adjustment Aqua : -7
Luminance Adjustment Blue : -8
Luminance Adjustment Purple : -4
Luminance Adjustment Magenta : +14
Split Toning Shadow Hue : 0
Split Toning Shadow Saturation : 0
Split Toning Highlight Hue : 0
Split Toning Highlight Saturation : 0
Split Toning Balance : 0
Color Grade Midtone Hue : 0
Color Grade Midtone Sat : 0
Color Grade Shadow Lum : 0
Color Grade Midtone Lum : 0
Color Grade Highlight Lum : 0
Color Grade Blending : 50
Color Grade Global Hue : 0
Color Grade Global Sat : 0
Color Grade Global Lum : 0
Auto Lateral CA : 0
Lens Profile Enable : 0
Lens Manual Distortion Amount : 0
Vignette Amount : 0
Defringe Purple Amount : 0
Defringe Purple Hue Lo : 30
Defringe Purple Hue Hi : 70
Defringe Green Amount : 0
Defringe Green Hue Lo : 40
Defringe Green Hue Hi : 60
Perspective Upright : Off
Perspective Vertical : 0
Perspective Horizontal : 0
Perspective Rotate : 0.0
Perspective Aspect : 0
Perspective Scale : 100
Perspective X : 0.00
Perspective Y : 0.00
Grain Amount : 0
Post Crop Vignette Amount : 0
Shadow Tint : 0
Red Hue : 0
Red Saturation : 0
Green Hue : 0
Green Saturation : 0
Blue Hue : 0
Blue Saturation : 0
HDR Edit Mode : 0
Curve Refine Saturation : 100
Convert To Grayscale : False
Override Look Vignette : False
Tone Curve Name 2012 : Custom
Camera Profile : Embedded
Has Settings : True
Crop Top : 0.057432
Crop Left : 0.103604
Crop Bottom : 1
Crop Right : 0.97973
Crop Angle : 0
Crop Constrain To Warp : 0
Has Crop : True
Already Applied : True
Creator : JRA
Tone Curve PV2012 : 0, 0, 17, 7, 34, 16, 51, 27, 68, 42, 85, 61, 102, 82, 119, 103, 136, 127, 153, 152, 170, 173, 187, 196, 204, 218, 221, 237, 238, 249, 255, 255
Tone Curve PV2012 Red : 0, 0, 17, 17, 34, 34, 51, 51, 68, 68, 85, 86, 102, 103, 119, 120, 136, 137, 153, 154, 170, 170, 187, 186, 204, 203, 221, 221, 238, 238, 255, 255
Tone Curve PV2012 Green : 0, 0, 17, 17, 34, 34, 51, 51, 68, 69, 85, 86, 102, 103, 119, 120, 136, 137, 153, 154, 170, 171, 187, 187, 204, 204, 221, 221, 238, 238, 255, 255
Tone Curve PV2012 Blue : 0, 0, 17, 17, 34, 33, 51, 50, 68, 67, 85, 84, 102, 102, 119, 119, 136, 137, 153, 154, 170, 170, 187, 186, 204, 202, 221, 220, 238, 239, 255, 255
Point Colors : -1.000000, -1.000000, -1.000000, -1.000000, -1.000000, -1.000000, -1.000000, -1.000000, -1.000000, -1.000000, -1.000000, -1.000000, -1.000000, -1.000000, -1.000000, -1.000000, -1.000000, -1.000000, -1.000000
Profile Description : sRGB IEC61966-2.1
Image Width : 400
Image Height : 287
Bits Per Sample : 8
Color Components : 3
Aperture : 2.8
Image Size : 400x287
Megapixels : 0.115
Scale Factor To 35 mm Equivalent : 1.0
Shutter Speed : 1/200
Create Date : 2025:02:10 08:20:52.223-05:00
Date/Time Original : 2025:02:10 08:20:52.223-05:00
Modify Date : 2025:03:04 12:22:19-05:00
Circle Of Confusion : 0.030 mm
Field Of View : 39.6 deg
Focal Length : 50.0 mm (35 mm equivalent: 50.0 mm)
Hyperfocal Distance : 29.72 m
Light Value : 7.6
Lens ID : 50mm F2 DG DN | Contemporary 023