Uber Exif Photo
Photometric Interpretation : RGB
Make : Panasonic
Camera Model Name : DC-S5
Orientation : Horizontal (normal)
Samples Per Pixel : 3
Software : Adobe Photoshop 26.4 (Windows)
Modify Date : 2025:03:07 16:04:03
Artist : JRA
Copyright : JOHN ANGARONI
Exposure Time : 1/60
Exposure Program : Aperture-priority AE
ISO : 800
Date/Time Original : 2025:03:05 17:22:31
Create Date : 2025:03:05 17:22:31
Shutter Speed Value : 1/60
Exposure Compensation : -1
Max Aperture Value : 1.0
Metering Mode : Multi-segment
Light Source : Unknown
Flash : Off, Did not fire
Color Space : sRGB
Exif Image Width : 3155
Exif Image Height : 2304
Sensing Method : One-chip color area
Scene Type : Directly photographed
Custom Rendered : Custom
Exposure Mode : Auto
White Balance : Auto
Digital Zoom Ratio : 0
Scene Capture Type : Standard
Gain Control : High gain up
Contrast : High
Saturation : Normal
Sharpness : Soft
Serial Number : WJ3CB001079
By-line : JRA
Copyright Notice : JOHN ANGARONI
Creator Tool : Adobe Photoshop Lightroom Classic 14.2 (Windows)
Preserved File Name : P1001316.RW2
Format : image/jpeg
Date Created : 2025:03:05 17:22:31.107-05:00
Color Mode : RGB
ICC Profile Name : sRGB IEC61966-2.1
Pick : 0
Raw File Name : P1001316.RW2
Version : 17.2
Process Version : 15.4
Color Temperature : 5158
Tint : +37
Exposure 2012 : 0.00
Contrast 2012 : -2
Highlights 2012 : -21
Shadows 2012 : +28
Whites 2012 : -7
Blacks 2012 : +7
Texture : 0
Clarity 2012 : +58
Dehaze : 0
Vibrance : +12
Parametric Shadows : 0
Parametric Darks : 0
Parametric Lights : 0
Parametric Highlights : 0
Parametric Shadow Split : 25
Parametric Midtone Split : 50
Parametric Highlight Split : 75
Sharpen Radius : +3.0
Sharpen Detail : 100
Sharpen Edge Masking : 50
Luminance Smoothing : 24
Luminance Noise Reduction Detail : 50
Luminance Noise Reduction Contrast : 0
Color Noise Reduction : 25
Color Noise Reduction Detail : 50
Color Noise Reduction Smoothness : 50
Hue Adjustment Red : +14
Hue Adjustment Orange : -11
Hue Adjustment Yellow : -8
Hue Adjustment Green : 0
Hue Adjustment Aqua : +13
Hue Adjustment Blue : -3
Hue Adjustment Purple : +11
Hue Adjustment Magenta : +55
Saturation Adjustment Red : +22
Saturation Adjustment Orange : -4
Saturation Adjustment Yellow : -2
Saturation Adjustment Green : -8
Saturation Adjustment Aqua : +53
Saturation Adjustment Blue : -17
Saturation Adjustment Purple : -5
Saturation Adjustment Magenta : -3
Luminance Adjustment Red : 0
Luminance Adjustment Orange : +15
Luminance Adjustment Yellow : +26
Luminance Adjustment Green : +27
Luminance Adjustment Aqua : +4
Luminance Adjustment Blue : -24
Luminance Adjustment Purple : -25
Luminance Adjustment Magenta : 0
Split Toning Shadow Hue : 0
Split Toning Shadow Saturation : 0
Split Toning Highlight Hue : 0
Split Toning Highlight Saturation : 0
Split Toning Balance : 0
Color Grade Midtone Hue : 0
Color Grade Midtone Sat : 0
Color Grade Shadow Lum : 0
Color Grade Midtone Lum : 0
Color Grade Highlight Lum : 0
Color Grade Blending : 50
Color Grade Global Hue : 0
Color Grade Global Sat : 0
Color Grade Global Lum : 0
Auto Lateral CA : 0
Lens Profile Enable : 0
Lens Manual Distortion Amount : 0
Vignette Amount : 0
Defringe Purple Amount : 0
Defringe Purple Hue Lo : 30
Defringe Purple Hue Hi : 70
Defringe Green Amount : 0
Defringe Green Hue Lo : 40
Defringe Green Hue Hi : 60
Perspective Upright : Off
Perspective Vertical : 0
Perspective Horizontal : 0
Perspective Rotate : 0.0
Perspective Aspect : 0
Perspective Scale : 100
Perspective X : 0.00
Perspective Y : 0.00
Grain Amount : 0
Post Crop Vignette Amount : 0
Shadow Tint : 0
Red Hue : 0
Red Saturation : 0
Green Hue : 0
Green Saturation : 0
Blue Hue : 0
Blue Saturation : 0
HDR Edit Mode : 0
Curve Refine Saturation : 100
Convert To Grayscale : False
Override Look Vignette : False
Tone Curve Name 2012 : Custom
Camera Profile : Adobe Standard
Has Settings : True
Crop Top : 0.041178
Crop Left : 0.011438
Crop Bottom : 0.962399
Crop Right : 0.905262
Crop Angle : -1.64
Crop Constrain To Warp : 0
Has Crop : True
Already Applied : True
Creator : JRA
Rights : JOHN ANGARONI
Tone Curve PV2012 : 0, 0, 42, 30, 78, 65, 126, 119, 166, 163, 202, 208, 235, 244, 255, 255
Tone Curve PV2012 Red : 0, 0, 255, 255
Tone Curve PV2012 Green : 0, 0, 255, 255
Tone Curve PV2012 Blue : 0, 0, 255, 255
Point Colors : -1.000000, -1.000000, -1.000000, -1.000000, -1.000000, -1.000000, -1.000000, -1.000000, -1.000000, -1.000000, -1.000000, -1.000000, -1.000000, -1.000000, -1.000000, -1.000000, -1.000000, -1.000000, -1.000000
Profile Description : sRGB IEC61966-2.1
Image Width : 400
Image Height : 292
Bits Per Sample : 8
Color Components : 3
Image Size : 400x292
Megapixels : 0.117
Scale Factor To 35 mm Equivalent : 1.8
Shutter Speed : 1/60
Create Date : 2025:03:05 17:22:31.107-05:00
Date/Time Original : 2025:03:05 17:22:31.107-05:00
Modify Date : 2025:03:07 16:04:03-05:00
Circle Of Confusion : 0.016 mm