Uber Exif Photo
Make : NIKON CORPORATION
Camera Model Name : NIKON Z 9
Software : Adobe Photoshop Lightroom Classic 14.3 (Windows)
Modify Date : 2025:04:28 20:12:13
Artist : RON CHRISTIAN PHOTOGRAPHY LLC
Copyright : RON CHRISTIAN Photography, LLC
Exposure Time : 1/500
F Number : 5.0
Exposure Program : Aperture-priority AE
ISO : 640
Sensitivity Type : Recommended Exposure Index
Recommended Exposure Index : 640
Date/Time Original : 2025:04:24 18:05:03
Create Date : 2025:04:24 18:05:03
Shutter Speed Value : 1/500
Aperture Value : 5.0
Exposure Compensation : +1
Metering Mode : Multi-segment
Light Source : Unknown
Flash : No Flash
Focal Length : 24.0 mm
Color Space : Uncalibrated
Sensing Method : One-chip color area
Scene Type : Directly photographed
CFA Pattern : [Red,Green][Green,Blue]
Custom Rendered : Custom
Exposure Mode : Auto
White Balance : Auto
Focal Length In 35mm Format : 24 mm
Scene Capture Type : Standard
Gain Control : None
Contrast : Normal
Saturation : Normal
Sharpness : Normal
Subject Distance Range : Unknown
Serial Number : 3007348
Lens Info : 24-120mm f/4
Lens Make : NIKON
Lens Model : NIKKOR Z 24-120mm f/4 S
Lens Serial Number : 20058587
By-line : RON CHRISTIAN PHOTOGRAPHY LLC
Copyright Notice : RON CHRISTIAN Photography, LLC
Profile Description : ProPhoto RGB
Creator Tool : Adobe Photoshop Lightroom Classic 14.3 (Windows)
Format : image/jpeg
Lens : NIKKOR Z 24-120mm f/4 S
Image Number : 130589
Distortion Correction Already Applied : True
Lateral Chromatic Aberration Correction Already Applied:
True
Vignette Correction Already Applied : True
Date Created : 2025:04:24 18:05:03.43-07:00
Preserved File Name : Z9P_0896.NEF
Pick : 0
Raw File Name : Z9P_0896.dng
Version : 17.3
Process Version : 15.4
Color Temperature : 5350
Tint : +22
Exposure 2012 : +0.51
Contrast 2012 : 0
Highlights 2012 : -50
Shadows 2012 : +75
Whites 2012 : -48
Blacks 2012 : 0
Texture : 0
Clarity 2012 : 0
Dehaze : 0
Vibrance : 0
Parametric Shadows : 0
Parametric Darks : 0
Parametric Lights : 0
Parametric Highlights : 0
Parametric Shadow Split : 25
Parametric Midtone Split : 50
Parametric Highlight Split : 75
Sharpen Radius : +1.0
Sharpen Detail : 25
Sharpen Edge Masking : 0
Luminance Smoothing : 27
Luminance Noise Reduction Detail : 50
Luminance Noise Reduction Contrast : 0
Color Noise Reduction : 25
Color Noise Reduction Detail : 50
Color Noise Reduction Smoothness : 50
Hue Adjustment Red : 0
Hue Adjustment Orange : 0
Hue Adjustment Yellow : 0
Hue Adjustment Green : 0
Hue Adjustment Aqua : 0
Hue Adjustment Blue : 0
Hue Adjustment Purple : 0
Hue Adjustment Magenta : 0
Saturation Adjustment Red : 0
Saturation Adjustment Orange : 0
Saturation Adjustment Yellow : 0
Saturation Adjustment Green : 0
Saturation Adjustment Aqua : 0
Saturation Adjustment Blue : 0
Saturation Adjustment Purple : 0
Saturation Adjustment Magenta : 0
Luminance Adjustment Red : 0
Luminance Adjustment Orange : 0
Luminance Adjustment Yellow : 0
Luminance Adjustment Green : 0
Luminance Adjustment Aqua : 0
Luminance Adjustment Blue : 0
Luminance Adjustment Purple : 0
Luminance Adjustment Magenta : 0
Split Toning Shadow Hue : 0
Split Toning Shadow Saturation : 0
Split Toning Highlight Hue : 0
Split Toning Highlight Saturation : 0
Split Toning Balance : 0
Color Grade Midtone Hue : 0
Color Grade Midtone Sat : 0
Color Grade Shadow Lum : 0
Color Grade Midtone Lum : 0
Color Grade Highlight Lum : 0
Color Grade Blending : 50
Color Grade Global Hue : 0
Color Grade Global Sat : 0
Color Grade Global Lum : 0
Auto Lateral CA : 1
Lens Profile Enable : 1
Lens Manual Distortion Amount : 0
Vignette Amount : 0
Defringe Purple Amount : 0
Defringe Purple Hue Lo : 30
Defringe Purple Hue Hi : 70
Defringe Green Amount : 0
Defringe Green Hue Lo : 40
Defringe Green Hue Hi : 60
Perspective Upright : Off
Perspective Vertical : 0
Perspective Horizontal : 0
Perspective Rotate : 0.0
Perspective Aspect : 0
Perspective Scale : 100
Perspective X : 0.00
Perspective Y : 0.00
Grain Amount : 0
Post Crop Vignette Amount : 0
Shadow Tint : 0
Red Hue : 0
Red Saturation : 0
Green Hue : 0
Green Saturation : 0
Blue Hue : 0
Blue Saturation : 0
HDR Edit Mode : 0
Override Look Vignette : False
Tone Curve Name 2012 : Linear
Camera Profile : Adobe Standard
Lens Profile Setup : LensDefaults
Has Settings : True
Crop Top : 0.139393
Crop Left : 0.387439
Crop Bottom : 0.794623
Crop Right : 0.736895
Crop Angle : 0
Crop Constrain To Warp : 0
Crop Constrain To Unit Square : 1
Has Crop : True
Already Applied : True
Creator : RON CHRISTIAN PHOTOGRAPHY LLC
Rights : RON CHRISTIAN Photography, LLC
Tone Curve PV2012 : 0, 0, 255, 255
Tone Curve PV2012 Red : 0, 0, 255, 255
Tone Curve PV2012 Green : 0, 0, 255, 255
Tone Curve PV2012 Blue : 0, 0, 255, 255
Point Colors : -1.000000, -1.000000, -1.000000, -1.000000, -1.000000, -1.000000, -1.000000, -1.000000, -1.000000, -1.000000, -1.000000, -1.000000, -1.000000, -1.000000, -1.000000, -1.000000, -1.000000, -1.000000, -1.000000
Look Name : Adobe Color
Look Amount : 1
Look Supports Amount : false
Look Supports Monochrome : false
Look Supports Output Referred : false
Look Copyright : © 2018 Adobe Systems, Inc.
Look Group : Profiles
Look Parameters Version : 17.3
Look Parameters Process Version : 15.4
Look Parameters Convert To Grayscale : False
Look Parameters Camera Profile : Adobe Standard
Look Parameters Look Table : E1095149FDB39D7A057BAB208837E2E1
Look Parameters Tone Curve PV2012 : 0, 0, 22, 16, 40, 35, 127, 127, 224, 230, 240, 246, 255, 255
Look Parameters Tone Curve PV2012 Red : 0, 0, 255, 255
Look Parameters Tone Curve PV2012 Green : 0, 0, 255, 255
Look Parameters Tone Curve PV2012 Blue : 0, 0, 255, 255
Image Width : 400
Image Height : 320
Bits Per Sample : 8
Color Components : 3
Aperture : 5.0
Image Size : 400x320
Megapixels : 0.128
Scale Factor To 35 mm Equivalent : 1.0
Shutter Speed : 1/500
Create Date : 2025:04:24 18:05:03.43-07:00
Date/Time Original : 2025:04:24 18:05:03.43-07:00
Modify Date : 2025:04:28 20:12:13-07:00
Circle Of Confusion : 0.030 mm
Field Of View : 73.7 deg
Focal Length : 24.0 mm (35 mm equivalent: 24.0 mm)
Hyperfocal Distance : 3.83 m
Light Value : 10.9
Lens ID : NIKKOR Z 24-120mm f/4 S