Uber Exif Photo
Make : NIKON CORPORATION
Camera Model Name : NIKON Z 9
Software : Adobe Photoshop Lightroom Classic 14.5 (Windows)
Modify Date : 2025:08:16 22:34:59
Artist : RON CHRISTIAN PHOTOGRAPHY LLC
Copyright : RON CHRISTIAN Photography, LLC
Exposure Time : 1/500
F Number : 4.0
Exposure Program : Aperture-priority AE
ISO : 1250
Sensitivity Type : Recommended Exposure Index
Recommended Exposure Index : 1250
Date/Time Original : 2025:07:19 20:30:56
Create Date : 2025:07:19 20:30:56
Shutter Speed Value : 1/500
Aperture Value : 4.0
Exposure Compensation : 0
Metering Mode : Center-weighted average
Light Source : Unknown
Flash : No Flash
Focal Length : 44.0 mm
Color Space : sRGB
Sensing Method : One-chip color area
Scene Type : Directly photographed
CFA Pattern : [Red,Green][Green,Blue]
Custom Rendered : Custom
Exposure Mode : Auto
White Balance : Auto
Focal Length In 35mm Format : 44 mm
Scene Capture Type : Standard
Gain Control : Low gain up
Contrast : Normal
Saturation : Normal
Sharpness : Normal
Subject Distance Range : Unknown
Serial Number : 3007348
Lens Info : 24-70mm f/2.8
Lens Model : 24-70mm f/2.8G
By-line : RON CHRISTIAN PHOTOGRAPHY LLC
Copyright Notice : RON CHRISTIAN Photography, LLC
Profile Description : sRGB IEC61966-2.1
Creator Tool : Adobe Photoshop Lightroom Classic 14.5 (Windows)
Format : image/jpeg
Lens : 24-70mm f/2.8G
Image Number : 160704
Distortion Correction Already Applied : True
Lateral Chromatic Aberration Correction Already Applied:
True
Vignette Correction Already Applied : True
Date Created : 2025:07:19 20:30:56.36-07:00
Preserved File Name : Z9P_1014.NEF
Pick : 0
Raw File Name : Z9P_1014.dng
Version : 17.5
Compatible Version : 285212672
Process Version : 15.4
Color Temperature : 5646
Tint : +22
Exposure 2012 : +0.83
Contrast 2012 : 0
Highlights 2012 : 0
Shadows 2012 : +10
Whites 2012 : 0
Blacks 2012 : -26
Texture : 0
Clarity 2012 : 0
Dehaze : 0
Vibrance : +17
Parametric Shadows : 0
Parametric Darks : 0
Parametric Lights : 0
Parametric Highlights : 0
Parametric Shadow Split : 25
Parametric Midtone Split : 50
Parametric Highlight Split : 75
Sharpen Radius : +1.0
Sharpen Detail : 25
Sharpen Edge Masking : 0
Luminance Smoothing : 0
Color Noise Reduction : 0
Hue Adjustment Red : 0
Hue Adjustment Orange : 0
Hue Adjustment Yellow : 0
Hue Adjustment Green : 0
Hue Adjustment Aqua : 0
Hue Adjustment Blue : 0
Hue Adjustment Purple : 0
Hue Adjustment Magenta : 0
Saturation Adjustment Red : 0
Saturation Adjustment Orange : 0
Saturation Adjustment Yellow : 0
Saturation Adjustment Green : 0
Saturation Adjustment Aqua : 0
Saturation Adjustment Blue : 0
Saturation Adjustment Purple : 0
Saturation Adjustment Magenta : 0
Luminance Adjustment Red : 0
Luminance Adjustment Orange : 0
Luminance Adjustment Yellow : 0
Luminance Adjustment Green : 0
Luminance Adjustment Aqua : 0
Luminance Adjustment Blue : 0
Luminance Adjustment Purple : 0
Luminance Adjustment Magenta : 0
Split Toning Shadow Hue : 0
Split Toning Shadow Saturation : 0
Split Toning Highlight Hue : 0
Split Toning Highlight Saturation : 0
Split Toning Balance : 0
Color Grade Midtone Hue : 0
Color Grade Midtone Sat : 0
Color Grade Shadow Lum : 0
Color Grade Midtone Lum : 0
Color Grade Highlight Lum : 0
Color Grade Blending : 50
Color Grade Global Hue : 0
Color Grade Global Sat : 0
Color Grade Global Lum : 0
Auto Lateral CA : 1
Lens Profile Enable : 1
Lens Manual Distortion Amount : 0
Vignette Amount : 0
Defringe Purple Amount : 0
Defringe Purple Hue Lo : 30
Defringe Purple Hue Hi : 70
Defringe Green Amount : 0
Defringe Green Hue Lo : 40
Defringe Green Hue Hi : 60
Perspective Upright : Off
Perspective Vertical : 0
Perspective Horizontal : 0
Perspective Rotate : 0.0
Perspective Aspect : 0
Perspective Scale : 100
Perspective X : 0.00
Perspective Y : 0.00
Grain Amount : 0
Post Crop Vignette Amount : 0
Shadow Tint : 0
Red Hue : 0
Red Saturation : 0
Green Hue : 0
Green Saturation : 0
Blue Hue : 0
Blue Saturation : 0
HDR Edit Mode : 0
Override Look Vignette : False
Tone Curve Name 2012 : Linear
Camera Profile : Adobe Standard
Lens Profile Setup : LensDefaults
Lens Profile Name : Camera Settings
Lens Profile Is Embedded : True
Lens Profile Distortion Scale : 100
Lens Profile Vignetting Scale : 100
Allow Filters : 1
Has Settings : True
Crop Top : 0.161157
Crop Left : 0.495635
Crop Bottom : 0.62143
Crop Right : 0.863797
Crop Angle : 1.15
Crop Constrain To Warp : 0
Crop Constrain To Unit Square : 1
Has Crop : True
Already Applied : True
Creator : RON CHRISTIAN PHOTOGRAPHY LLC
Rights : RON CHRISTIAN Photography, LLC
Camera Profiles Author : Adobe
Camera Profiles Make : NIKON CORPORATION
Camera Profiles Model : NIKON Z 9
Camera Profiles Unique Camera Model : Nikon Z 9
Camera Profiles Camera Raw Profile : True
Camera Profiles Auto Scale : False
Camera Profiles Lens : 24-70mm f/2.8G
Camera Profiles Camera Pretty Name : Nikon Z 9
Camera Profiles Lens Pretty Name : 24-70mm f/2.8G
Camera Profiles Profile Name : Camera Settings
Camera Profiles Sensor Format Factor : 1.003485
Camera Profiles Focal Length : 44
Camera Profiles Focus Distance : 10000
Camera Profiles Aperture Value : 4
Camera Profiles Perspective Model Version : 2
Camera Profiles Perspective Model Scale Factor:
0.977429
Camera Profiles Perspective Model Radial Distort Param 1:
0.086123
Camera Profiles Perspective Model Radial Distort Param 2:
0.141297
Camera Profiles Perspective Model Radial Distort Param 3:
-0.414922
Camera Profiles Perspective Model Vignette Model Vignette Model Param 1:
1
Camera Profiles Perspective Model Vignette Model Vignette Model Piecewise Param:
Tone Curve PV2012 : 0, 0, 255, 255
Tone Curve PV2012 Red : 0, 0, 255, 255
Tone Curve PV2012 Green : 0, 0, 255, 255
Tone Curve PV2012 Blue : 0, 0, 255, 255
Point Colors : -1.000000, -1.000000, -1.000000, -1.000000, -1.000000, -1.000000, -1.000000, -1.000000, -1.000000, -1.000000, -1.000000, -1.000000, -1.000000, -1.000000, -1.000000, -1.000000, -1.000000, -1.000000, -1.000000
Color Variance : -50.000000
Filter List Filters Name : Enhance
Filter List Filters Title : $$$/CRaw/Filter/Title/Denoise=Denoise
Filter List Filters Filter ID : 1
Filter List Filters Min Display Version : 285212672
Filter List Filters Min Edit Version : 285212672
Filter List Filters Order Index N : 100000
Filter List Filters Order Index D : 1
Filter List Filters Src Bounds Top : 0
Filter List Filters Src Bounds Left : 0
Filter List Filters Src Bounds Bottom : 5520
Filter List Filters Src Bounds Right : 8280
Filter List Filters Dst Bounds Top : 0
Filter List Filters Dst Bounds Left : 0
Filter List Filters Dst Bounds Bottom : 5520
Filter List Filters Dst Bounds Right : 8280
Filter List Filters Src Default Crop Area Top : 8
Filter List Filters Src Default Crop Area Left:
12
Filter List Filters Src Default Crop Area Bottom:
5512
Filter List Filters Src Default Crop Area Right:
8268
Filter List Filters Dst Default Crop Area Top : 8
Filter List Filters Dst Default Crop Area Left:
Filter List Filters Dst Default Crop Area Bottom:
Filter List Filters Dst Default Crop Area Right:
Filter List Filters Should Delete Images Due To Upstream:
true
Filter List Filters Compressed Settings : 0DA5471E2D7C6364EFB8266EED12326C
Filter List Filters Images Reference Image Area Top:
0
Filter List Filters Images Reference Image Area Left:
Filter List Filters Images Reference Image Area Bottom:
5520
Filter List Filters Images Reference Image Area Right:
8280
Filter List Filters Images Reference Default Crop Area Top:
8
Filter List Filters Images Reference Default Crop Area Left:
Filter List Filters Images Reference Default Crop Area Bottom:
Filter List Filters Images Reference Default Crop Area Right:
Filter List Filters Images Blend Type : 1
Filter List Filters Images Blend White Balance Mode:
2
Filter List Filters Images Matrix Type A : 1
Filter List Filters Images Matrix Type B : 1
Filter List Filters Images Matrix Type C : 4
Filter List Filters Images Opacity : 1,1
B2C97AE425DD751B0E48A3ACAE79CF4A
Filter List Filters Images Blend Params : 0.700000000186265, 0.75, 1, 1
Filter List Filters Images Matrix Params A : 0.25, 0.25
Filter List Filters Images Matrix Params B : 0.25, 0.25
Filter List Filters Images Color Variations Linearization Map Polynomial:
0.00175958778709173, 0.0623900257050991, 0, 0.935850386507809, 0.00350288394838572, 0.0622810693457723, 0, 0.934216046705842, 0.00221577752381563, 0.0623615141957998, 0, 0.935422708280385
Filter List Filters Images Color Variations Black Levels Black:
0,1
8E1A0A64D2AE8F8DD93E4917E96175A4
A9C433AE69BEFAF58A799915B80E366C
Filter List Filters Images Color Variations Image Group Size X:
Filter List Filters Images Color Variations Image Group Size Y:
Filter List Filters Images Color Variations Image Group Stage 3X:
8256
Filter List Filters Images Color Variations Image Group Stage 3Y:
5504
Filter List Filters Images Color Variations Image Group Pixel Type:
3
Filter List Filters Images Color Variations Image Group Planes:
Look Name : Adobe Color
Look Amount : 1
Look Supports Amount : false
Look Supports Monochrome : false
Look Supports Output Referred : false
Look Copyright : © 2018 Adobe Systems, Inc.
Look Group : Profiles
Look Parameters Version : 17.5
Look Parameters Process Version : 15.4
Look Parameters Convert To Grayscale : False
Look Parameters Camera Profile : Adobe Standard
Look Parameters Look Table : E1095149FDB39D7A057BAB208837E2E1
Look Parameters Tone Curve PV2012 : 0, 0, 22, 16, 40, 35, 127, 127, 224, 230, 240, 246, 255, 255
Look Parameters Tone Curve PV2012 Red : 0, 0, 255, 255
Look Parameters Tone Curve PV2012 Green : 0, 0, 255, 255
Look Parameters Tone Curve PV2012 Blue : 0, 0, 255, 255
Look Parameters Point Colors : -1.000000, -1.000000, -1.000000, -1.000000, -1.000000, -1.000000, -1.000000, -1.000000, -1.000000, -1.000000, -1.000000, -1.000000, -1.000000, -1.000000, -1.000000, -1.000000, -1.000000, -1.000000, -1.000000
Look Parameters Color Variance : -50.000000
Image Width : 320
Image Height : 400
Bits Per Sample : 8
Color Components : 3
Aperture : 4.0
Image Size : 320x400
Megapixels : 0.128
Scale Factor To 35 mm Equivalent : 1.0
Shutter Speed : 1/500
Create Date : 2025:07:19 20:30:56.36-07:00
Date/Time Original : 2025:07:19 20:30:56.36-07:00
Modify Date : 2025:08:16 22:34:59-07:00
Circle Of Confusion : 0.030 mm
Field Of View : 44.5 deg
Focal Length : 44.0 mm (35 mm equivalent: 44.0 mm)
Hyperfocal Distance : 16.11 m
Light Value : 9.3
Lens ID : 24-70mm f/2.8G