Uber Exif Photo
Photometric Interpretation : RGB
Make : FUJIFILM
Camera Model Name : X-E3
Orientation : Horizontal (normal)
Samples Per Pixel : 3
Software : Adobe Photoshop 26.10 (Windows)
Modify Date : 2025:08:24 17:44:34
Exposure Time : 1/90
F Number : 1.0
Exposure Program : Aperture-priority AE
ISO : 200
Sensitivity Type : Standard Output Sensitivity
Date/Time Original : 2025:08:21 13:58:35
Create Date : 2025:08:21 13:58:35
Shutter Speed Value : 1/90
Aperture Value : 1.0
Brightness Value : 0.82
Exposure Compensation : 0
Metering Mode : Multi-segment
Light Source : Unknown
Flash : No Flash
Focal Length : 23.0 mm
Color Space : sRGB
Exif Image Width : 2933
Exif Image Height : 1955
Sensing Method : One-chip color area
Scene Type : Directly photographed
Custom Rendered : Normal
Exposure Mode : Auto
White Balance : Auto
Focal Length In 35mm Format : 35 mm
Scene Capture Type : Standard
Sharpness : Soft
Subject Distance Range : Unknown
Serial Number : 9CA00631
Lens Info : 23mm f/?
Lens Model : 23.0 mm
Creator Tool : Adobe Photoshop Lightroom Classic 14.5 (Windows)
Fuji Rating Already Applied : True
Lens : 23.0 mm
Lateral Chromatic Aberration Correction Already Applied:
True
Date Created : 2025:08:21 13:58:35
Color Mode : RGB
ICC Profile Name : sRGB IEC61966-2.1
Preserved File Name : DSCF0020.RAF
Format : image/jpeg
Pick : 0
Raw File Name : DSCF0020.RAF
Version : 17.5
Process Version : 15.4
Color Temperature : 5100
Tint : +15
Exposure 2012 : 0.00
Contrast 2012 : +9
Highlights 2012 : 0
Shadows 2012 : 0
Whites 2012 : -54
Blacks 2012 : -19
Texture : 0
Clarity 2012 : +9
Dehaze : 0
Vibrance : 0
Saturation : 0
Parametric Shadows : 0
Parametric Darks : 0
Parametric Lights : 0
Parametric Highlights : 0
Parametric Shadow Split : 25
Parametric Midtone Split : 50
Parametric Highlight Split : 75
Sharpen Radius : +1.0
Sharpen Detail : 25
Sharpen Edge Masking : 0
Luminance Smoothing : 0
Color Noise Reduction : 25
Color Noise Reduction Detail : 50
Color Noise Reduction Smoothness : 50
Hue Adjustment Red : 0
Hue Adjustment Orange : 0
Hue Adjustment Yellow : 0
Hue Adjustment Green : 0
Hue Adjustment Aqua : 0
Hue Adjustment Blue : 0
Hue Adjustment Purple : 0
Hue Adjustment Magenta : 0
Saturation Adjustment Red : 0
Saturation Adjustment Orange : 0
Saturation Adjustment Yellow : 0
Saturation Adjustment Green : 0
Saturation Adjustment Aqua : 0
Saturation Adjustment Blue : 0
Saturation Adjustment Purple : 0
Saturation Adjustment Magenta : 0
Luminance Adjustment Red : 0
Luminance Adjustment Orange : 0
Luminance Adjustment Yellow : 0
Luminance Adjustment Green : 0
Luminance Adjustment Aqua : 0
Luminance Adjustment Blue : 0
Luminance Adjustment Purple : 0
Luminance Adjustment Magenta : 0
Split Toning Shadow Hue : 0
Split Toning Shadow Saturation : 0
Split Toning Highlight Hue : 0
Split Toning Highlight Saturation : 0
Split Toning Balance : 0
Color Grade Midtone Hue : 0
Color Grade Midtone Sat : 0
Color Grade Shadow Lum : 0
Color Grade Midtone Lum : 0
Color Grade Highlight Lum : 0
Color Grade Blending : 50
Color Grade Global Hue : 0
Color Grade Global Sat : 0
Color Grade Global Lum : 0
Auto Lateral CA : 1
Lens Profile Enable : 0
Lens Manual Distortion Amount : 0
Vignette Amount : 0
Defringe Purple Amount : 0
Defringe Purple Hue Lo : 30
Defringe Purple Hue Hi : 70
Defringe Green Amount : 0
Defringe Green Hue Lo : 40
Defringe Green Hue Hi : 60
Perspective Upright : Auto
Perspective Vertical : 0
Perspective Horizontal : 0
Perspective Rotate : 0.0
Perspective Aspect : 0
Perspective Scale : 100
Perspective X : 0.00
Perspective Y : 0.00
Grain Amount : 0
Post Crop Vignette Amount : 0
Shadow Tint : 0
Red Hue : 0
Red Saturation : 0
Green Hue : 0
Green Saturation : 0
Blue Hue : 0
Blue Saturation : 0
HDR Edit Mode : 0
Convert To Grayscale : False
Override Look Vignette : False
Tone Curve Name 2012 : Linear
Camera Profile : Camera PROVIA/STANDARD
Has Settings : True
Crop Top : 0.046269
Crop Left : 0.155224
Crop Bottom : 0.885075
Crop Right : 0.99403
Crop Angle : 0
Crop Constrain To Warp : 1
Crop Constrain To Unit Square : 1
Has Crop : True
Already Applied : True
Tone Curve PV2012 : 0, 0, 255, 255
Tone Curve PV2012 Red : 0, 0, 255, 255
Tone Curve PV2012 Green : 0, 0, 255, 255
Tone Curve PV2012 Blue : 0, 0, 255, 255
Point Colors : -1.000000, -1.000000, -1.000000, -1.000000, -1.000000, -1.000000, -1.000000, -1.000000, -1.000000, -1.000000, -1.000000, -1.000000, -1.000000, -1.000000, -1.000000, -1.000000, -1.000000, -1.000000, -1.000000
Color Variance : -50.000000
Profile Description : sRGB IEC61966-2.1
Image Width : 400
Image Height : 267
Bits Per Sample : 8
Color Components : 3
Aperture : 1.0
Image Size : 400x267
Megapixels : 0.107
Scale Factor To 35 mm Equivalent : 1.5
Shutter Speed : 1/90
Modify Date : 2025:08:24 17:44:34-04:00
Circle Of Confusion : 0.020 mm
Field Of View : 54.4 deg
Focal Length : 23.0 mm (35 mm equivalent: 35.0 mm)
Hyperfocal Distance : 26.79 m
Light Value : 5.5
Lens ID : 23.0mm