Uber Exif Photo
Photometric Interpretation : RGB
Make : FUJIFILM
Camera Model Name : X-H1
Orientation : Horizontal (normal)
Samples Per Pixel : 3
Software : Adobe Photoshop 26.10 (Windows)
Modify Date : 2025:08:30 13:48:43
Artist : JOHN ANGARONI
Copyright : JOHN ANGARONI
Exposure Time : 1/80
F Number : 5.6
Exposure Program : Aperture-priority AE
ISO : 400
Sensitivity Type : Standard Output Sensitivity
Date/Time Original : 2025:08:29 14:52:23
Create Date : 2025:08:29 14:52:23
Shutter Speed Value : 1/80
Aperture Value : 5.6
Brightness Value : 4.88
Exposure Compensation : 0
Max Aperture Value : 4.0
Metering Mode : Multi-segment
Light Source : Unknown
Flash : No Flash
Focal Length : 80.0 mm
Color Space : sRGB
Exif Image Width : 2764
Exif Image Height : 1843
Sensing Method : One-chip color area
Scene Type : Directly photographed
Custom Rendered : Normal
Exposure Mode : Auto
White Balance : Auto
Focal Length In 35mm Format : 120 mm
Scene Capture Type : Standard
Sharpness : Soft
Subject Distance Range : Unknown
Serial Number : 82A52229
Lens Info : 16-80mm f/4
Lens Make : FUJIFILM
Lens Model : XF16-80mmF4 R OIS WR
Lens Serial Number : 3CA06177
By-line : JOHN ANGARONI
Copyright Notice : JOHN ANGARONI
Creator Tool : Adobe Photoshop Lightroom Classic 14.5.1 (Windows)
Fuji Rating Already Applied : True
Lens : XF16-80mmF4 R OIS WR
Distortion Correction Already Applied : True
Lateral Chromatic Aberration Correction Already Applied:
True
Vignette Correction Already Applied : True
Format : image/jpeg
Date Created : 2025:08:29 14:52:23
Color Mode : RGB
ICC Profile Name : sRGB IEC61966-2.1
Preserved File Name : JRA13721.RAF
Pick : 0
Raw File Name : JRA13721.RAF
Version : 17.5
Compatible Version : 268632064
Process Version : 15.4
Color Temperature : 4982
Tint : +47
Exposure 2012 : +0.79
Contrast 2012 : +5
Highlights 2012 : -76
Shadows 2012 : +33
Whites 2012 : -35
Blacks 2012 : -14
Texture : 0
Clarity 2012 : -32
Dehaze : 0
Vibrance : 0
Saturation : 0
Parametric Shadows : 0
Parametric Darks : 0
Parametric Lights : 0
Parametric Highlights : 0
Parametric Shadow Split : 25
Parametric Midtone Split : 50
Parametric Highlight Split : 75
Sharpen Radius : +1.0
Sharpen Detail : 25
Sharpen Edge Masking : 0
Luminance Smoothing : 0
Color Noise Reduction : 25
Color Noise Reduction Detail : 50
Color Noise Reduction Smoothness : 50
Hue Adjustment Red : 0
Hue Adjustment Orange : 0
Hue Adjustment Yellow : 0
Hue Adjustment Green : 0
Hue Adjustment Aqua : 0
Hue Adjustment Blue : 0
Hue Adjustment Purple : 0
Hue Adjustment Magenta : 0
Saturation Adjustment Red : 0
Saturation Adjustment Orange : 0
Saturation Adjustment Yellow : 0
Saturation Adjustment Green : 0
Saturation Adjustment Aqua : 0
Saturation Adjustment Blue : 0
Saturation Adjustment Purple : 0
Saturation Adjustment Magenta : 0
Luminance Adjustment Red : 0
Luminance Adjustment Orange : 0
Luminance Adjustment Yellow : 0
Luminance Adjustment Green : 0
Luminance Adjustment Aqua : 0
Luminance Adjustment Blue : 0
Luminance Adjustment Purple : 0
Luminance Adjustment Magenta : 0
Split Toning Shadow Hue : 0
Split Toning Shadow Saturation : 0
Split Toning Highlight Hue : 0
Split Toning Highlight Saturation : 0
Split Toning Balance : 0
Color Grade Midtone Hue : 0
Color Grade Midtone Sat : 0
Color Grade Shadow Lum : 0
Color Grade Midtone Lum : 0
Color Grade Highlight Lum : 0
Color Grade Blending : 50
Color Grade Global Hue : 0
Color Grade Global Sat : 0
Color Grade Global Lum : 0
Auto Lateral CA : 1
Lens Profile Enable : 0
Lens Manual Distortion Amount : 0
Vignette Amount : 0
Defringe Purple Amount : 0
Defringe Purple Hue Lo : 30
Defringe Purple Hue Hi : 70
Defringe Green Amount : 0
Defringe Green Hue Lo : 40
Defringe Green Hue Hi : 60
Perspective Upright : Off
Perspective Vertical : 0
Perspective Horizontal : 0
Perspective Rotate : 0.0
Perspective Aspect : 0
Perspective Scale : 100
Perspective X : 0.00
Perspective Y : 0.00
Grain Amount : 0
Post Crop Vignette Amount : 0
Shadow Tint : 0
Red Hue : 0
Red Saturation : 0
Green Hue : 0
Green Saturation : 0
Blue Hue : 0
Blue Saturation : 0
HDR Edit Mode : 0
Convert To Grayscale : False
Override Look Vignette : False
Tone Curve Name 2012 : Linear
Camera Profile : Camera Velvia/VIVID
Has Settings : True
Crop Top : 0.0801
Crop Left : 0.052737
Crop Bottom : 0.940796
Crop Right : 0.913432
Crop Angle : 0
Crop Constrain To Warp : 0
Crop Constrain To Unit Square : 1
Has Crop : True
Already Applied : True
Creator : JOHN ANGARONI
Rights : JOHN ANGARONI
Tone Curve PV2012 : 0, 0, 255, 255
Tone Curve PV2012 Red : 0, 0, 255, 255
Tone Curve PV2012 Green : 0, 0, 255, 255
Tone Curve PV2012 Blue : 0, 0, 255, 255
Point Colors : -1.000000, -1.000000, -1.000000, -1.000000, -1.000000, -1.000000, -1.000000, -1.000000, -1.000000, -1.000000, -1.000000, -1.000000, -1.000000, -1.000000, -1.000000, -1.000000, -1.000000, -1.000000, -1.000000
Color Variance : -50.000000
Remove Areas Spot Type : heal_patchmatch
Remove Areas Source State : sourceAutoComputed
Remove Areas Opacity : 1
Remove Areas Seed : 2
Remove Areas Pm patch : 9C513BB6B52789877E4241BAA6A9C430
Remove Areas Pm remap info 0 : 0.064530402,0.097413599,0.000000000,1.000000000
Remove Areas Pm remap info 1 : 0.064789809,0.133134961,0.000000000,1.000000000
Remove Areas Pm remap info 2 : 0.063447013,0.086137176,0.000000000,1.000000000
Remove Areas Pm gamma type : 1
Remove Areas Pm whole image top : 16
Remove Areas Pm whole image left : 16
Remove Areas Pm whole image bottom : 4016
Remove Areas Pm whole image right : 6016
Remove Areas Pm full image top : 0
Remove Areas Pm full image left : 0
Remove Areas Pm full image bottom : 4032
Remove Areas Pm full image right : 6032
Remove Areas Pm target top : 2559
Remove Areas Pm target left : 2630
Remove Areas Pm target bottom : 2788
Remove Areas Pm target right : 2855
Remove Areas Pm search top : 2161
Remove Areas Pm search left : 2230
Remove Areas Pm search bottom : 3184
Remove Areas Pm search right : 3253
Remove Areas Pm source type : full
Remove Areas Pm version : 327680
Remove Areas Fill method : firefly
Remove Areas Pm black level : 4092
Remove Areas Pm patch mask : C6986D824E2E5CAE3A7CC31D205B3FC4
Remove Areas Pm mask remap info : 0.000000000,1.000000000,0.000000000,1.000000000
Remove Areas Pm clio model version : clio-erase#epoch=0-step=4000.clio-erase-c2-2025-03-19T10-37-32
Remove Areas Ingest Info : 607F794A975908898FB9C2B2155532C6
Remove Areas Pm remap info variation 0 0 : 0.064408332,0.094483867,0.000000000,1.000000000
Remove Areas Pm remap info variation 0 1 : 0.065537497,0.129304945,0.000000000,1.000000000
Remove Areas Pm remap info variation 0 2 : 0.063477531,0.088090330,0.000000000,1.000000000
Remove Areas Pm remap info variation 1 0 : 0.064698249,0.094605938,0.000000000,1.000000000
Remove Areas Pm remap info variation 1 1 : 0.065293357,0.127916381,0.000000000,1.000000000
Remove Areas Pm remap info variation 1 2 : 0.063477531,0.085252158,0.000000000,1.000000000
Remove Areas Pm patch variations Pm patch variation:
65BE1A316753B52BF3CC5BC5957CAC6E
Remove Areas Masks What : Mask/Image
Remove Areas Masks Mask Active : true
Remove Areas Masks Mask Blend Mode : 0
Remove Areas Masks Mask Inverted : false
Remove Areas Masks Mask Sync ID : B1105555E4CA7743A6FAD7A21650DAFE
Remove Areas Masks Mask Value : 1
Remove Areas Masks Mask Version : 1
Remove Areas Masks Mask Sub Type : 0
Remove Areas Masks Reference Point : 0.456188 0.665676
Remove Areas Masks Whole Image Area : 0/1,0/1,1920/1,2880/1
Remove Areas Masks Origin : 1266,1232
Remove Areas Masks Full Mask Size : 2880,1920
Remove Areas Masks Model Version : 234881976
Remove Areas Masks Gesture What : Mask/Paint
Remove Areas Masks Gesture Mask Active : true
Remove Areas Masks Gesture Mask Blend Mode : 0
Remove Areas Masks Gesture Mask Inverted : false
Remove Areas Masks Gesture Mask Sync ID : F0EBA9501DE1DE4B8EDAF7EBEF195894
Remove Areas Masks Gesture Mask Value : 1
Remove Areas Masks Gesture Radius : 0
Remove Areas Masks Gesture Flow : 1
Remove Areas Masks Gesture Center Weight : 0
Remove Areas Masks Gesture Brush Gesture Interpretation:
1
Profile Description : sRGB IEC61966-2.1
Image Width : 400
Image Height : 267
Bits Per Sample : 8
Color Components : 3
Aperture : 5.6
Image Size : 400x267
Megapixels : 0.107
Scale Factor To 35 mm Equivalent : 1.5
Shutter Speed : 1/80
Modify Date : 2025:08:30 13:48:43-04:00
Circle Of Confusion : 0.020 mm
Field Of View : 17.1 deg
Focal Length : 80.0 mm (35 mm equivalent: 120.0 mm)
Hyperfocal Distance : 57.05 m
Light Value : 9.3
Lens ID : XF16-80mm F4 R OIS WR