Uber Exif Photo
Photometric Interpretation : RGB
Make : Panasonic
Camera Model Name : DC-S5
Orientation : Horizontal (normal)
Samples Per Pixel : 3
Software : Adobe Photoshop 27.0 (Windows)
Modify Date : 2025:11:07 21:24:10
Artist : JRA
Copyright : JOHN ANGARONI
Exposure Time : 1/400
F Number : 8.0
Exposure Program : Aperture-priority AE
ISO : 100
Date/Time Original : 2025:10:21 15:54:20
Create Date : 2025:10:21 15:54:20
Shutter Speed Value : 1/400
Aperture Value : 8.0
Exposure Compensation : -0.33
Max Aperture Value : 2.8
Metering Mode : Multi-segment
Light Source : Unknown
Flash : Off, Did not fire
Focal Length : 45.0 mm
Color Space : sRGB
Exif Image Width : 3300
Exif Image Height : 2200
Sensing Method : One-chip color area
Scene Type : Directly photographed
Custom Rendered : Custom
Exposure Mode : Auto
White Balance : Auto
Digital Zoom Ratio : 0
Focal Length In 35mm Format : 45 mm
Scene Capture Type : Standard
Gain Control : None
Contrast : High
Saturation : Normal
Sharpness : Soft
Serial Number : WJ3CB001079
Lens Model : 45mm F2.8 DG | Contemporary 019
Lens Serial Number : 8859211
By-line : JRA
Copyright Notice : JOHN ANGARONI
Creator Tool : Adobe Photoshop Lightroom Classic 14.5.1 (Windows)
Preserved File Name : P1006078.RW2
Format : image/jpeg
Lens : 45mm F2.8 DG | Contemporary 019
Distortion Correction Already Applied : True
Lateral Chromatic Aberration Correction Already Applied:
True
Date Created : 2025:10:21 15:54:20.472-05:00
Color Mode : RGB
ICC Profile Name : sRGB IEC61966-2.1
Pick : 0
Raw File Name : P1006078.RW2
Version : 17.5
Compatible Version : 268632064
Process Version : 15.4
Color Temperature : 5070
Tint : +14
Exposure 2012 : +0.11
Contrast 2012 : +5
Highlights 2012 : -25
Shadows 2012 : +9
Whites 2012 : -11
Blacks 2012 : -88
Texture : 0
Clarity 2012 : +18
Dehaze : 0
Vibrance : +20
Parametric Shadows : 0
Parametric Darks : 0
Parametric Lights : 0
Parametric Highlights : 0
Parametric Shadow Split : 25
Parametric Midtone Split : 50
Parametric Highlight Split : 75
Sharpen Radius : +1.0
Sharpen Detail : 25
Sharpen Edge Masking : 0
Luminance Smoothing : 0
Color Noise Reduction : 25
Color Noise Reduction Detail : 50
Color Noise Reduction Smoothness : 50
Hue Adjustment Red : 0
Hue Adjustment Orange : 0
Hue Adjustment Yellow : 0
Hue Adjustment Green : 0
Hue Adjustment Aqua : 0
Hue Adjustment Blue : 0
Hue Adjustment Purple : 0
Hue Adjustment Magenta : 0
Saturation Adjustment Red : 0
Saturation Adjustment Orange : 0
Saturation Adjustment Yellow : 0
Saturation Adjustment Green : 0
Saturation Adjustment Aqua : 0
Saturation Adjustment Blue : 0
Saturation Adjustment Purple : 0
Saturation Adjustment Magenta : 0
Luminance Adjustment Red : 0
Luminance Adjustment Orange : 0
Luminance Adjustment Yellow : 0
Luminance Adjustment Green : 0
Luminance Adjustment Aqua : 0
Luminance Adjustment Blue : 0
Luminance Adjustment Purple : 0
Luminance Adjustment Magenta : 0
Split Toning Shadow Hue : 0
Split Toning Shadow Saturation : 0
Split Toning Highlight Hue : 0
Split Toning Highlight Saturation : 0
Split Toning Balance : 0
Color Grade Midtone Hue : 0
Color Grade Midtone Sat : 0
Color Grade Shadow Lum : 0
Color Grade Midtone Lum : 0
Color Grade Highlight Lum : 0
Color Grade Blending : 50
Color Grade Global Hue : 0
Color Grade Global Sat : 0
Color Grade Global Lum : 0
Auto Lateral CA : 0
Lens Profile Enable : 1
Lens Manual Distortion Amount : 0
Vignette Amount : 0
Defringe Purple Amount : 0
Defringe Purple Hue Lo : 30
Defringe Purple Hue Hi : 70
Defringe Green Amount : 0
Defringe Green Hue Lo : 40
Defringe Green Hue Hi : 60
Perspective Upright : Off
Perspective Vertical : 0
Perspective Horizontal : 0
Perspective Rotate : 0.0
Perspective Aspect : 0
Perspective Scale : 100
Perspective X : 0.00
Perspective Y : 0.00
Grain Amount : 0
Post Crop Vignette Amount : 0
Shadow Tint : 0
Red Hue : 0
Red Saturation : 0
Green Hue : 0
Green Saturation : 0
Blue Hue : 0
Blue Saturation : 0
HDR Edit Mode : 0
Convert To Grayscale : False
Override Look Vignette : False
Tone Curve Name 2012 : Linear
Camera Profile : Camera Landscape
Lens Profile Setup : LensDefaults
Lens Profile Name : Camera Settings
Lens Profile Is Embedded : True
Lens Profile Distortion Scale : 100
Lens Profile Vignetting Scale : 100
Has Settings : True
Crop Top : 0
Crop Left : 0
Crop Bottom : 1
Crop Right : 1
Crop Angle : 0
Crop Constrain To Warp : 0
Crop Constrain To Unit Square : 1
Has Crop : False
Already Applied : True
Creator : JRA
Rights : JOHN ANGARONI
Camera Profiles Author : Adobe
Camera Profiles Make : Panasonic
Camera Profiles Model : DC-S5
Camera Profiles Unique Camera Model : Panasonic DC-S5
Camera Profiles Camera Raw Profile : True
Camera Profiles Auto Scale : False
Camera Profiles Lens : 45mm F2.8 DG | Contemporary 019
Camera Profiles Camera Pretty Name : Panasonic DC-S5
Camera Profiles Lens Pretty Name : 45mm F2.8 DG | Contemporary 019
Camera Profiles Profile Name : Camera Settings
Camera Profiles Sensor Format Factor : 1
Camera Profiles Focal Length : 45
Camera Profiles Focus Distance : 10000
Camera Profiles Aperture Value : 6
Camera Profiles Perspective Model Version : 2
Camera Profiles Perspective Model Image X Center:
0.499668
Camera Profiles Perspective Model Image Y Center:
0.5
Camera Profiles Perspective Model Scale Factor:
0.970851
Camera Profiles Perspective Model Radial Distort Param 1:
0.057934
Camera Profiles Perspective Model Radial Distort Param 2:
0.086176
Camera Profiles Perspective Model Radial Distort Param 3:
0.968128
Tone Curve PV2012 : 0, 0, 255, 255
Tone Curve PV2012 Red : 0, 0, 255, 255
Tone Curve PV2012 Green : 0, 0, 255, 255
Tone Curve PV2012 Blue : 0, 0, 255, 255
Point Colors : -1.000000, -1.000000, -1.000000, -1.000000, -1.000000, -1.000000, -1.000000, -1.000000, -1.000000, -1.000000, -1.000000, -1.000000, -1.000000, -1.000000, -1.000000, -1.000000, -1.000000, -1.000000, -1.000000
Color Variance : -50.000000
Remove Areas Spot Type : heal_patchmatch
Remove Areas Source State : sourceAutoComputed
Remove Areas Opacity : 1
Remove Areas Seed : 2
Remove Areas Pm patch : 1CA68C98B8214970CDFB39D501E06740
Remove Areas Pm remap info 0 : 0.035980772,0.045014113,0.000000000,1.000000000
Remove Areas Pm remap info 1 : 0.042618450,0.066468298,0.000000000,1.000000000
Remove Areas Pm remap info 2 : 0.039444573,0.056687266,0.000000000,1.000000000
Remove Areas Pm gamma type : 1
Remove Areas Pm whole image top : 8
Remove Areas Pm whole image left : 12
Remove Areas Pm whole image bottom : 4008
Remove Areas Pm whole image right : 6012
Remove Areas Pm full image top : 0
Remove Areas Pm full image left : 0
Remove Areas Pm full image bottom : 4016
Remove Areas Pm full image right : 6028
Remove Areas Pm target top : 2292
Remove Areas Pm target left : 1059
Remove Areas Pm target bottom : 2820
Remove Areas Pm target right : 1330
Remove Areas Pm search top : 1980
Remove Areas Pm search left : 746
Remove Areas Pm search bottom : 3131
Remove Areas Pm search right : 1641
Remove Areas Pm source type : full
Remove Areas Pm version : 327680
Remove Areas Fill method : firefly
Remove Areas Pm black level : 2040
Remove Areas Pm patch mask : 807582B3D84068E78D57B473FC7C0806
Remove Areas Pm mask remap info : 0.000000000,1.000000000,0.000000000,1.000000000
Remove Areas Pm clio model version : clio-erase#epoch=0-step=4000.clio-erase-c2-2025-03-19T10-37-32
Remove Areas Ingest Info : 42C1163C40C6B4C819EF3DFD64BC1165
Remove Areas Pm remap info variation 0 0 : 0.036011294,0.044998854,0.000000000,1.000000000
Remove Areas Pm remap info variation 0 1 : 0.044663157,0.066468298,0.000000000,1.000000000
Remove Areas Pm remap info variation 0 2 : 0.041535057,0.056687266,0.000000000,1.000000000
Remove Areas Pm remap info variation 1 0 : 0.036163881,0.045212481,0.000000000,1.000000000
Remove Areas Pm remap info variation 1 1 : 0.043717097,0.067170218,0.000000000,1.000000000
Remove Areas Pm remap info variation 1 2 : 0.040619515,0.056702524,0.000000000,1.000000000
Remove Areas Pm patch variations Pm patch variation:
EC5B4CCC90912AEA91371EC600CC6505
Remove Areas Masks What : Mask/Image
Remove Areas Masks Mask Active : true
Remove Areas Masks Mask Blend Mode : 0
Remove Areas Masks Mask Inverted : false
Remove Areas Masks Mask Sync ID : 17D50CEB2FDDF549937F9C2FA6625306
Remove Areas Masks Mask Value : 1
Remove Areas Masks Mask Version : 1
Remove Areas Masks Mask Sub Type : 0
Remove Areas Masks Reference Point : 0.195197 0.644442
Remove Areas Masks Whole Image Area : 0/1,0/1,1920/1,2880/1
Remove Areas Masks Origin : 514,1108
Remove Areas Masks Full Mask Size : 2880,1920
Remove Areas Masks Model Version : 234881976
Remove Areas Masks Gesture What : Mask/Paint
Remove Areas Masks Gesture Mask Active : true
Remove Areas Masks Gesture Mask Blend Mode : 0
Remove Areas Masks Gesture Mask Inverted : false
Remove Areas Masks Gesture Mask Sync ID : C49B89B8982CD740AF7E3B4C7F3779A1
Remove Areas Masks Gesture Mask Value : 1
Remove Areas Masks Gesture Radius : 0
Remove Areas Masks Gesture Flow : 1
Remove Areas Masks Gesture Center Weight : 0
Remove Areas Masks Gesture Brush Gesture Interpretation:
0
Remove Areas Masks Radius : 0.008756
Remove Areas Masks Flow : 1
Remove Areas Masks Center Weight : 1
7FB544B2F334877EF8D9572839B0AEFF
100
2
1
Profile Description : sRGB IEC61966-2.1
Image Width : 400
Image Height : 267
Bits Per Sample : 8
Color Components : 3
Aperture : 8.0
Image Size : 400x267
Megapixels : 0.107
Scale Factor To 35 mm Equivalent : 1.0
Shutter Speed : 1/400
Create Date : 2025:10:21 15:54:20.472-05:00
Date/Time Original : 2025:10:21 15:54:20.472-05:00
Modify Date : 2025:11:07 21:24:10-04:00
Circle Of Confusion : 0.030 mm
Field Of View : 43.6 deg
Focal Length : 45.0 mm (35 mm equivalent: 45.0 mm)
Hyperfocal Distance : 8.42 m
Light Value : 14.6
Lens ID : 45mm F2.8 DG | Contemporary 019