Uber Exif Photo
Photometric Interpretation : RGB
Make : FUJIFILM
Camera Model Name : X-E3
Orientation : Horizontal (normal)
Samples Per Pixel : 3
Software : Adobe Photoshop 27.0 (Windows)
Modify Date : 2025:11:15 18:03:12
Exposure Time : 1/1400
F Number : 4.0
Exposure Program : Aperture-priority AE
ISO : 200
Sensitivity Type : Standard Output Sensitivity
Date/Time Original : 2025:10:21 10:39:20
Create Date : 2025:10:21 10:39:20
Shutter Speed Value : 1/1400
Aperture Value : 4.0
Brightness Value : 9.91
Exposure Compensation : 0
Max Aperture Value : 1.4
Metering Mode : Multi-segment
Light Source : Unknown
Flash : No Flash
Focal Length : 35.0 mm
Color Space : sRGB
Exif Image Width : 2025
Exif Image Height : 3038
Sensing Method : One-chip color area
Scene Type : Directly photographed
Custom Rendered : Normal
Exposure Mode : Auto
White Balance : Auto
Focal Length In 35mm Format : 53 mm
Scene Capture Type : Standard
Sharpness : Soft
Subject Distance Range : Unknown
Serial Number : 9CA00631
Lens Info : 35mm f/1.4
Lens Make : FUJIFILM
Lens Model : XF35mmF1.4 R
Lens Serial Number : 07A01105
Creator Tool : Adobe Photoshop Lightroom Classic 15.0.1 (Windows)
Fuji Rating Already Applied : True
Lens : XF35mmF1.4 R
Lateral Chromatic Aberration Correction Already Applied:
True
Date Created : 2025:10:21 10:39:20
Color Mode : RGB
ICC Profile Name : sRGB IEC61966-2.1
Preserved File Name : DSCF0011.RAF
Format : image/jpeg
Pick : 0
Raw File Name : DSCF0011.RAF
Version : 18.0
Compatible Version : 268632064
Process Version : 15.4
Color Temperature : 5250
Tint : +16
Exposure 2012 : -0.02
Contrast 2012 : +43
Highlights 2012 : -84
Shadows 2012 : +50
Whites 2012 : -68
Blacks 2012 : -24
Texture : 0
Clarity 2012 : 0
Dehaze : 0
Vibrance : +20
Saturation : +8
Parametric Shadows : 0
Parametric Darks : 0
Parametric Lights : 0
Parametric Highlights : 0
Parametric Shadow Split : 25
Parametric Midtone Split : 50
Parametric Highlight Split : 75
Sharpen Radius : +1.0
Sharpen Detail : 25
Sharpen Edge Masking : 0
Luminance Smoothing : 0
Color Noise Reduction : 25
Color Noise Reduction Detail : 50
Color Noise Reduction Smoothness : 50
Hue Adjustment Red : 0
Hue Adjustment Orange : 0
Hue Adjustment Yellow : 0
Hue Adjustment Green : 0
Hue Adjustment Aqua : 0
Hue Adjustment Blue : 0
Hue Adjustment Purple : 0
Hue Adjustment Magenta : 0
Saturation Adjustment Red : 0
Saturation Adjustment Orange : 0
Saturation Adjustment Yellow : 0
Saturation Adjustment Green : 0
Saturation Adjustment Aqua : 0
Saturation Adjustment Blue : 0
Saturation Adjustment Purple : 0
Saturation Adjustment Magenta : 0
Luminance Adjustment Red : 0
Luminance Adjustment Orange : 0
Luminance Adjustment Yellow : 0
Luminance Adjustment Green : 0
Luminance Adjustment Aqua : 0
Luminance Adjustment Blue : 0
Luminance Adjustment Purple : 0
Luminance Adjustment Magenta : 0
Split Toning Shadow Hue : 0
Split Toning Shadow Saturation : 0
Split Toning Highlight Hue : 0
Split Toning Highlight Saturation : 0
Split Toning Balance : 0
Color Grade Midtone Hue : 0
Color Grade Midtone Sat : 0
Color Grade Shadow Lum : 0
Color Grade Midtone Lum : 0
Color Grade Highlight Lum : 0
Color Grade Blending : 50
Color Grade Global Hue : 0
Color Grade Global Sat : 0
Color Grade Global Lum : 0
Auto Lateral CA : 1
Lens Profile Enable : 0
Lens Manual Distortion Amount : 0
Vignette Amount : 0
Defringe Purple Amount : 0
Defringe Purple Hue Lo : 30
Defringe Purple Hue Hi : 70
Defringe Green Amount : 0
Defringe Green Hue Lo : 40
Defringe Green Hue Hi : 60
Perspective Upright : Auto
Perspective Vertical : 0
Perspective Horizontal : 0
Perspective Rotate : 0.0
Perspective Aspect : 0
Perspective Scale : 100
Perspective X : 0.00
Perspective Y : 0.00
Grain Amount : 0
Post Crop Vignette Amount : 0
Shadow Tint : 0
Red Hue : 0
Red Saturation : 0
Green Hue : 0
Green Saturation : 0
Blue Hue : 0
Blue Saturation : 0
HDR Edit Mode : 0
Convert To Grayscale : False
Override Look Vignette : False
Tone Curve Name 2012 : Linear
Camera Profile : Camera ASTIA/SOFT
Has Settings : True
Crop Top : 0.142103
Crop Left : 0.138742
Crop Bottom : 0.898403
Crop Right : 0.895041
Crop Angle : 0
Crop Constrain To Warp : 1
Crop Constrain To Unit Square : 1
Has Crop : True
Already Applied : True
Tone Curve PV2012 : 0, 0, 255, 255
Tone Curve PV2012 Red : 0, 0, 255, 255
Tone Curve PV2012 Green : 0, 0, 255, 255
Tone Curve PV2012 Blue : 0, 0, 255, 255
Point Colors : -1.000000, -1.000000, -1.000000, -1.000000, -1.000000, -1.000000, -1.000000, -1.000000, -1.000000, -1.000000, -1.000000, -1.000000, -1.000000, -1.000000, -1.000000, -1.000000, -1.000000, -1.000000, -1.000000
Color Variance : -50.000000
Remove Areas Spot Type : heal_patchmatch
Remove Areas Source State : sourceAutoComputed
Remove Areas Opacity : 1
Remove Areas Seed : 2
Remove Areas Pm patch : F3E2BDC3DD7FEBC1A78B076186708939
Remove Areas Pm remap info 0 : 0.071442738,0.913725495,0.000000000,1.000000000
Remove Areas Pm remap info 1 : 0.080582894,1.000000000,0.000000000,1.000000000
Remove Areas Pm remap info 2 : 0.073304340,1.000000000,0.000000000,1.000000000
Remove Areas Pm gamma type : 1
Remove Areas Pm whole image top : 16
Remove Areas Pm whole image left : 16
Remove Areas Pm whole image bottom : 4016
Remove Areas Pm whole image right : 6016
Remove Areas Pm target top : 3195
Remove Areas Pm target left : 4456
Remove Areas Pm target bottom : 3541
Remove Areas Pm target right : 5535
Remove Areas Pm search top : 2984
Remove Areas Pm search left : 4253
Remove Areas Pm search bottom : 3726
Remove Areas Pm search right : 5550
Remove Areas Pm source type : full
Remove Areas Pm version : 327680
Remove Areas Fill method : firefly
Remove Areas Pm black level : 4088
Remove Areas Pm patch mask : 8066B9F11523EB4564C3F62F383C7032
Remove Areas Pm mask remap info : 0.000000000,1.000000000,0.000000000,1.000000000
Remove Areas Pm clio model version : clio-erase#epoch=0-step=4000.clio-erase-c2-2025-03-19T10-37-32
Remove Areas Ingest Info : B1B1D52A9F1EF5D9536BA071F3C2B547
Remove Areas Pm remap info variation 0 0 : 0.071229115,0.889112711,0.000000000,1.000000000
Remove Areas Pm remap info variation 0 1 : 0.080582894,1.000000000,0.000000000,1.000000000
Remove Areas Pm remap info variation 0 2 : 0.073258564,0.977950692,0.000000000,1.000000000
Remove Areas Pm remap info variation 1 0 : 0.071427479,0.860196829,0.000000000,1.000000000
Remove Areas Pm remap info variation 1 1 : 0.080552377,1.000000000,0.000000000,1.000000000
Remove Areas Pm remap info variation 1 2 : 0.073487446,0.955703080,0.000000000,1.000000000
Remove Areas Pm patch variations Pm patch variation:
3B594C33CF2D1481075E85E473B88CA6
Remove Areas Masks What : Mask/Image
Remove Areas Masks Mask Active : true
Remove Areas Masks Mask Blend Mode : 0
Remove Areas Masks Mask Inverted : false
Remove Areas Masks Mask Sync ID : F2E913030ED725469AE46A498148B842
Remove Areas Masks Mask Value : 1
Remove Areas Masks Mask Version : 1
Remove Areas Masks Mask Sub Type : 0
Remove Areas Masks Reference Point : 0.841222 0.827891
Remove Areas Masks Whole Image Area : 0/1,0/1,1920/1,2880/1
Remove Areas Masks Origin : 2143,1538
Remove Areas Masks Full Mask Size : 2880,1920
Remove Areas Masks Model Version : 234881976
Remove Areas Masks Gesture What : Mask/Paint
Remove Areas Masks Gesture Mask Active : true
Remove Areas Masks Gesture Mask Blend Mode : 0
Remove Areas Masks Gesture Mask Inverted : false
Remove Areas Masks Gesture Mask Sync ID : 4FB4FF225CA9484293D89543921AA078
Remove Areas Masks Gesture Mask Value : 1
Remove Areas Masks Gesture Radius : 0
Remove Areas Masks Gesture Flow : 1
Remove Areas Masks Gesture Center Weight : 0
Remove Areas Masks Gesture Brush Gesture Interpretation:
0
Remove Areas Masks Radius : 0.002789
Remove Areas Masks Flow : 1
Remove Areas Masks Center Weight : 1
100
22
2
false
0.049246
Profile Description : sRGB IEC61966-2.1
Image Width : 267
Image Height : 400
Bits Per Sample : 8
Color Components : 3
Aperture : 4.0
Image Size : 267x400
Megapixels : 0.107
Scale Factor To 35 mm Equivalent : 1.5
Shutter Speed : 1/1400
Modify Date : 2025:11:15 18:03:12-05:00
Circle Of Confusion : 0.020 mm
Field Of View : 37.5 deg
Focal Length : 35.0 mm (35 mm equivalent: 53.0 mm)
Hyperfocal Distance : 15.43 m
Light Value : 13.5
Lens ID : XF35mm F1.4 R