Uber Exif Photo
Photometric Interpretation : RGB
Make : FUJIFILM
Camera Model Name : X-H1
Orientation : Horizontal (normal)
Samples Per Pixel : 3
Software : Adobe Photoshop 27.1 (Windows)
Modify Date : 2025:11:28 18:13:25
Artist : JOHN ANGARONI
Copyright : JOHN ANGARONI
Exposure Time : 1/30
F Number : 4.0
Exposure Program : Aperture-priority AE
ISO : 6400
Sensitivity Type : Standard Output Sensitivity
Date/Time Original : 2025:11:22 16:59:36
Create Date : 2025:11:22 16:59:36
Shutter Speed Value : 1/30
Aperture Value : 4.0
Brightness Value : -3.72
Exposure Compensation : -1
Max Aperture Value : 4.0
Metering Mode : Multi-segment
Light Source : Unknown
Flash : No Flash
Focal Length : 80.0 mm
Color Space : sRGB
Exif Image Width : 1487
Exif Image Height : 2230
Sensing Method : One-chip color area
Scene Type : Directly photographed
Custom Rendered : Normal
Exposure Mode : Auto
White Balance : Auto
Focal Length In 35mm Format : 120 mm
Scene Capture Type : Standard
Sharpness : Soft
Subject Distance Range : Unknown
Serial Number : 82A52229
Lens Info : 16-80mm f/4
Lens Make : FUJIFILM
Lens Model : XF16-80mmF4 R OIS WR
Lens Serial Number : 3CA06177
By-line : JOHN ANGARONI
Copyright Notice : JOHN ANGARONI
Creator Tool : Adobe Photoshop Lightroom Classic 15.0.1 (Windows)
Fuji Rating Already Applied : True
Lens : XF16-80mmF4 R OIS WR
Distortion Correction Already Applied : True
Lateral Chromatic Aberration Correction Already Applied:
True
Vignette Correction Already Applied : True
Format : image/jpeg
Date Created : 2025:11:22 16:59:36
Color Mode : RGB
ICC Profile Name : sRGB IEC61966-2.1
Preserved File Name : JRA14698.RAF
Pick : 0
Raw File Name : JRA14698.RAF
Version : 18.0
Process Version : 15.4
Color Temperature : 4000
Tint : +4
Exposure 2012 : +0.43
Contrast 2012 : +7
Highlights 2012 : -50
Shadows 2012 : +48
Whites 2012 : +8
Blacks 2012 : -20
Texture : 0
Clarity 2012 : +13
Dehaze : 0
Vibrance : +29
Saturation : +17
Parametric Shadows : 0
Parametric Darks : 0
Parametric Lights : 0
Parametric Highlights : 0
Parametric Shadow Split : 25
Parametric Midtone Split : 50
Parametric Highlight Split : 75
Sharpen Radius : +1.0
Sharpen Detail : 25
Sharpen Edge Masking : 0
Luminance Smoothing : 0
Color Noise Reduction : 25
Color Noise Reduction Detail : 50
Color Noise Reduction Smoothness : 50
Hue Adjustment Red : 0
Hue Adjustment Orange : 0
Hue Adjustment Yellow : 0
Hue Adjustment Green : 0
Hue Adjustment Aqua : 0
Hue Adjustment Blue : 0
Hue Adjustment Purple : 0
Hue Adjustment Magenta : 0
Saturation Adjustment Red : 0
Saturation Adjustment Orange : 0
Saturation Adjustment Yellow : 0
Saturation Adjustment Green : 0
Saturation Adjustment Aqua : 0
Saturation Adjustment Blue : 0
Saturation Adjustment Purple : 0
Saturation Adjustment Magenta : 0
Luminance Adjustment Red : 0
Luminance Adjustment Orange : 0
Luminance Adjustment Yellow : 0
Luminance Adjustment Green : 0
Luminance Adjustment Aqua : 0
Luminance Adjustment Blue : 0
Luminance Adjustment Purple : 0
Luminance Adjustment Magenta : 0
Split Toning Shadow Hue : 0
Split Toning Shadow Saturation : 0
Split Toning Highlight Hue : 0
Split Toning Highlight Saturation : 0
Split Toning Balance : 0
Color Grade Midtone Hue : 0
Color Grade Midtone Sat : 0
Color Grade Shadow Lum : 0
Color Grade Midtone Lum : 0
Color Grade Highlight Lum : 0
Color Grade Blending : 50
Color Grade Global Hue : 0
Color Grade Global Sat : 0
Color Grade Global Lum : 0
Auto Lateral CA : 1
Lens Profile Enable : 0
Lens Manual Distortion Amount : 0
Vignette Amount : 0
Defringe Purple Amount : 0
Defringe Purple Hue Lo : 30
Defringe Purple Hue Hi : 70
Defringe Green Amount : 0
Defringe Green Hue Lo : 40
Defringe Green Hue Hi : 60
Perspective Upright : Off
Perspective Vertical : 0
Perspective Horizontal : 0
Perspective Rotate : 0.0
Perspective Aspect : 0
Perspective Scale : 100
Perspective X : 0.00
Perspective Y : 0.00
Grain Amount : 0
Post Crop Vignette Amount : 0
Shadow Tint : 0
Red Hue : 0
Red Saturation : 0
Green Hue : 0
Green Saturation : 0
Blue Hue : 0
Blue Saturation : 0
HDR Edit Mode : 0
Convert To Grayscale : False
Override Look Vignette : False
Tone Curve Name 2012 : Linear
Camera Profile : Camera Velvia/VIVID
Has Settings : True
Crop Top : 0.284313
Crop Left : 0.280598
Crop Bottom : 0.755953
Crop Right : 0.752239
Crop Angle : 0
Crop Constrain To Warp : 0
Crop Constrain To Unit Square : 1
Has Crop : True
Already Applied : True
Creator : JOHN ANGARONI
Rights : JOHN ANGARONI
Tone Curve PV2012 : 0, 0, 255, 255
Tone Curve PV2012 Red : 0, 0, 255, 255
Tone Curve PV2012 Green : 0, 0, 255, 255
Tone Curve PV2012 Blue : 0, 0, 255, 255
Point Colors : -1.000000, -1.000000, -1.000000, -1.000000, -1.000000, -1.000000, -1.000000, -1.000000, -1.000000, -1.000000, -1.000000, -1.000000, -1.000000, -1.000000, -1.000000, -1.000000, -1.000000, -1.000000, -1.000000
Color Variance : -50.000000
Profile Description : sRGB IEC61966-2.1
Image Width : 267
Image Height : 400
Bits Per Sample : 8
Color Components : 3
Aperture : 4.0
Image Size : 267x400
Megapixels : 0.107
Scale Factor To 35 mm Equivalent : 1.5
Shutter Speed : 1/30
Modify Date : 2025:11:28 18:13:25-05:00
Circle Of Confusion : 0.020 mm
Field Of View : 17.1 deg
Focal Length : 80.0 mm (35 mm equivalent: 120.0 mm)
Hyperfocal Distance : 79.88 m
Light Value : 2.9
Lens ID : XF16-80mm F4 R OIS WR