Uber Exif Photo
Make : NIKON CORPORATION
Camera Model Name : NIKON D850
Software : Adobe Photoshop Lightroom Classic 15.1 (Windows)
Modify Date : 2025:12:22 01:27:31
Copyright : Tony Johansson 2024 All Righs Reserved.
Exposure Time : 1/6
F Number : 16.0
Exposure Program : Aperture-priority AE
ISO : 64
Sensitivity Type : Recommended Exposure Index
Recommended Exposure Index : 64
Date/Time Original : 2025:10:22 13:33:48
Create Date : 2025:10:22 13:33:48
Shutter Speed Value : 1/6
Aperture Value : 16.0
Exposure Compensation : -2/3
Max Aperture Value : 2.8
Metering Mode : Other
Light Source : Unknown
Flash : No Flash
Focal Length : 24.0 mm
Color Space : Uncalibrated
Sensing Method : One-chip color area
Scene Type : Directly photographed
CFA Pattern : [Red,Green][Green,Blue]
Custom Rendered : Normal
Exposure Mode : Auto
White Balance : Auto
Focal Length In 35mm Format : 24 mm
Scene Capture Type : Standard
Gain Control : None
Contrast : Normal
Saturation : Normal
Sharpness : Normal
Subject Distance Range : Unknown
Serial Number : 6067175
Lens Info : 24-70mm f/2.8
Lens Model : TAMRON SP 24-70mm F/2.8 Di VC USD G2 A032N
Copyright Notice : Tony Johansson 2024 All Righs Reserved.
Profile Description : Adobe RGB (1998)
Creator Tool : Adobe Photoshop Lightroom Classic 15.1 (Windows)
Format : image/jpeg
Lens : TAMRON SP 24-70mm F/2.8 Di VC USD G2 A032N
Image Number : 12557
Approximate Focus Distance : 11.9
Is Merged Panorama : True
Distortion Correction Already Applied : True
Lateral Chromatic Aberration Correction Already Applied:
True
Vignette Correction Already Applied : True
Date Created : 2025:10:22 13:32:10.64+02:00
Preserved File Name : _8502258.NEF
Transformation : Spherical
Virtual Focal Length : 0.354515
Virtual Image X Center : 0.543465
Virtual Image Y Center : 0.231594
Pick : 0
Raw File Name : Namche Bazar pano.dng
Version : 18.1
Compatible Version : 285540352
Process Version : 15.4
Color Temperature : 5600
Tint : 0
Exposure 2012 : +2.45
Contrast 2012 : +7
Highlights 2012 : -100
Shadows 2012 : +38
Whites 2012 : -90
Blacks 2012 : +22
Texture : +17
Clarity 2012 : +9
Dehaze : +10
Vibrance : +34
Parametric Shadows : 0
Parametric Darks : 0
Parametric Lights : 0
Parametric Highlights : 0
Parametric Shadow Split : 25
Parametric Midtone Split : 50
Parametric Highlight Split : 75
Sharpen Radius : +0.9
Sharpen Detail : 39
Sharpen Edge Masking : 55
Luminance Smoothing : 0
Luminance Noise Reduction Contrast : 50
Color Noise Reduction : 0
Hue Adjustment Red : 0
Hue Adjustment Orange : 0
Hue Adjustment Yellow : 0
Hue Adjustment Green : 0
Hue Adjustment Aqua : 0
Hue Adjustment Blue : +3
Hue Adjustment Purple : 0
Hue Adjustment Magenta : 0
Saturation Adjustment Red : 0
Saturation Adjustment Orange : 0
Saturation Adjustment Yellow : 0
Saturation Adjustment Green : 0
Saturation Adjustment Aqua : 0
Saturation Adjustment Blue : 0
Saturation Adjustment Purple : 0
Saturation Adjustment Magenta : 0
Luminance Adjustment Red : 0
Luminance Adjustment Orange : 0
Luminance Adjustment Yellow : 0
Luminance Adjustment Green : 0
Luminance Adjustment Aqua : 0
Luminance Adjustment Blue : 0
Luminance Adjustment Purple : 0
Luminance Adjustment Magenta : 0
Split Toning Shadow Hue : 0
Split Toning Shadow Saturation : 0
Split Toning Highlight Hue : 259
Split Toning Highlight Saturation : 0
Split Toning Balance : 0
Color Grade Midtone Hue : 302
Color Grade Midtone Sat : 0
Color Grade Shadow Lum : 0
Color Grade Midtone Lum : 0
Color Grade Highlight Lum : 0
Color Grade Blending : 50
Color Grade Global Hue : 0
Color Grade Global Sat : 0
Color Grade Global Lum : 0
Auto Lateral CA : 1
Lens Profile Enable : 1
Lens Manual Distortion Amount : 0
Vignette Amount : 0
Defringe Purple Amount : 0
Defringe Purple Hue Lo : 30
Defringe Purple Hue Hi : 70
Defringe Green Amount : 0
Defringe Green Hue Lo : 40
Defringe Green Hue Hi : 60
Perspective Upright : Off
Perspective Vertical : 0
Perspective Horizontal : 0
Perspective Rotate : 0.0
Perspective Aspect : 0
Perspective Scale : 100
Perspective X : 0.00
Perspective Y : 0.00
Grain Amount : 0
Grain Size : 50
Post Crop Vignette Amount : 0
Shadow Tint : 0
Red Hue : 0
Red Saturation : 0
Green Hue : 0
Green Saturation : 0
Blue Hue : -16
Blue Saturation : -21
HDR Edit Mode : 0
Override Look Vignette : False
Tone Curve Name 2012 : Linear
Camera Profile : Adobe Standard
Lens Profile Setup : LensDefaults
Lens Profile Name : Adobe (TAMRON SP 24-70mm F/2.8 Di VC USD G2 A032N, NIKON CORPORATION)
Lens Profile Filename : NIKON CORPORATION (TAMRON SP 24-70mm F_2.8 Di VC USD G2 A032N) - RAW.lcp
Lens Profile Is Embedded : False
Lens Profile Distortion Scale : 100
Lens Profile Vignetting Scale : 100
Allow Filters : 1
Has Settings : True
Crop Top : 0
Crop Left : 0.09234
Crop Bottom : 1
Crop Right : 1
Crop Angle : 0
Crop Constrain To Warp : 0
Crop Constrain To Unit Square : 1
Has Crop : True
Already Applied : True
Rights : Tony Johansson 2024 All Righs Reserved.
Tone Curve PV2012 : 0, 0, 255, 255
Tone Curve PV2012 Red : 0, 0, 255, 255
Tone Curve PV2012 Green : 0, 0, 255, 255
Tone Curve PV2012 Blue : 0, 0, 255, 255
Point Colors : 0.989567, 0.845201, 0.055801, 0.390000, -0.110000, 0.000000, 0.500000, 0.000000, 0.330000, 0.670000, 1.000000, 0.120000, 0.670000, 1.000000, 1.000000, 0.000000, 0.080000, 0.440000, 0.990000, 3.687090, 0.314135, 0.709157, 0.090000, 0.100000, 0.160000, 0.500000, 0.000000, 0.330000, 0.670000, 1.000000, 0.000000, 0.130000, 0.490000, 1.000000, 0.130000, 0.680000, 1.000000, 1.000000
Color Variance : 0.390000, 0.530000
Filter List Filters Name : Enhance
Filter List Filters Title : $$$/CRaw/Filter/Title/Denoise=Denoise
Filter List Filters Filter ID : 1
Filter List Filters Min Display Version : 285212672
Filter List Filters Min Edit Version : 285212672
Filter List Filters Order Index N : 100000
Filter List Filters Order Index D : 1
Filter List Filters Src Bounds Top : 0
Filter List Filters Src Bounds Left : 0
Filter List Filters Src Bounds Bottom : 7135
Filter List Filters Src Bounds Right : 15437
Filter List Filters Dst Bounds Top : 0
Filter List Filters Dst Bounds Left : 0
Filter List Filters Dst Bounds Bottom : 7135
Filter List Filters Dst Bounds Right : 15437
Filter List Filters Src Default Crop Area Top : 0
Filter List Filters Src Default Crop Area Left:
0
Filter List Filters Src Default Crop Area Bottom:
7135
Filter List Filters Src Default Crop Area Right:
15437
Filter List Filters Dst Default Crop Area Top : 0
Filter List Filters Dst Default Crop Area Left:
Filter List Filters Dst Default Crop Area Bottom:
Filter List Filters Dst Default Crop Area Right:
Filter List Filters Should Delete Images Due To Upstream:
true
Filter List Filters Compressed Settings : 0DA5471E2D7C6364EFB8266EED12326C
Filter List Filters Images Reference Image Area Top:
Filter List Filters Images Reference Image Area Left:
Filter List Filters Images Reference Image Area Bottom:
Filter List Filters Images Reference Image Area Right:
Filter List Filters Images Reference Default Crop Area Top:
Filter List Filters Images Reference Default Crop Area Left:
Filter List Filters Images Reference Default Crop Area Bottom:
Filter List Filters Images Reference Default Crop Area Right:
Filter List Filters Images Blend Type : 1
Filter List Filters Images Blend White Balance Mode:
2
Filter List Filters Images Matrix Type A : 1
Filter List Filters Images Matrix Type B : 1
Filter List Filters Images Matrix Type C : 4
Filter List Filters Images Opacity : 1,1
B2C97AE425DD751B0E48A3ACAE79CF4A
Filter List Filters Images Blend Params : 0.700000000186265, 0.75, 1, 1
Filter List Filters Images Matrix Params A : 0.25, 0.25
Filter List Filters Images Matrix Params B : 0.25, 0.25
Filter List Filters Images Color Variations Linearization Map Polynomial:
7.88019970059395e-05, 0.00746552366763353, 0, 0.111982860602438, 0.000220646150410175, 0.010097517631948, 0, 0.151462766341865, 0.000110323540866375, 0.00725374277681112, 0, 0.10880614630878, 0.0132387708872557, 0.000251182354986668, 0, 0.00376773066818714, 0.0371631206944585, 0.000251182354986668, 0, 0.00376773066818714, 0.0347044914960861, 0.000251182354986668, 0, 0.00376773066818714, 0.0259259259328246, 0.000251182354986668, 0, 0.00376773066818714, 0.0571946417912841, 0.000251182354986668, 0, 0.00376773066818714, 0.0495508275926113, 0.000251182354986668, 0, 0.00376773066818714
Filter List Filters Images Color Variations Black Levels Black:
0,1
B92ECCC2D6B34F77B909FB36AACBFE71
FF2432432E069E668B48A90CF9927A6C
Filter List Filters Images Color Variations Image Group Size X:
Filter List Filters Images Color Variations Image Group Size Y:
Filter List Filters Images Color Variations Image Group Stage 3X:
Filter List Filters Images Color Variations Image Group Stage 3Y:
Filter List Filters Images Color Variations Image Group Pixel Type:
3
Filter List Filters Images Color Variations Image Group Planes:
312AC0C28B6E10B2826CD5F57F37084E
Filter List Filters Images Alpha Size X : 119
Filter List Filters Images Alpha Size Y : 118
Filter List Filters Images Alpha Stage 3X : 15437
Filter List Filters Images Alpha Stage 3Y : 7135
Filter List Filters Images Alpha Pixel Type : 1
Filter List Filters Images Alpha Planes : 1
Look Name : Adobe Color
Look Amount : 1
Look Supports Amount : false
Look Supports Monochrome : false
Look Supports Output Referred : false
Look Copyright : © 2018 Adobe Systems, Inc.
Look Group : Profiles
Look Parameters Version : 18.1
Look Parameters Process Version : 15.4
Look Parameters Convert To Grayscale : False
Look Parameters Camera Profile : Adobe Standard
Look Parameters Look Table : E1095149FDB39D7A057BAB208837E2E1
Look Parameters Tone Curve PV2012 : 0, 0, 22, 16, 40, 35, 127, 127, 224, 230, 240, 246, 255, 255
Look Parameters Tone Curve PV2012 Red : 0, 0, 255, 255
Look Parameters Tone Curve PV2012 Green : 0, 0, 255, 255
Look Parameters Tone Curve PV2012 Blue : 0, 0, 255, 255
Look Parameters Point Colors : -1.000000, -1.000000, -1.000000, -1.000000, -1.000000, -1.000000, -1.000000, -1.000000, -1.000000, -1.000000, -1.000000, -1.000000, -1.000000, -1.000000, -1.000000, -1.000000, -1.000000, -1.000000, -1.000000
Look Parameters Color Variance : -50.000000
Image Width : 400
Image Height : 204
Bits Per Sample : 8
Color Components : 3
Aperture : 16.0
Image Size : 400x204
Megapixels : 0.082
Scale Factor To 35 mm Equivalent : 1.0
Shutter Speed : 1/6
Create Date : 2025:10:22 13:33:48.521+02:00
Date/Time Original : 2025:10:22 13:33:48.521+02:00
Modify Date : 2025:12:22 01:27:31+01:00
Circle Of Confusion : 0.030 mm
Depth Of Field : inf (1.09 m - inf)
Field Of View : 73.7 deg
Focal Length : 24.0 mm (35 mm equivalent: 24.0 mm)
Hyperfocal Distance : 1.20 m
Light Value : 11.2
Lens ID : Tamron SP 24-70mm f/2.8 Di VC USD G2 (A032)