Uber Exif Photo
Photometric Interpretation : RGB
Make : Panasonic
Camera Model Name : DC-S5
Orientation : Horizontal (normal)
Samples Per Pixel : 3
Software : Adobe Photoshop 27.4 (Windows)
Modify Date : 2026:03:19 22:36:56
Artist : JRA
Copyright : JOHN ANGARONI
Exposure Time : 1/160
F Number : 2.8
Exposure Program : Aperture-priority AE
ISO : 1600
Date/Time Original : 2025:10:21 17:45:38
Create Date : 2025:10:21 17:45:38
Shutter Speed Value : 1/160
Aperture Value : 2.8
Exposure Compensation : -1.66
Max Aperture Value : 2.8
Metering Mode : Multi-segment
Light Source : Unknown
Flash : Off, Did not fire
Focal Length : 45.0 mm
Color Space : sRGB
Exif Image Width : 2611
Exif Image Height : 1741
Sensing Method : One-chip color area
Scene Type : Directly photographed
Custom Rendered : Custom
Exposure Mode : Auto
White Balance : Auto
Digital Zoom Ratio : 0
Focal Length In 35mm Format : 45 mm
Scene Capture Type : Standard
Gain Control : High gain up
Contrast : High
Saturation : Normal
Sharpness : Soft
Serial Number : WJ3CB001079
Lens Model : 45mm F2.8 DG | Contemporary 019
Lens Serial Number : 8859211
By-line : JRA
Copyright Notice : JOHN ANGARONI
Creator Tool : Adobe Photoshop Lightroom Classic 15.2.1 (Windows)
Preserved File Name : P1006150.RW2
Format : image/jpeg
Lens : 45mm F2.8 DG | Contemporary 019
Distortion Correction Already Applied : True
Lateral Chromatic Aberration Correction Already Applied:
True
Date Created : 2025:10:21 17:45:38.473-05:00
Color Mode : RGB
ICC Profile Name : sRGB IEC61966-2.1
Pick : 0
Raw File Name : P1006150.RW2
Version : 18.2.2
Process Version : 15.4
Color Temperature : 3350
Tint : +6
Exposure 2012 : +1.48
Contrast 2012 : +2
Highlights 2012 : -50
Shadows 2012 : +39
Whites 2012 : -6
Blacks 2012 : -21
Texture : 0
Clarity 2012 : -10
Dehaze : 0
Vibrance : +28
Parametric Shadows : 0
Parametric Darks : 0
Parametric Lights : 0
Parametric Highlights : 0
Parametric Shadow Split : 25
Parametric Midtone Split : 50
Parametric Highlight Split : 75
Sharpen Radius : +1.0
Sharpen Detail : 25
Sharpen Edge Masking : 0
Luminance Smoothing : 0
Color Noise Reduction : 25
Color Noise Reduction Detail : 50
Color Noise Reduction Smoothness : 50
Hue Adjustment Red : 0
Hue Adjustment Orange : 0
Hue Adjustment Yellow : 0
Hue Adjustment Green : 0
Hue Adjustment Aqua : 0
Hue Adjustment Blue : 0
Hue Adjustment Purple : 0
Hue Adjustment Magenta : 0
Saturation Adjustment Red : 0
Saturation Adjustment Orange : 0
Saturation Adjustment Yellow : 0
Saturation Adjustment Green : 0
Saturation Adjustment Aqua : 0
Saturation Adjustment Blue : 0
Saturation Adjustment Purple : 0
Saturation Adjustment Magenta : 0
Luminance Adjustment Red : 0
Luminance Adjustment Orange : 0
Luminance Adjustment Yellow : 0
Luminance Adjustment Green : 0
Luminance Adjustment Aqua : 0
Luminance Adjustment Blue : 0
Luminance Adjustment Purple : 0
Luminance Adjustment Magenta : 0
Split Toning Shadow Hue : 0
Split Toning Shadow Saturation : 0
Split Toning Highlight Hue : 0
Split Toning Highlight Saturation : 0
Split Toning Balance : 0
Color Grade Midtone Hue : 0
Color Grade Midtone Sat : 0
Color Grade Shadow Lum : 0
Color Grade Midtone Lum : 0
Color Grade Highlight Lum : 0
Color Grade Blending : 50
Color Grade Global Hue : 0
Color Grade Global Sat : 0
Color Grade Global Lum : 0
Auto Lateral CA : 0
Lens Profile Enable : 1
Lens Manual Distortion Amount : 0
Vignette Amount : 0
Defringe Purple Amount : 0
Defringe Purple Hue Lo : 30
Defringe Purple Hue Hi : 70
Defringe Green Amount : 0
Defringe Green Hue Lo : 40
Defringe Green Hue Hi : 60
Perspective Upright : Off
Perspective Vertical : 0
Perspective Horizontal : 0
Perspective Rotate : +1.3
Perspective Aspect : 0
Perspective Scale : 100
Perspective X : 0.00
Perspective Y : 0.00
Grain Amount : 0
Post Crop Vignette Amount : 0
Shadow Tint : 0
Red Hue : 0
Red Saturation : 0
Green Hue : 0
Green Saturation : 0
Blue Hue : 0
Blue Saturation : 0
HDR Edit Mode : 0
HDR Max Value : +4.00
Override Look Vignette : False
Tone Curve Name 2012 : Linear
Camera Profile : Adobe Standard
Lens Profile Setup : LensDefaults
Lens Profile Name : Camera Settings
Lens Profile Is Embedded : True
Lens Profile Distortion Scale : 100
Lens Profile Vignetting Scale : 100
Has Settings : True
Crop Top : 0.057383
Crop Left : 0.014594
Crop Bottom : 0.942621
Crop Right : 0.89983
Crop Angle : 0
Crop Constrain To Warp : 1
Crop Constrain To Unit Square : 1
Has Crop : True
Already Applied : True
Creator : JRA
Rights : JOHN ANGARONI
Camera Profiles Author : Adobe
Camera Profiles Make : Panasonic
Camera Profiles Model : DC-S5
Camera Profiles Unique Camera Model : Panasonic DC-S5
Camera Profiles Camera Raw Profile : True
Camera Profiles Auto Scale : False
Camera Profiles Lens : 45mm F2.8 DG | Contemporary 019
Camera Profiles Camera Pretty Name : Panasonic DC-S5
Camera Profiles Lens Pretty Name : 45mm F2.8 DG | Contemporary 019
Camera Profiles Profile Name : Camera Settings
Camera Profiles Sensor Format Factor : 1
Camera Profiles Focal Length : 45
Camera Profiles Focus Distance : 10000
Camera Profiles Aperture Value : 2.970854
Camera Profiles Perspective Model Version : 2
Camera Profiles Perspective Model Image X Center:
0.499668
Camera Profiles Perspective Model Image Y Center:
0.5
Camera Profiles Perspective Model Scale Factor:
0.971127
Camera Profiles Perspective Model Radial Distort Param 1:
0.056847
Camera Profiles Perspective Model Radial Distort Param 2:
0.087745
Camera Profiles Perspective Model Radial Distort Param 3:
0.957911
Tone Curve PV2012 : 0, 0, 255, 255
Tone Curve PV2012 Red : 0, 0, 255, 255
Tone Curve PV2012 Green : 0, 0, 255, 255
Tone Curve PV2012 Blue : 0, 0, 255, 255
Point Colors : -1.000000, -1.000000, -1.000000, -1.000000, -1.000000, -1.000000, -1.000000, -1.000000, -1.000000, -1.000000, -1.000000, -1.000000, -1.000000, -1.000000, -1.000000, -1.000000, -1.000000, -1.000000, -1.000000
Color Variance : -50.000000
Look Name : Adobe Landscape
Look Amount : 1
Look Supports Amount : false
Look Supports Monochrome : false
Look Supports Output Referred : false
Look Copyright : © 2018 Adobe Systems, Inc.
Look Group : Profiles
Look Parameters Version : 18.2.2
Look Parameters Process Version : 15.4
Look Parameters Highlights 2012 : -12
Look Parameters Shadows 2012 : +12
Look Parameters Clarity 2012 : +10
Look Parameters Convert To Grayscale : False
Look Parameters Camera Profile : Adobe Standard
Look Parameters Look Table : 0B3BFB5CFB7DBF7FF175E98F24D316B0
Look Parameters Tone Curve PV2012 : 0, 0, 64, 60, 128, 128, 192, 196, 255, 255
Look Parameters Point Colors : -1.000000, -1.000000, -1.000000, -1.000000, -1.000000, -1.000000, -1.000000, -1.000000, -1.000000, -1.000000, -1.000000, -1.000000, -1.000000, -1.000000, -1.000000, -1.000000, -1.000000, -1.000000, -1.000000
Look Parameters Color Variance : -50.000000
Profile Description : sRGB IEC61966-2.1
Image Width : 400
Image Height : 267
Bits Per Sample : 8
Color Components : 3
Aperture : 2.8
Image Size : 400x267
Megapixels : 0.107
Scale Factor To 35 mm Equivalent : 1.0
Shutter Speed : 1/160
Create Date : 2025:10:21 17:45:38.473-05:00
Date/Time Original : 2025:10:21 17:45:38.473-05:00
Modify Date : 2026:03:19 22:36:56-04:00
Circle Of Confusion : 0.030 mm
Field Of View : 43.6 deg
Focal Length : 45.0 mm (35 mm equivalent: 45.0 mm)
Hyperfocal Distance : 24.07 m
Light Value : 6.3
Lens ID : 45mm F2.8 DG | Contemporary 019