Uber Exif Photo
Photometric Interpretation : RGB
Make : samsung
Camera Model Name : SM-G781U
Orientation : Horizontal (normal)
Samples Per Pixel : 3
Software : Adobe Photoshop 27.4 (Windows)
Modify Date : 2026:03:26 15:32:53
Exposure Time : 1/400
F Number : 1.8
Exposure Program : Program AE
ISO : 400
Date/Time Original : 2026:03:25 18:46:45
Create Date : 2026:03:25 18:46:45
Shutter Speed Value : 1/400
Aperture Value : 1.8
Brightness Value : 2.6
Exposure Compensation : -0.8
Max Aperture Value : 1.8
Metering Mode : Spot
Flash : No Flash
Focal Length : 5.4 mm
Color Space : sRGB
Exif Image Width : 3132
Exif Image Height : 2349
Sensing Method : Not defined
Scene Type : Directly photographed
Exposure Mode : Auto
White Balance : Auto
Focal Length In 35mm Format : 26 mm
Scene Capture Type : Standard
GPS Longitude Ref : East
GPS Altitude Ref : Above Sea Level
GPS Time Stamp : 00:00:00
GPS Date Stamp : 1970:01:01
Creator Tool : Adobe Photoshop Lightroom Classic 15.2.1 (Windows)
Date Created : 2026:03:25 18:46:47.133177344-04:00
Color Mode : RGB
ICC Profile Name : sRGB IEC61966-2.1
Preserved File Name : 20260325_184644.jpg
Format : image/jpeg
Pick : 0
Raw File Name : 20260325_184644.jpg
Version : 18.2.2
Compatible Version : 268632064
Process Version : 15.4
Incremental Temperature : +2
Incremental Tint : +12
Exposure 2012 : 0.00
Contrast 2012 : 0
Highlights 2012 : 0
Shadows 2012 : 0
Whites 2012 : 0
Blacks 2012 : 0
Texture : 0
Clarity 2012 : 0
Dehaze : 0
Vibrance : 0
Saturation : +25
Parametric Shadows : 0
Parametric Darks : 0
Parametric Lights : 0
Parametric Highlights : 0
Parametric Shadow Split : 25
Parametric Midtone Split : 50
Parametric Highlight Split : 75
Sharpness : 70
Sharpen Radius : +3.0
Sharpen Detail : 100
Sharpen Edge Masking : 50
Luminance Smoothing : 24
Luminance Noise Reduction Detail : 50
Luminance Noise Reduction Contrast : 0
Color Noise Reduction : 25
Color Noise Reduction Detail : 50
Color Noise Reduction Smoothness : 50
Hue Adjustment Red : +21
Hue Adjustment Orange : -8
Hue Adjustment Yellow : +6
Hue Adjustment Green : +1
Hue Adjustment Aqua : +17
Hue Adjustment Blue : -15
Hue Adjustment Purple : -2
Hue Adjustment Magenta : +59
Saturation Adjustment Red : +12
Saturation Adjustment Orange : -17
Saturation Adjustment Yellow : -20
Saturation Adjustment Green : -20
Saturation Adjustment Aqua : +11
Saturation Adjustment Blue : +9
Saturation Adjustment Purple : -14
Saturation Adjustment Magenta : -1
Luminance Adjustment Red : +6
Luminance Adjustment Orange : +7
Luminance Adjustment Yellow : -3
Luminance Adjustment Green : +6
Luminance Adjustment Aqua : -5
Luminance Adjustment Blue : -6
Luminance Adjustment Purple : -3
Luminance Adjustment Magenta : +11
Split Toning Shadow Hue : 0
Split Toning Shadow Saturation : 0
Split Toning Highlight Hue : 0
Split Toning Highlight Saturation : 0
Split Toning Balance : 0
Color Grade Midtone Hue : 0
Color Grade Midtone Sat : 0
Color Grade Shadow Lum : 0
Color Grade Midtone Lum : 0
Color Grade Highlight Lum : 0
Color Grade Blending : 50
Color Grade Global Hue : 0
Color Grade Global Sat : 0
Color Grade Global Lum : 0
Auto Lateral CA : 0
Lens Profile Enable : 0
Lens Manual Distortion Amount : 0
Vignette Amount : 0
Defringe Purple Amount : 0
Defringe Purple Hue Lo : 30
Defringe Purple Hue Hi : 70
Defringe Green Amount : 0
Defringe Green Hue Lo : 40
Defringe Green Hue Hi : 60
Perspective Upright : Off
Perspective Vertical : 0
Perspective Horizontal : 0
Perspective Rotate : 0.0
Perspective Aspect : 0
Perspective Scale : 100
Perspective X : 0.00
Perspective Y : 0.00
Grain Amount : 0
Post Crop Vignette Amount : 0
Shadow Tint : 0
Red Hue : 0
Red Saturation : 0
Green Hue : 0
Green Saturation : 0
Blue Hue : 0
Blue Saturation : 0
HDR Edit Mode : 0
Curve Refine Saturation : 100
Convert To Grayscale : False
Override Look Vignette : False
Tone Curve Name 2012 : Custom
Camera Profile : Embedded
Has Settings : True
Crop Top : 0
Crop Left : 0
Crop Bottom : 1
Crop Right : 1
Crop Angle : 0
Crop Constrain To Warp : 0
Crop Constrain To Unit Square : 1
Has Crop : False
Already Applied : True
Tone Curve PV2012 : 0, 0, 50, 31, 106, 92, 133, 125, 154, 153, 162, 161, 170, 172, 179, 181, 186, 193, 194, 202, 213, 225, 222, 234, 238, 247, 255, 255
Tone Curve PV2012 Red : 0, 0, 105, 106, 154, 155, 193, 192, 221, 221, 255, 255
Tone Curve PV2012 Green : 0, 0, 106, 107, 154, 155, 194, 194, 255, 255
Tone Curve PV2012 Blue : 0, 0, 108, 108, 155, 156, 222, 221, 244, 245, 255, 255
Point Colors : -1.000000, -1.000000, -1.000000, -1.000000, -1.000000, -1.000000, -1.000000, -1.000000, -1.000000, -1.000000, -1.000000, -1.000000, -1.000000, -1.000000, -1.000000, -1.000000, -1.000000, -1.000000, -1.000000
Color Variance : -50.000000
Remove Areas Spot Type : heal_patchmatch
Remove Areas Source State : sourceAutoComputed
Remove Areas Opacity : 1
Remove Areas Seed : 2
Remove Areas Pm patch : 613FD8B2B9FEA8CB191208F686FBA880
Remove Areas Pm remap info 0 : 0.003280690,1.000000000,0.000000000,1.000000000
Remove Areas Pm remap info 1 : 0.003128099,1.000000000,0.000000000,1.000000000
Remove Areas Pm remap info 2 : 0.002563516,1.000000000,0.000000000,1.000000000
Remove Areas Pm gamma type : 1
Remove Areas Pm whole image top : 0
Remove Areas Pm whole image left : 0
Remove Areas Pm whole image bottom : 3024
Remove Areas Pm whole image right : 4032
Remove Areas Pm target top : 535
Remove Areas Pm target left : 3240
Remove Areas Pm target bottom : 1711
Remove Areas Pm target right : 4032
Remove Areas Pm search top : 186
Remove Areas Pm search left : 2542
Remove Areas Pm search bottom : 2102
Remove Areas Pm search right : 4032
Remove Areas Pm source type : full
Remove Areas Pm version : 327680
Remove Areas Fill method : firefly
Remove Areas Pm black level : 0
Remove Areas Pm patch mask : 07A6EE68345AB1B25C6DCAD4C1C22F0A
Remove Areas Pm mask remap info : 0.000000000,1.000000000,0.000000000,1.000000000
Remove Areas Pm clio model version : clio-erase-2.0#epoch=0-step=4000.clio-erase-c2-2025-03-19T10-37-32
Remove Areas Ingest Info : F40F21AD38880DFDEE8AA77097DE51D0
Remove Areas Pm remap info variation 0 0 : 0.003280690,1.000000000,0.000000000,1.000000000
Remove Areas Pm remap info variation 0 1 : 0.003128099,1.000000000,0.000000000,1.000000000
Remove Areas Pm remap info variation 0 2 : 0.001495384,1.000000000,0.000000000,1.000000000
Remove Areas Pm remap info variation 1 0 : 0.003280690,1.000000000,0.000000000,1.000000000
Remove Areas Pm remap info variation 1 1 : 0.003128099,1.000000000,0.000000000,1.000000000
Remove Areas Pm remap info variation 1 2 : 0.002563516,1.000000000,0.000000000,1.000000000
Remove Areas Pm patch variations Pm patch variation:
AE10D8E453E37C0631D69D2A40D23EEF
Remove Areas Masks What : Mask/Image
Remove Areas Masks Mask Active : true
Remove Areas Masks Mask Blend Mode : 0
Remove Areas Masks Mask Inverted : false
Remove Areas Masks Mask Sync ID : 2CDD5DAB36A40342BB864B34E6697AF0
Remove Areas Masks Mask Value : 1
Remove Areas Masks Mask Version : 1
Remove Areas Masks Mask Sub Type : 0
Remove Areas Masks Reference Point : 0.906250 0.315104
Remove Areas Masks Whole Image Area : 0/1,0/1,1920/1,2560/1
Remove Areas Masks Origin : 2067,350
Remove Areas Masks Full Mask Size : 2560,1920
Remove Areas Masks Model Version : 234881976
Remove Areas Masks Gesture What : Mask/Paint
Remove Areas Masks Gesture Mask Active : true
Remove Areas Masks Gesture Mask Blend Mode : 0
Remove Areas Masks Gesture Mask Inverted : false
Remove Areas Masks Gesture Mask Sync ID : AAA75EF299F9EF4A97B2D7D3E4BD5246
Remove Areas Masks Gesture Mask Value : 1
Remove Areas Masks Gesture Radius : 0
Remove Areas Masks Gesture Flow : 1
Remove Areas Masks Gesture Center Weight : 0
Remove Areas Masks Gesture Brush Gesture Interpretation:
0
Profile Description : sRGB IEC61966-2.1
Image Width : 400
Image Height : 300
Bits Per Sample : 8
Color Components : 3
Aperture : 1.8
Image Size : 400x300
Megapixels : 0.120
Scale Factor To 35 mm Equivalent : 4.8
Shutter Speed : 1/400
Create Date : 2026:03:25 18:46:45.156752
Date/Time Original : 2026:03:25 18:46:45.156752-04:00
Modify Date : 2026:03:26 15:32:53-04:00
GPS Altitude : 0 m Above Sea Level
GPS Date/Time : 1970:01:01 00:00:00Z
GPS Longitude : 0 deg 0' 0.00" E
Circle Of Confusion : 0.006 mm
Field Of View : 69.4 deg
Focal Length : 5.4 mm (35 mm equivalent: 26.0 mm)
Hyperfocal Distance : 2.60 m
Light Value : 8.3