Uber Exif Photo
Make : NIKON CORPORATION
Camera Model Name : NIKON D610
Software : Adobe Photoshop Lightroom Classic 15.3 (Windows)
Modify Date : 2026:04:25 21:40:49
Artist : RocR
Copyright : Ronald O. Christian
Exposure Time : 1/2500
F Number : 5.0
Exposure Program : Aperture-priority AE
ISO : 100
Sensitivity Type : Recommended Exposure Index
Date/Time Original : 2020:08:01 16:19:06
Create Date : 2020:08:01 16:19:06
Shutter Speed Value : 1/2500
Aperture Value : 5.0
Exposure Compensation : 0
Max Aperture Value : 2.8
Metering Mode : Center-weighted average
Light Source : Unknown
Flash : Off, Did not fire
Focal Length : 35.0 mm
Color Space : sRGB
Sensing Method : One-chip color area
Scene Type : Directly photographed
CFA Pattern : [Red,Green][Green,Blue]
Custom Rendered : Normal
Exposure Mode : Auto
White Balance : Auto
Digital Zoom Ratio : 1
Focal Length In 35mm Format : 35 mm
Scene Capture Type : Standard
Gain Control : None
Contrast : Normal
Saturation : Normal
Sharpness : Normal
Subject Distance Range : Unknown
Serial Number : 3008899
Lens Info : 35-70mm f/2.8
Lens Model : 35.0-70.0 mm f/2.8
By-line : RocR
Copyright Notice : Ronald O. Christian
Profile Description : sRGB IEC61966-2.1
Format : image/jpeg
Creator Tool : Adobe Photoshop Lightroom Classic 15.3 (Windows)
Lens : 35.0-70.0 mm f/2.8
Image Number : 108616
Approximate Focus Distance : 0.4
Lateral Chromatic Aberration Correction Already Applied:
True
Date Created : 2020:08:01 16:19:06.60
Preserved File Name : _DSC1570.NEF
Pick : 0
Raw File Name : _DSC1570.dng
Version : 18.3
Compatible Version : 251854848
Process Version : 15.4
Color Temperature : 5050
Tint : -2
Exposure 2012 : +0.59
Contrast 2012 : 0
Highlights 2012 : 0
Shadows 2012 : +57
Whites 2012 : 0
Blacks 2012 : 0
Texture : 0
Clarity 2012 : 0
Dehaze : +29
Vibrance : +10
Parametric Shadows : 0
Parametric Darks : 0
Parametric Lights : 0
Parametric Highlights : 0
Parametric Shadow Split : 25
Parametric Midtone Split : 50
Parametric Highlight Split : 75
Sharpen Radius : +1.0
Sharpen Detail : 25
Sharpen Edge Masking : 0
Luminance Smoothing : 18
Luminance Noise Reduction Detail : 50
Luminance Noise Reduction Contrast : 0
Color Noise Reduction : 25
Color Noise Reduction Detail : 50
Color Noise Reduction Smoothness : 50
Gray Mixer Red : +39
Gray Mixer Orange : +12
Gray Mixer Yellow : -9
Gray Mixer Green : -17
Gray Mixer Aqua : -10
Gray Mixer Blue : +20
Gray Mixer Purple : +25
Gray Mixer Magenta : +32
Split Toning Shadow Hue : 37
Split Toning Shadow Saturation : 15
Split Toning Highlight Hue : 51
Split Toning Highlight Saturation : 5
Split Toning Balance : 0
Color Grade Midtone Hue : 0
Color Grade Midtone Sat : 0
Color Grade Shadow Lum : 0
Color Grade Midtone Lum : 0
Color Grade Highlight Lum : 0
Color Grade Blending : 100
Color Grade Global Hue : 0
Color Grade Global Sat : 0
Color Grade Global Lum : 0
Auto Lateral CA : 1
Lens Profile Enable : 1
Lens Manual Distortion Amount : 0
Vignette Amount : 0
Perspective Upright : Off
Perspective Vertical : 0
Perspective Horizontal : 0
Perspective Rotate : 0.0
Perspective Aspect : 0
Perspective Scale : 100
Perspective X : 0.00
Perspective Y : 0.00
Grain Amount : 0
Post Crop Vignette Amount : 0
Shadow Tint : 0
Red Hue : 0
Red Saturation : 0
Green Hue : 0
Green Saturation : 0
Blue Hue : 0
Blue Saturation : 0
HDR Edit Mode : 0
Convert To Grayscale : True
Override Look Vignette : False
Tone Curve Name 2012 : Medium Contrast
Camera Profile : Adobe Standard
Lens Profile Setup : LensDefaults
Has Settings : True
Crop Top : 0.082421
Crop Left : 0.092051
Crop Bottom : 0.990707
Crop Right : 0.74363
Crop Angle : 4.28
Crop Constrain To Warp : 0
Crop Constrain To Unit Square : 1
Has Crop : True
Already Applied : True
Creator : RocR
Rights : Ronald O. Christian
Tone Curve PV2012 : 0, 0, 32, 22, 64, 56, 128, 128, 192, 196, 255, 255
Tone Curve PV2012 Red : 0, 0, 255, 255
Tone Curve PV2012 Green : 0, 0, 255, 255
Tone Curve PV2012 Blue : 0, 0, 255, 255
Point Colors : -1.000000, -1.000000, -1.000000, -1.000000, -1.000000, -1.000000, -1.000000, -1.000000, -1.000000, -1.000000, -1.000000, -1.000000, -1.000000, -1.000000, -1.000000, -1.000000, -1.000000, -1.000000, -1.000000
Color Variance : -50.000000
100
2
1
Image Width : 400
Image Height : 320
Bits Per Sample : 8
Color Components : 3
Aperture : 5.0
Image Size : 400x320
Megapixels : 0.128
Scale Factor To 35 mm Equivalent : 1.0
Shutter Speed : 1/2500
Create Date : 2020:08:01 16:19:06.60
Date/Time Original : 2020:08:01 16:19:06.6
Modify Date : 2026:04:25 21:40:49-07:00
Circle Of Confusion : 0.030 mm
Depth Of Field : 0.04 m (0.38 - 0.42 m)
Field Of View : 54.4 deg
Focal Length : 35.0 mm (35 mm equivalent: 35.0 mm)
Hyperfocal Distance : 8.15 m
Light Value : 15.9
Lens ID : AF Zoom-Nikkor 35-70mm f/2.8